Workbook

Sheet  1,5-2 года (день 9)
A1: Утверждаю
A2: Заведующий МКДОУ Ташаринский детский сад "Лесовичок" | H2: Меню - требование на выдачу продуктов питания | J2: Меню - требование на выдачу продуктов питания
A3: _________________ Чугуева Т.В.
A4: подпись | H4: Учреждение МКДОУ "Ташаринский детский сад"Лесовичок" | J4: Учреждение МКДОУ "Ташаринский детский сад"Лесовичок"
H5: Ответственное лицо Романашенко Г.М. | J5: Ответственное лицо Романашенко Г.М.
D7: детей в количестве | F7: 1 | G7: человек (1,5 - 2 года) на | K7: =' 3-7 лет (день 9) '!K7 -> 46266
B8: Наименование продуктов | C8: Кол-во человек | D8: =[1]Цены!A1 -> Хлеб пшеничный | E8: =[1]Цены!B1 -> Хлеб ржано-пшеничный | F8: =[1]Цены!C1 -> Сахар | G8: =[1]Цены!D1 -> Чай | H8: =[1]Цены!E1 -> Какао | I8: =[1]Цены!F1 -> Кофейный напиток | J8: =[1]Цены!G1 -> Молоко 2,5% | K8: =[1]Цены!H1 -> Масло сливочное | ... AE8: =[1]Цены!AB1 -> Ягода свежемороженная | AF8: =' 3-7 лет (день 9) '!AF8:AF9 -> Апельсин | AG8: =' 3-7 лет (день 9) '!AG8:AG9 -> Банан | AH8: =' 3-7 лет (день 9) '!AH8:AH9 -> Лимон | AI8: =' 3-7 лет (день 9) '!AI8:AI9 -> Яблоко | AJ8: =[1]Цены!AD1 -> Кисель | AK8: =[1]Цены!AE1 -> Сок | AL8: =[1]Цены!AF1 -> Макаронные изделия | AM8: =[1]Цены!AG1 -> Мука | AN8: =[1]Цены!AH1 -> Дрожжи | AO8: =[1]Цены!AI1 -> Печенье | AP8: =[1]Цены!AJ1 -> Пряники | AQ8: =[1]Цены!AK1 -> Вафли | ... BQ8: =[1]Цены!BK1 -> Соль | BR8: Лимонная кислота | BS8: Итого расход за день | BT8: ИТОГО на 1 Чел
B9: Меню
A10: Завтрак | B10: =' 3-7 лет (день 9) '!B10 -> Каша манная молочная | C10: =$F$7 -> 1 | F10: 0.004 | J10: 0.116 | K10: 0.002 | AX10: 0.015 | BQ10: 0.001
B11: =' 3-7 лет (день 9) '!B11 -> Бутерброд с маслом | D11: 0.02 | K11: 0.004
B12: =' 3-7 лет (день 9) '!B12 -> Какао с молоком | F12: 0.009 | H12: 0.001 | J12: 0.08
A15: Обед | B15: =' 3-7 лет (день 9) '!B15 -> Суп шахтерский | C15: =$F$7 -> 1 | K15: 0.002 | L15: 0.006 | AV15: 0.006 | BD15: 0.02 | BJ15: 0.08 | BK15: 0.01 | BL15: 0.01 | BP15: 0.002 | BQ15: 0.001
B16: =' 3-7 лет (день 9) '!B16 -> Капуста, тушеная с мясом | K16: 0.002 | BD16: 0.03 | BF16: 0.005 | BK16: 0.007 | BL16: 0.011 | BM16: 0.16 | BO16: 0.002 | BP16: 0.005 | BQ16: 0.001
B17: =' 3-7 лет (день 9) '!B17 -> Хлеб пшеничный | D17: 0.02
B18: =' 3-7 лет (день 9) '!B18 -> Хлеб ржано-пшеничный | E18: 0.0416
B19: =' 3-7 лет (день 9) '!B19 -> Компот из сухофруктов | F19: 0.011 | AD19: 0.02 | BR19: 3.5e-05
A23: Полдник | B23: =' 3-7 лет (день 9) '!B23 -> Компот из свеж. морож. ягод | C23: =$F$7 -> 1 | F23: 0.012 | AE23: 0.02
B24: =' 3-7 лет (день 9) '!B24 -> Пирожок рыбный | F24: 0.0017 | J24: 0.005 | K24: 0.003 | U24: 0.0208 | X24: 0.090909091 | AM24: 0.029 | AN24: 0.0012 | BC24: 0.003 | BL24: 0.002 | BP24: 0.0008
B25: =' 3-7 лет (день 9) '!B25 -> Яблоко
A28: Ужин | B28: =' 3-7 лет (день 9) '!B28 -> Омлет | C28: =$F$7 -> 1 | J28: 0.03 | K28: 0.002 | X28: 1 | BQ28: 0.001
B29: =' 3-7 лет (день 9) '!B29 -> Хлеб пшеничный | D29: 0.02
B30: =' 3-7 лет (день 9) '!B30 -> Чай с сахаром | F30: 0.008 | G30: 0.0005
B31: Итого на 1 чел | D31: =SUM(D10:D30) -> 0.06 | E31: =SUM(E10:E30) -> 0.0416 | F31: =SUM(F10:F30) -> 0.0457 | G31: =SUM(G10:G30) -> 0.0005 | H31: =SUM(H10:H30) -> 0.001 | I31: =SUM(I10:I30) -> 0 | J31: =SUM(J10:J30) -> 0.231 | K31: =SUM(K10:K30) -> 0.015 | ... BR31: =SUM(BR10:BR30) -> 3.5e-05
B32: Итого к выдаче, ГРАММ (на всех) | D32: =ROUND(PRODUCT(D31,$F$7),3) -> 0.06 | E32: =ROUND(PRODUCT(E31,$F$7),3) -> 0.042 | F32: =ROUND(PRODUCT(F31,$F$7),3) -> 0.046 | G32: =ROUND(PRODUCT(G31,$F$7),3) -> 0.001 | H32: =ROUND(PRODUCT(H31,$F$7),3) -> 0.001 | I32: =ROUND(PRODUCT(I31,$F$7),3) -> 0 | J32: =ROUND(PRODUCT(J31,$F$7),3) -> 0.231 | K32: =ROUND(PRODUCT(K31,$F$7),3) -> 0.015 | ... BR32: =ROUND(PRODUCT(BR31,$F$7),3) -> 0
D34: Ответственный калькулятор | H34: _________________ | K34: С.В.Залевская
D35: исполнитель | F35: должность | H35: подпись
F37: Повар | H37: ___________________ | K37: =' 3-7 лет (день 9) '!K39 -> 0
H38: подпись
B44: ЦЕНА ЗА КИЛОГРАММ (покупная) | C44: руб | D44: 90.9 | E44: 96 | F44: 91 | G44: 816 | H44: 1680 | I44: 1050 | J44: 90.57 | K44: 1166.67 | L44: 255.2 | M44: 833 | N44: 126.38 | O44: 387.53 | P44: 663.16 | Q44: 526.67 | R44: 1295 | U44: 1012 | V44: 470.67 | W44: 348 | X44: 9.4 | Y44: 266.5 | Z44: 367 | AA44: 524 | AB44: 330 | AC44: 299 | AD44: 148 | AE44: 842 | AG44: 180 | AH44: 359 | AI44: 160 | AJ44: 309.1 | AK44: 94 | AL44: 73 | AM44: 51.6 | AN44: 250 | AO44: 272 | AQ44: 425 | AR44: 800 | AS44: 294.25 | AT44: 95 | AU44: 87.33 | AV44: 73.33 | AW44: 80 | AX44: 89.29 | AY44: 63.75 | AZ44: 104.62 | BA44: 81.33 | BB44: 71.67 | BC44: 152.67 | BD44: 378 | BE44: 574 | BF44: 696 | BG44: 324 | BH44: 604 | BJ44: 38 | BK44: 38 | BL44: 33 | BM44: 43 | BN44: 43 | BO44: 306.32 | BP44: 190 | BQ44: 26
B45: ЦЕНА ЗА ГРАММ (покупная) | C45: руб | D45: =D44/1000 -> 0.0909 | E45: =E44/1000 -> 0.096 | F45: =F44/1000 -> 0.091 | G45: =G44/1000 -> 0.816 | H45: =H44/1000 -> 1.68 | I45: =I44/1000 -> 1.05 | J45: =J44/1000 -> 0.09057 | K45: =K44/1000 -> 1.16667 | ... BR45: =BR44/1000 -> 0
B46: Израсходовано на сумму (за граммы) | D46: =D32*D44 -> 5.454 | E46: =E32*E44 -> 4.032 | F46: =F32*F44 -> 4.186 | G46: =G32*G44 -> 0.816 | H46: =H32*H44 -> 1.68 | I46: =I32*I44 -> 0 | J46: =J32*J44 -> 20.92167 | K46: =K32*K44 -> 17.50005 | ... BR46: =BR32*BR44 -> 0 | BS46: =SUM(D46:BQ46) -> 147.3537 | BT46: =BS46/$C$10 -> 147.3537
B47: Израсходовано на сумму (за кг) | D47: =D32*D44 -> 5.454 | E47: =E32*E44 -> 4.032 | F47: =F32*F44 -> 4.186 | G47: =G32*G44 -> 0.816 | H47: =H32*H44 -> 1.68 | I47: =I32*I44 -> 0 | J47: =J32*J44 -> 20.92167 | K47: =K32*K44 -> 17.50005 | ... BR47: =BR32*BR44 -> 0 | BS47: =SUM(D47:BQ47) -> 147.3537 | BT47: =BS47/$C$10 -> 147.3537
B48: P/S: Итого к выдаче Яйцо- указано в шт.
B49: Цена за яйцо, указана за 1 шт.
BT50: =BT65+BT85+BT104+BT120 -> 155.2342
J52: человек (1,5 - 3 года) | K52: детей в количестве | L52: 0 | AD52: на 04.03.2019
B53: Наименование продуктов | C53: Кол-во человек | D53: =D8 -> Хлеб пшеничный | E53: =E8 -> Хлеб ржано-пшеничный | F53: =F8 -> Сахар | G53: =G8 -> Чай | H53: =H8 -> Какао | I53: =I8 -> Кофейный напиток | J53: =J8 -> Молоко 2,5% | K53: =K8 -> Масло сливочное | ... V53: =V8 -> Огурцы консервирован. | X53: =X8 -> Яйцо | Y53: =Y8 -> Икра кабачковая | Z53: =Z8 -> Изюм | AA53: =AA8 -> Курага | AB53: =AB8 -> Чернослив | AC53: =AC8 -> Шиповник | AD53: =AD8 -> Сухофрукты | AE53: =AE8 -> Ягода свежемороженная | ... BR53: =BR8 -> Лимонная кислота | BS53: Итого расход за день | BT53: ИТОГО на 1 Чел
B54: Меню
A55: Завтрак | B55: =B10 -> Каша манная молочная | C55: =$F$7 -> 1 | D55: =D10 -> 0 | E55: =E10 -> 0 | F55: =F10 -> 0.004 | G55: =G10 -> 0 | H55: =H10 -> 0 | I55: =I10 -> 0 | J55: =J10 -> 0.116 | K55: =K10 -> 0.002 | ... BR55: =BR10 -> 0
B56: =B11 -> Бутерброд с маслом | D56: =D11 -> 0.02 | E56: =E11 -> 0 | F56: =F11 -> 0 | G56: =G11 -> 0 | H56: =H11 -> 0 | I56: =I11 -> 0 | J56: =J11 -> 0 | K56: =K11 -> 0.004 | ... BR56: =BR11 -> 0
...

Sheet ОВЗ 3-7 лет
A1: Утверждаю
A2: Заведующий МКДОУ Ташаринский детский сад "Лесовичок" | H2: Меню - требование на выдачу продуктов питания | J2: Меню - требование на выдачу продуктов питания
A3: _________________ Чугуева Т.В.
A4: подпись | H4: Учреждение МКДОУ "Ташаринский детский сад"Лесовичок" | J4: Учреждение МКДОУ "Ташаринский детский сад"Лесовичок"
H5: Ответственное лицо Романашенко Г.М. | J5: Ответственное лицо Романашенко Г.М.
B7: ОВЗ | C7: детей в количестве | E7: 1 | F7: человек (3 - 7 лет) на | K7: =' 3-7 лет (день 9) '!K7 -> 46266
B8: Наименование продуктов | C8: Кол-во человек | D8: =[1]Цены!A1 -> Хлеб пшеничный | E8: =[1]Цены!B1 -> Хлеб ржано-пшеничный | F8: =[1]Цены!C1 -> Сахар | G8: =[1]Цены!D1 -> Чай | H8: =[1]Цены!E1 -> Какао | I8: =[1]Цены!F1 -> Кофейный напиток | J8: =[1]Цены!G1 -> Молоко 2,5% | K8: =[1]Цены!H1 -> Масло сливочное | ... AE8: =[1]Цены!AB1 -> Ягода свежемороженная | AF8: =' 3-7 лет (день 9) '!AF8:AF9 -> Апельсин | AG8: =' 3-7 лет (день 9) '!AG8:AG9 -> Банан | AH8: =' 3-7 лет (день 9) '!AH8:AH9 -> Лимон | AI8: =' 3-7 лет (день 9) '!AI8:AI9 -> Яблоко | AJ8: =[1]Цены!AD1 -> Кисель | AK8: =[1]Цены!AE1 -> Сок | AL8: =[1]Цены!AF1 -> Макаронные изделия | AM8: =[1]Цены!AG1 -> Мука | AN8: =[1]Цены!AH1 -> Дрожжи | AO8: =[1]Цены!AI1 -> Печенье | AP8: =[1]Цены!AJ1 -> Пряники | AQ8: =[1]Цены!AK1 -> Вафли | ... BQ8: =[1]Цены!BK1 -> Соль | BR8: Лимонная кислота | BS8: Итого расход за день | BT8: ИТОГО на 1 Чел
B9: Меню
A10: Завтрак | B10: =' 3-7 лет (день 9) '!B10 -> Каша манная молочная | C10: =$E$7 -> 1 | F10: 0.005 | J10: 0.13 | K10: 0.003 | AX10: 0.02 | BQ10: 0.001
B11: =' 3-7 лет (день 9) '!B11 -> Бутерброд с маслом | D11: 0.03 | K11: 0.005
B12: =' 3-7 лет (день 9) '!B12 -> Какао с молоком | F12: 0.011 | H12: 0.0012 | J12: 0.096
A15: Обед | B15: =' 3-7 лет (день 9) '!B15 -> Суп шахтерский | C15: =$E$7 -> 1 | K15: 0.004 | L15: 0.007 | AV15: 0.008 | BD15: 0.029 | BJ15: 0.1 | BK15: 0.0125 | BL15: 0.013 | BP15: 0.003 | BQ15: 0.002
B16: =' 3-7 лет (день 9) '!B16 -> Капуста, тушеная с мясом | K16: 0.002 | BD16: 0.04 | BF16: 0.007 | BK16: 0.008 | BL16: 0.015 | BM16: 0.19 | BO16: 0.003 | BP16: 0.004 | BQ16: 0.002
B17: =' 3-7 лет (день 9) '!B17 -> Хлеб пшеничный | D17: 0.03
B18: =' 3-7 лет (день 9) '!B18 -> Хлеб ржано-пшеничный | E18: 0.05
B19: =' 3-7 лет (день 9) '!B19 -> Компот из сухофруктов | F19: 0.015 | AD19: 0.022 | BR19: 5e-05
A23: Полдник | B23: =' 3-7 лет (день 9) '!B23 -> Компот из свеж. морож. ягод | C23: =$E$7 -> 1 | F23: 0.014 | AE23: 0.025
B24: =' 3-7 лет (день 9) '!B24 -> Пирожок рыбный | F24: 0.002 | J24: 0.008 | K24: 0.003 | U24: 0.0208 | X24: 0.1 | AM24: 0.033 | AN24: 0.00139 | BC24: 0.004 | BL24: 0.003 | BP24: 0.001
B25: =' 3-7 лет (день 9) '!B25 -> Яблоко
A28: Ужин | B28: =' 3-7 лет (день 9) '!B28 -> Омлет | C28: =$E$7 -> 1 | J28: 0.045 | K28: 0.002 | X28: 1 | BQ28: 0.001
B29: =' 3-7 лет (день 9) '!B29 -> Хлеб пшеничный | D29: 0.02
B30: =' 3-7 лет (день 9) '!B30 -> Чай с сахаром | F30: 0.012 | G30: 0.0006
B31: Итого на 1 чел | D31: =SUM(D10:D30) -> 0.08 | E31: =SUM(E10:E30) -> 0.05 | F31: =SUM(F10:F30) -> 0.059 | G31: =SUM(G10:G30) -> 0.0006 | H31: =SUM(H10:H30) -> 0.0012 | I31: =SUM(I10:I30) -> 0 | J31: =SUM(J10:J30) -> 0.279 | K31: =SUM(K10:K30) -> 0.019 | ... BR31: =SUM(BR10:BR30) -> 5e-05
B32: К выдаче, ГРАММ (на всех) | D32: =ROUND(PRODUCT(D31,$E$7),3) -> 0.08 | E32: =ROUND(PRODUCT(E31,$E$7),3) -> 0.05 | F32: =ROUND(PRODUCT(F31,$E$7),3) -> 0.059 | G32: =ROUND(PRODUCT(G31,$E$7),3) -> 0.001 | H32: =ROUND(PRODUCT(H31,$E$7),3) -> 0.001 | I32: =ROUND(PRODUCT(I31,$E$7),3) -> 0 | J32: =ROUND(PRODUCT(J31,$E$7),3) -> 0.279 | K32: =ROUND(PRODUCT(K31,$E$7),3) -> 0.019 | ... BR32: =ROUND(PRODUCT(BR31,$E$7),3) -> 0
D34: Ответственный калькулятор | H34: _________________ | K34: С.В.Залевская
D35: исполнитель | F35: должность | H35: подпись
F37: Повар | H37: ___________________ | K37: =' 3-7 лет (день 9) '!K39 -> 0
H38: подпись
B45: ЦЕНА ЗА КИЛОГРАММ (покупная) | C45: руб | D45: 90.9 | E45: 96 | F45: 91 | G45: 816 | H45: 1680 | I45: 1050 | J45: 90.57 | K45: 1166.67 | L45: 255.2 | M45: 833 | N45: 126.38 | O45: 387.53 | P45: 663.16 | Q45: 526.67 | R45: 1295 | U45: 1012 | V45: 470.67 | W45: 348 | X45: 9.4 | Y45: 266.5 | Z45: 367 | AA45: 524 | AB45: 330 | AC45: 299 | AD45: 148 | AE45: 842 | AG45: 180 | AH45: 359 | AI45: 160 | AJ45: 309.1 | AK45: 94 | AL45: 73 | AM45: 51.6 | AN45: 250 | AO45: 272 | AQ45: 425 | AR45: 800 | AS45: 294.25 | AT45: 95 | AU45: 87.33 | AV45: 73.33 | AW45: 80 | AX45: 89.29 | AY45: 63.75 | AZ45: 104.62 | BA45: 81.33 | BB45: 71.67 | BC45: 152.67 | BD45: 378 | BE45: 574 | BF45: 696 | BG45: 324 | BH45: 604 | BJ45: 38 | BK45: 38 | BL45: 33 | BM45: 43 | BN45: 43 | BO45: 306.32 | BP45: 190 | BQ45: 26
B46: ЦЕНА ЗА ГРАММ (покупная) | C46: руб | D46: =D45/1000 -> 0.0909 | E46: =E45/1000 -> 0.096 | F46: =F45/1000 -> 0.091 | G46: =G45/1000 -> 0.816 | H46: =H45/1000 -> 1.68 | I46: =I45/1000 -> 1.05 | J46: =J45/1000 -> 0.09057 | K46: =K45/1000 -> 1.16667 | ... BR46: =BR45/1000 -> 0
B47: Израсходовано на сумму (за граммы) | D47: =D32*D45 -> 7.272 | E47: =E32*E45 -> 4.8 | F47: =F32*F45 -> 5.369 | G47: =G32*G45 -> 0.816 | H47: =H32*H45 -> 1.68 | I47: =I32*I45 -> 0 | J47: =J32*J45 -> 25.26903 | K47: =K32*K45 -> 22.16673 | ... BR47: =BR32*BR45 -> 0 | BS47: =SUM(D47:BQ47) -> 177.33304 | BT47: =BS47/$C$23 -> 177.33304
B48: Израсходовано на сумму (за кг) | D48: =D32*D45 -> 7.272 | E48: =E32*E45 -> 4.8 | F48: =F32*F45 -> 5.369 | G48: =G32*G45 -> 0.816 | H48: =H32*H45 -> 1.68 | I48: =I32*I45 -> 0 | J48: =J32*J45 -> 25.26903 | K48: =K32*K45 -> 22.16673 | ... BR48: =BR32*BR45 -> 0 | BS48: =SUM(D48:BQ48) -> 177.33304 | BT48: =BS48/$C$23 -> 177.33304
B49: P/S: Итого к выдаче Яйцо- указано в шт. | D49: =D68+D86+D102+D116 -> 7.272 | E49: =E68+E86+E102+E116 -> 4.8 | F49: =F68+F86+F102+F116 -> 5.369 | G49: =G68+G86+G102+G116 -> 0.4896 | H49: =H68+H86+H102+H116 -> 2.016 | I49: =I68+I86+I102+I116 -> 0 | J49: =J68+J86+J102+J116 -> 25.26903 | K49: =K68+K86+K102+K116 -> 22.16673 | ... BR49: =BR68+BR86+BR102+BR116 -> 0
B50: Цена за яйцо, указана за 1 шт. | BT50: =BT67+BT85+BT102+BT115 -> 177.21874
B55: Наименование продуктов | C55: Кол-во человек | D55: =D8 -> Хлеб пшеничный | E55: =E8 -> Хлеб ржано-пшеничный | F55: =F8 -> Сахар | G55: =G8 -> Чай | H55: =H8 -> Какао | I55: =I8 -> Кофейный напиток | J55: =J8 -> Молоко 2,5% | K55: =K8 -> Масло сливочное | ... V55: =V8 -> Огурцы консервирован. | X55: =X8 -> Яйцо | Y55: =Y8 -> Икра кабачковая | Z55: =Z8 -> Изюм | AA55: =AA8 -> Курага | AB55: =AB8 -> Чернослив | AC55: =AC8 -> Шиповник | AD55: =AD8 -> Сухофрукты | AE55: =AE8 -> Ягода свежемороженная | ... BR55: =BR8 -> Лимонная кислота | BS55: Итого расход за день | BT55: ИТОГО на 1 Чел
B56: Меню
A57: Завтрак | B57: =B10 -> Каша манная молочная | C57: =$E$7 -> 1 | D57: =D10 -> 0 | E57: =E10 -> 0 | F57: =F10 -> 0.005 | G57: =G10 -> 0 | H57: =H10 -> 0 | I57: =I10 -> 0 | J57: =J10 -> 0.13 | K57: =K10 -> 0.003 | ... BR57: =BR10 -> 0
B58: =B11 -> Бутерброд с маслом | D58: =D11 -> 0.03 | E58: =E11 -> 0 | F58: =F11 -> 0 | G58: =G11 -> 0 | H58: =H11 -> 0 | I58: =I11 -> 0 | J58: =J11 -> 0 | K58: =K11 -> 0.005 | ... BR58: =BR11 -> 0
B59: =B12 -> Какао с молоком | D59: =D12 -> 0 | E59: =E12 -> 0 | F59: =F12 -> 0.011 | G59: =G12 -> 0 | H59: =H12 -> 0.0012 | I59: =I12 -> 0 | J59: =J12 -> 0.096 | K59: =K12 -> 0 | ... BR59: =BR12 -> 0
B60: =B13 -> 0 | D60: =D13 -> 0 | E60: =E13 -> 0 | F60: =F13 -> 0 | G60: =G13 -> 0 | H60: =H13 -> 0 | I60: =I13 -> 0 | J60: =J13 -> 0 | K60: =K13 -> 0 | ... BR60: =BR13 -> 0
...

Sheet СВО  3-7 лет
A1: Утверждаю
A2: Заведующий МКДОУ Ташаринский детский сад "Лесовичок" | H2: Меню - требование на выдачу продуктов питания | J2: Меню - требование на выдачу продуктов питания
A3: _________________ Чугуева Т.В.
A4: подпись | H4: Учреждение МКДОУ "Ташаринский детский сад"Лесовичок" | J4: Учреждение МКДОУ "Ташаринский детский сад"Лесовичок"
H5: Ответственное лицо Романашенко Г.М. | J5: Ответственное лицо Романашенко Г.М.
B7: СВО | C7: детей в количестве | E7: 1 | F7: человек (3 - 7 лет) на | K7: =' 3-7 лет (день 9) '!K7 -> 46266
B8: Наименование продуктов | C8: Кол-во человек | D8: =[1]Цены!A1 -> Хлеб пшеничный | E8: =[1]Цены!B1 -> Хлеб ржано-пшеничный | F8: =[1]Цены!C1 -> Сахар | G8: =[1]Цены!D1 -> Чай | H8: =[1]Цены!E1 -> Какао | I8: =[1]Цены!F1 -> Кофейный напиток | J8: =[1]Цены!G1 -> Молоко 2,5% | K8: =[1]Цены!H1 -> Масло сливочное | ... AE8: =[1]Цены!AB1 -> Ягода свежемороженная | AF8: =' 3-7 лет (день 9) '!AF8:AF9 -> Апельсин | AG8: =' 3-7 лет (день 9) '!AG8:AG9 -> Банан | AH8: =' 3-7 лет (день 9) '!AH8:AH9 -> Лимон | AI8: =' 3-7 лет (день 9) '!AI8:AI9 -> Яблоко | AJ8: =[1]Цены!AD1 -> Кисель | AK8: =[1]Цены!AE1 -> Сок | AL8: =[1]Цены!AF1 -> Макаронные изделия | AM8: =[1]Цены!AG1 -> Мука | AN8: =[1]Цены!AH1 -> Дрожжи | AO8: =[1]Цены!AI1 -> Печенье | AP8: =[1]Цены!AJ1 -> Пряники | AQ8: =[1]Цены!AK1 -> Вафли | ... BQ8: =[1]Цены!BK1 -> Соль | BR8: Лимонная кислота | BS8: Итого расход за день | BT8: ИТОГО на 1 Чел
B9: Меню
A10: Завтрак | B10: =' 3-7 лет (день 9) '!B10 -> Каша манная молочная | C10: =$E$7 -> 1 | F10: 0.005 | J10: 0.13 | K10: 0.003 | AX10: 0.02 | BQ10: 0.001
B11: =' 3-7 лет (день 9) '!B11 -> Бутерброд с маслом | D11: 0.03 | K11: 0.005
B12: =' 3-7 лет (день 9) '!B12 -> Какао с молоком | F12: 0.011 | H12: 0.0012 | J12: 0.096
A15: Обед | B15: =' 3-7 лет (день 9) '!B15 -> Суп шахтерский | C15: =$E$7 -> 1 | K15: 0.004 | L15: 0.007 | AV15: 0.008 | BD15: 0.029 | BJ15: 0.1 | BK15: 0.0125 | BL15: 0.013 | BP15: 0.003 | BQ15: 0.002
B16: =' 3-7 лет (день 9) '!B16 -> Капуста, тушеная с мясом | K16: 0.002 | BD16: 0.04 | BF16: 0.007 | BK16: 0.008 | BL16: 0.015 | BM16: 0.19 | BO16: 0.003 | BP16: 0.004 | BQ16: 0.002
B17: =' 3-7 лет (день 9) '!B17 -> Хлеб пшеничный | D17: 0.03
B18: =' 3-7 лет (день 9) '!B18 -> Хлеб ржано-пшеничный | E18: 0.05
B19: =' 3-7 лет (день 9) '!B19 -> Компот из сухофруктов | F19: 0.015 | AD19: 0.022 | BR19: 5e-05
A23: Полдник | B23: =' 3-7 лет (день 9) '!B23 -> Компот из свеж. морож. ягод | C23: =$E$7 -> 1 | F23: 0.014 | AE23: 0.025
B24: =' 3-7 лет (день 9) '!B24 -> Пирожок рыбный | F24: 0.002 | J24: 0.008 | K24: 0.003 | U24: 0.0208 | X24: 0.1 | AM24: 0.033 | AN24: 0.00139 | BC24: 0.004 | BL24: 0.003 | BP24: 0.001
B25: =' 3-7 лет (день 9) '!B25 -> Яблоко
A28: Ужин | B28: =' 3-7 лет (день 9) '!B28 -> Омлет | C28: =$E$7 -> 1 | J28: 0.045 | K28: 0.002 | X28: 1 | BQ28: 0.001
B29: =' 3-7 лет (день 9) '!B29 -> Хлеб пшеничный | D29: 0.02
B30: =' 3-7 лет (день 9) '!B30 -> Чай с сахаром | F30: 0.012 | G30: 0.0006
B31: Итого на 1 чел | D31: =SUM(D10:D30) -> 0.08 | E31: =SUM(E10:E30) -> 0.05 | F31: =SUM(F10:F30) -> 0.059 | G31: =SUM(G10:G30) -> 0.0006 | H31: =SUM(H10:H30) -> 0.0012 | I31: =SUM(I10:I30) -> 0 | J31: =SUM(J10:J30) -> 0.279 | K31: =SUM(K10:K30) -> 0.019 | ... BR31: =SUM(BR10:BR30) -> 5e-05
B32: К выдаче, ГРАММ (на всех) | D32: =ROUND(PRODUCT(D31,$E$7),3) -> 0.08 | E32: =ROUND(PRODUCT(E31,$E$7),3) -> 0.05 | F32: =ROUND(PRODUCT(F31,$E$7),3) -> 0.059 | G32: =ROUND(PRODUCT(G31,$E$7),3) -> 0.001 | H32: =ROUND(PRODUCT(H31,$E$7),3) -> 0.001 | I32: =ROUND(PRODUCT(I31,$E$7),3) -> 0 | J32: =ROUND(PRODUCT(J31,$E$7),3) -> 0.279 | K32: =ROUND(PRODUCT(K31,$E$7),3) -> 0.019 | ... BR32: =ROUND(PRODUCT(BR31,$E$7),3) -> 0
D34: Ответственный калькулятор | H34: _________________ | K34: С.В.Залевская
D35: исполнитель | F35: должность | H35: подпись
F37: Повар | H37: ___________________ | K37: =' 3-7 лет (день 9) '!K39 -> 0
H38: подпись
B46: ЦЕНА ЗА КИЛОГРАММ (покупная) | C46: руб | D46: 90.9 | E46: 96 | F46: 91 | G46: 816 | H46: 1680 | I46: 1050 | J46: 90.57 | K46: 1166.67 | L46: 255.2 | M46: 833 | N46: 126.38 | O46: 387.53 | P46: 663.16 | Q46: 526.67 | R46: 1295 | U46: 1012 | V46: 470.67 | W46: 348 | X46: 9.4 | Y46: 266.5 | Z46: 367 | AA46: 524 | AB46: 330 | AC46: 299 | AD46: 148 | AE46: 842 | AG46: 180 | AH46: 359 | AI46: 160 | AJ46: 309.1 | AK46: 94 | AL46: 73 | AM46: 51.6 | AN46: 250 | AO46: 272 | AQ46: 425 | AR46: 800 | AS46: 294.25 | AT46: 95 | AU46: 87.33 | AV46: 73.33 | AW46: 80 | AX46: 89.29 | AY46: 63.75 | AZ46: 104.62 | BA46: 81.33 | BB46: 71.67 | BC46: 152.67 | BD46: 378 | BE46: 574 | BF46: 696 | BG46: 324 | BH46: 604 | BJ46: 38 | BK46: 38 | BL46: 33 | BM46: 43 | BN46: 43 | BO46: 306.32 | BP46: 190 | BQ46: 26
B47: ЦЕНА ЗА ГРАММ (покупная) | C47: руб | D47: =D46/1000 -> 0.0909 | E47: =E46/1000 -> 0.096 | F47: =F46/1000 -> 0.091 | G47: =G46/1000 -> 0.816 | H47: =H46/1000 -> 1.68 | I47: =I46/1000 -> 1.05 | J47: =J46/1000 -> 0.09057 | K47: =K46/1000 -> 1.16667 | ... BR47: =BR46/1000 -> 0
B48: Израсходовано на сумму (за граммы) | D48: =D32*D46 -> 7.272 | E48: =E32*E46 -> 4.8 | F48: =F32*F46 -> 5.369 | G48: =G32*G46 -> 0.816 | H48: =H32*H46 -> 1.68 | I48: =I32*I46 -> 0 | J48: =J32*J46 -> 25.26903 | K48: =K32*K46 -> 22.16673 | ... BR48: =BR32*BR46 -> 0 | BS48: =SUM(D48:BQ48) -> 177.33304 | BT48: =BS48/$C$23 -> 177.33304
B49: Израсходовано на сумму (за кг) | D49: =D32*D46 -> 7.272 | E49: =E32*E46 -> 4.8 | F49: =F32*F46 -> 5.369 | G49: =G32*G46 -> 0.816 | H49: =H32*H46 -> 1.68 | I49: =I32*I46 -> 0 | J49: =J32*J46 -> 25.26903 | K49: =K32*K46 -> 22.16673 | ... BR49: =BR32*BR46 -> 0 | BS49: =SUM(D49:BQ49) -> 177.33304 | BT49: =BS49/$C$23 -> 177.33304
B50: P/S: Итого к выдаче Яйцо- указано в шт. | D50: =D69+D87+D103+D117 -> 7.272 | E50: =E69+E87+E103+E117 -> 4.8 | F50: =F69+F87+F103+F117 -> 5.369 | G50: =G69+G87+G103+G117 -> 0.4896 | H50: =H69+H87+H103+H117 -> 2.016 | I50: =I69+I87+I103+I117 -> 0 | J50: =J69+J87+J103+J117 -> 25.26903 | K50: =K69+K87+K103+K117 -> 22.16673 | ... BR50: =BR69+BR87+BR103+BR117 -> 0
B51: Цена за яйцо, указана за 1 шт. | BT51: =BT68+BT86+BT103+BT116 -> 177.21874
B56: Наименование продуктов | C56: Кол-во человек | D56: =D8 -> Хлеб пшеничный | E56: =E8 -> Хлеб ржано-пшеничный | F56: =F8 -> Сахар | G56: =G8 -> Чай | H56: =H8 -> Какао | I56: =I8 -> Кофейный напиток | J56: =J8 -> Молоко 2,5% | K56: =K8 -> Масло сливочное | ... V56: =V8 -> Огурцы консервирован. | X56: =X8 -> Яйцо | Y56: =Y8 -> Икра кабачковая | Z56: =Z8 -> Изюм | AA56: =AA8 -> Курага | AB56: =AB8 -> Чернослив | AC56: =AC8 -> Шиповник | AD56: =AD8 -> Сухофрукты | AE56: =AE8 -> Ягода свежемороженная | ... BR56: =BR8 -> Лимонная кислота | BS56: Итого расход за день | BT56: ИТОГО на 1 Чел
B57: Меню
A58: Завтрак | B58: =B10 -> Каша манная молочная | C58: =$E$7 -> 1 | D58: =D10 -> 0 | E58: =E10 -> 0 | F58: =F10 -> 0.005 | G58: =G10 -> 0 | H58: =H10 -> 0 | I58: =I10 -> 0 | J58: =J10 -> 0.13 | K58: =K10 -> 0.003 | ... BR58: =BR10 -> 0
B59: =B11 -> Бутерброд с маслом | D59: =D11 -> 0.03 | E59: =E11 -> 0 | F59: =F11 -> 0 | G59: =G11 -> 0 | H59: =H11 -> 0 | I59: =I11 -> 0 | J59: =J11 -> 0 | K59: =K11 -> 0.005 | ... BR59: =BR11 -> 0
B60: =B12 -> Какао с молоком | D60: =D12 -> 0 | E60: =E12 -> 0 | F60: =F12 -> 0.011 | G60: =G12 -> 0 | H60: =H12 -> 0.0012 | I60: =I12 -> 0 | J60: =J12 -> 0.096 | K60: =K12 -> 0 | ... BR60: =BR12 -> 0
B61: =B13 -> 0 | D61: =D13 -> 0 | E61: =E13 -> 0 | F61: =F13 -> 0 | G61: =G13 -> 0 | H61: =H13 -> 0 | I61: =I13 -> 0 | J61: =J13 -> 0 | K61: =K13 -> 0 | ... BR61: =BR13 -> 0
...

Sheet  3-7 лет (день 9) 
A1: Утверждаю
A2: Заведующий МКДОУ Ташаринский детский сад "Лесовичок" | H2: Меню - требование на выдачу продуктов питания | J2: Меню - требование на выдачу продуктов питания
A3: _________________ Чугуева Т.В.
A4: подпись | H4: Учреждение МКДОУ "Ташаринский детский сад"Лесовичок" | J4: Учреждение МКДОУ "Ташаринский детский сад"Лесовичок"
H5: Ответственное лицо Романашенко Г.М. | J5: Ответственное лицо Романашенко Г.М.
C7: детей в количестве | E7: 1 | F7: человек (3 - 7 лет) на | K7: 46266
B8: Наименование продуктов | C8: Кол-во человек | D8: =[1]Цены!A1 -> Хлеб пшеничный | E8: =[1]Цены!B1 -> Хлеб ржано-пшеничный | F8: =[1]Цены!C1 -> Сахар | G8: =[1]Цены!D1 -> Чай | H8: =[1]Цены!E1 -> Какао | I8: =[1]Цены!F1 -> Кофейный напиток | J8: =[1]Цены!G1 -> Молоко 2,5% | K8: =[1]Цены!H1 -> Масло сливочное | ... AE8: =[1]Цены!AB1 -> Ягода свежемороженная | AF8: Апельсин | AG8: Банан | AH8: =[1]Цены!AC1 -> Лимон | AI8: Яблоко | AJ8: =[1]Цены!AD1 -> Кисель | AK8: =[1]Цены!AE1 -> Сок | AL8: =[1]Цены!AF1 -> Макаронные изделия | AM8: =[1]Цены!AG1 -> Мука | AN8: =[1]Цены!AH1 -> Дрожжи | AO8: =[1]Цены!AI1 -> Печенье | AP8: =[1]Цены!AJ1 -> Пряники | AQ8: =[1]Цены!AK1 -> Вафли | ... BQ8: =[1]Цены!BK1 -> Соль | BR8: Лимонная кислота | BS8: Итого расход за день | BT8: ИТОГО на 1 Чел
B9: Меню
A10: Завтрак | B10: Каша манная молочная | C10: =$E$7 -> 1 | F10: 0.005 | J10: 0.13 | K10: 0.003 | AX10: 0.02 | BQ10: 0.001
B11: Бутерброд с маслом | D11: 0.03 | K11: 0.005
B12: Какао с молоком | F12: 0.011 | H12: 0.0012 | J12: 0.096
A15: Обед | B15: Суп шахтерский | C15: =$E$7 -> 1 | K15: 0.004 | L15: 0.007 | AV15: 0.008 | BD15: 0.029 | BJ15: 0.1 | BK15: 0.0125 | BL15: 0.013 | BP15: 0.003 | BQ15: 0.002
B16: Капуста, тушеная с мясом | K16: 0.002 | BD16: 0.04 | BF16: 0.007 | BK16: 0.008 | BL16: 0.015 | BM16: 0.19 | BO16: 0.003 | BP16: 0.004 | BQ16: 0.002
B17: Хлеб пшеничный | D17: 0.03
B18: Хлеб ржано-пшеничный | E18: 0.05
B19: Компот из сухофруктов | F19: 0.015 | AD19: 0.022 | BR19: 5e-05
A23: Полдник | B23: Компот из свеж. морож. ягод | C23: =$E$7 -> 1 | F23: 0.014 | AE23: 0.025
B24: Пирожок рыбный | F24: 0.002 | J24: 0.008 | K24: 0.003 | U24: 0.02086 | X24: 0.1 | AM24: 0.033 | AN24: 0.00139 | BC24: 0.004 | BL24: 0.003 | BP24: 0.001
B25: Яблоко
A28: Ужин | B28: Омлет | C28: =$E$7 -> 1 | J28: 0.045 | K28: 0.002 | X28: 1 | BQ28: 0.001
B29: Хлеб пшеничный | D29: 0.02
B30: Чай с сахаром | F30: 0.012 | G30: 0.0006
B31: Итого на 1 чел | D31: =SUM(D10:D30) -> 0.08 | E31: =SUM(E10:E30) -> 0.05 | F31: =SUM(F10:F30) -> 0.059 | G31: =SUM(G10:G30) -> 0.0006 | H31: =SUM(H10:H30) -> 0.0012 | I31: =SUM(I10:I30) -> 0 | J31: =SUM(J10:J30) -> 0.279 | K31: =SUM(K10:K30) -> 0.019 | ... BR31: =SUM(BR10:BR30) -> 5e-05
B32: К выдаче, ГРАММ (на всех) | D32: =ROUND(PRODUCT(D31,$E$7),3) -> 0.08 | E32: =ROUND(PRODUCT(E31,$E$7),3) -> 0.05 | F32: =ROUND(PRODUCT(F31,$E$7),3) -> 0.059 | G32: =ROUND(PRODUCT(G31,$E$7),3) -> 0.001 | H32: =ROUND(PRODUCT(H31,$E$7),3) -> 0.001 | I32: =ROUND(PRODUCT(I31,$E$7),3) -> 0 | J32: =ROUND(PRODUCT(J31,$E$7),3) -> 0.279 | K32: =ROUND(PRODUCT(K31,$E$7),3) -> 0.019 | ... BR32: =ROUND(PRODUCT(BR31,$E$7),3) -> 0
D33: =D32+' 1,5-2 года (день 9)'!D32+'СВО 3-7 лет'!D32+'ОВЗ 3-7 лет'!D32 -> 0.3 | E33: =E32+' 1,5-2 года (день 9)'!E32+'СВО 3-7 лет'!E32+'ОВЗ 3-7 лет'!E32 -> 0.192 | F33: =F32+' 1,5-2 года (день 9)'!F32+'СВО 3-7 лет'!F32+'ОВЗ 3-7 лет'!F32 -> 0.223 | G33: =G32+' 1,5-2 года (день 9)'!G32+'СВО 3-7 лет'!G32+'ОВЗ 3-7 лет'!G32 -> 0.004 | H33: =H32+' 1,5-2 года (день 9)'!H32+'СВО 3-7 лет'!H32+'ОВЗ 3-7 лет'!H32 -> 0.004 | I33: =I32+' 1,5-2 года (день 9)'!I32+'СВО 3-7 лет'!I32+'ОВЗ 3-7 лет'!I32 -> 0 | J33: =J32+' 1,5-2 года (день 9)'!J32+'СВО 3-7 лет'!J32+'ОВЗ 3-7 лет'!J32 -> 1.068 | K33: =K32+' 1,5-2 года (день 9)'!K32+'СВО 3-7 лет'!K32+'ОВЗ 3-7 лет'!K32 -> 0.072 | ... BR33: =BR32+' 1,5-2 года (день 9)'!BR32+'СВО 3-7 лет'!BR32+'ОВЗ 3-7 лет'!BR32 -> 0 | BS33: =SUM(D33:BQ33) -> 8.452
D36: Ответственный калькулятор | H36: _________________ | K36: С.В.Залевская
D37: исполнитель | F37: должность | H37: подпись
F39: Повар | H39: ___________________
H40: подпись
B48: ЦЕНА ЗА КИЛОГРАММ (покупная) | C48: руб | D48: 90.9 | E48: 96 | F48: 91 | G48: 816 | H48: 1680 | I48: 1050 | J48: 90.57 | K48: 1166.67 | L48: 255.2 | M48: 833 | N48: 126.38 | O48: 387.53 | P48: 663.16 | Q48: 526.67 | R48: 1295 | U48: 1012 | V48: 470.67 | W48: 348 | X48: 9.4 | Y48: 266.5 | Z48: 367 | AA48: 524 | AB48: 330 | AC48: 299 | AD48: 148 | AE48: 842 | AG48: 180 | AH48: 359 | AI48: 160 | AJ48: 309.1 | AK48: 94 | AL48: 73 | AM48: 51.6 | AN48: 250 | AO48: 272 | AQ48: 425 | AR48: 800 | AS48: 294.25 | AT48: 95 | AU48: 87.33 | AV48: 73.33 | AW48: 80 | AX48: 89.29 | AY48: 63.75 | AZ48: 104.62 | BA48: 81.33 | BB48: 71.67 | BC48: 152.67 | BD48: 378 | BE48: 574 | BF48: 696 | BG48: 324 | BH48: 604 | BJ48: 38 | BK48: 38 | BL48: 33 | BM48: 43 | BN48: 43 | BO48: 306.32 | BP48: 190 | BQ48: 26
B49: ЦЕНА ЗА ГРАММ (покупная) | C49: руб | D49: =D48/1000 -> 0.0909 | E49: =E48/1000 -> 0.096 | F49: =F48/1000 -> 0.091 | G49: =G48/1000 -> 0.816 | H49: =H48/1000 -> 1.68 | I49: =I48/1000 -> 1.05 | J49: =J48/1000 -> 0.09057 | K49: =K48/1000 -> 1.16667 | ... BR49: =BR48/1000 -> 0
B50: Израсходовано на сумму (за граммы) | D50: =D32*D48 -> 7.272 | E50: =E32*E48 -> 4.8 | F50: =F32*F48 -> 5.369 | G50: =G32*G48 -> 0.816 | H50: =H32*H48 -> 1.68 | I50: =I32*I48 -> 0 | J50: =J32*J48 -> 25.26903 | K50: =K32*K48 -> 22.16673 | ... BR50: =BR32*BR48 -> 0 | BS50: =SUM(D50:BQ50) -> 177.33304 | BT50: =BS50/$C$23 -> 177.33304
B51: Израсходовано на сумму (за кг) | D51: =D32*D48 -> 7.272 | E51: =E32*E48 -> 4.8 | F51: =F32*F48 -> 5.369 | G51: =G32*G48 -> 0.816 | H51: =H32*H48 -> 1.68 | I51: =I32*I48 -> 0 | J51: =J32*J48 -> 25.26903 | K51: =K32*K48 -> 22.16673 | ... BR51: =BR32*BR48 -> 0 | BS51: =SUM(D51:BQ51) -> 177.33304 | BT51: =BS51/$C$23 -> 177.33304
B52: P/S: Итого к выдаче Яйцо- указано в шт. | D52: =D71+D89+D105+D119 -> 7.272 | E52: =E71+E89+E105+E119 -> 4.8 | F52: =F71+F89+F105+F119 -> 5.369 | G52: =G71+G89+G105+G119 -> 0.4896 | H52: =H71+H89+H105+H119 -> 2.016 | I52: =I71+I89+I105+I119 -> 0 | J52: =J71+J89+J105+J119 -> 25.26903 | K52: =K71+K89+K105+K119 -> 22.16673 | ... BR52: =BR71+BR89+BR105+BR119 -> 0
B53: Цена за яйцо, указана за 1 шт. | BT53: =BT70+BT88+BT105+BT118 -> 177.27946
B58: Наименование продуктов | C58: Кол-во человек | D58: =D8 -> Хлеб пшеничный | E58: =E8 -> Хлеб ржано-пшеничный | F58: =F8 -> Сахар | G58: =G8 -> Чай | H58: =H8 -> Какао | I58: =I8 -> Кофейный напиток | J58: =J8 -> Молоко 2,5% | K58: =K8 -> Масло сливочное | ... V58: =V8 -> Огурцы консервирован. | X58: =X8 -> Яйцо | Y58: =Y8 -> Икра кабачковая | Z58: =Z8 -> Изюм | AA58: =AA8 -> Курага | AB58: =AB8 -> Чернослив | AC58: =AC8 -> Шиповник | AD58: =AD8 -> Сухофрукты | AE58: =AE8 -> Ягода свежемороженная | ... BR58: =BR8 -> Лимонная кислота | BS58: Итого расход за день | BT58: ИТОГО на 1 Чел
B59: Меню
A60: Завтрак | B60: =B10 -> Каша манная молочная | C60: =$E$7 -> 1 | D60: =D10 -> 0 | E60: =E10 -> 0 | F60: =F10 -> 0.005 | G60: =G10 -> 0 | H60: =H10 -> 0 | I60: =I10 -> 0 | J60: =J10 -> 0.13 | K60: =K10 -> 0.003 | ... BR60: =BR10 -> 0
B61: =B11 -> Бутерброд с маслом | D61: =D11 -> 0.03 | E61: =E11 -> 0 | F61: =F11 -> 0 | G61: =G11 -> 0 | H61: =H11 -> 0 | I61: =I11 -> 0 | J61: =J11 -> 0 | K61: =K11 -> 0.005 | ... BR61: =BR11 -> 0
B62: =B12 -> Какао с молоком | D62: =D12 -> 0 | E62: =E12 -> 0 | F62: =F12 -> 0.011 | G62: =G12 -> 0 | H62: =H12 -> 0.0012 | I62: =I12 -> 0 | J62: =J12 -> 0.096 | K62: =K12 -> 0 | ... BR62: =BR12 -> 0
...

Sheet Лист1

Sheet Лист2

Sheet Лист3

Sheet День 9 до 3 лет
J1: Утверждаю
J2: Заведующий МК ДОУ
J3: Ташаринский детский сад "Лесовичок"
J4: ____________________ Т.В. Чугуева
E5: Меню на | G5: =' 3-7 лет (день 9) '!K7 -> 46266
A6: Прием пищи | B6: Наименование блюда | C6: Выход блюда | D6: Белки, г | E6: Жиры, г | F6: Углеводы, г | G6: Эн. Цен (ккал) | H6: Ca | I6: Fe | J6: B1 | K6: B2 | L6: C | M6: № рецептуры
A7: День 9 | B7: Дети с 1,5 - 3 лет
A8: Завтрак | B8: ='[2]07.01.2021 3-7 лет (день 9) '!B7 -> Каша манная молочная | C8: 150 | D8: 4.66 | E8: 5.6 | F8: 18.82 | G8: 144 | H8: 136.97 | I8: 0.23 | J8: 0.06 | K8: 0.05 | L8: 1.46 | M8: 88
B9: Бутерброд с маслом и сыром | C9: 20/4/9 | D9: 3.61 | E9: 5.4 | F9: 9.75 | G9: 106 | H9: 94.48 | I9: 0.33 | J9: 0.02 | K9: 0.01 | L9: 0.14 | M9: 3
B10: ='[2]07.01.2021 3-7 лет (день 9) '!B8 -> Бутерброд с маслом | C10: 20/4 | D10: 3.61 | E10: 5.4 | F10: 9.75 | G10: 106 | H10: 94.48 | I10: 0.33 | J10: 0.02 | K10: 0.01 | L10: 0.14 | M10: 3
B11: ='[2]07.01.2021 3-7 лет (день 9) '!B9 -> Какао с молоком | C11: 150 | D11: 1.25 | E11: 1.33 | F11: 10.08 | G11: 50 | H11: 83.33 | I11: 0.01 | J11: 0.02 | K11: 0.01 | L11: 0.54 | M11: 248
A13: Обед | B13: ='[2]07.01.2021 3-7 лет (день 9) '!B12 -> Суп шахтерский | C13: 200 | D13: 3.32 | E13: 4.83 | F13: 15.74 | G13: 115.2 | H13: 21.2 | I13: 0.97 | J13: 0.12 | K13: 0.03 | L13: 6.3 | M13: 101
B14: ='[2]07.01.2021 3-7 лет (день 9) '!B13 -> Капуста, тушеная с мясом | C14: 220 | D14: 3.36 | E14: 7.06 | F14: 13.73 | G14: 139.92 | H14: 86.07 | I14: 1.35 | J14: 0.05 | K14: 0.04 | L14: 26.23 | M14: 200
B15: ='[2]07.01.2021 3-7 лет (день 9) '!B14 -> Хлеб пшеничный | C15: 20 | D15: 1.57 | E15: 0.2 | F15: 9.65 | G15: 48 | H15: 4.6 | I15: 0.4 | J15: 0.03 | K15: 0.005 | L15: 0
B16: ='[2]07.01.2021 3-7 лет (день 9) '!B15 -> Хлеб ржано-пшеничный | C16: 40 | D16: 2.64 | E16: 0.48 | F16: 13.36 | G16: 69.6 | H16: 14 | I16: 1.56 | J16: 0.072 | K16: 0.032 | L16: 0
B17: ='[2]07.01.2021 3-7 лет (день 9) '!B16 -> Компот из сухофруктов | C17: 180 | D17: 0.43 | E17: 0 | F17: 21.42 | G17: 81 | H17: 44.23 | I17: 0.009 | J17: 0 | K17: 0 | L17: 0.36 | M17: 241
A22: Полдник | B22: ='[2]07.01.2021 3-7 лет (день 9) '!B20 -> Компот из свеж. морож. ягод | C22: 150 | D22: 0.02 | E22: 0.04 | F22: 13.46 | G22: 52.48 | H22: 7.44 | I22: 0.3 | J22: 0.003 | K22: 0.003 | L22: 40 | M22: 247
B23: =' 3-7 лет (день 9) '!B24 -> Пирожок рыбный | C23: 60 | D23: 6.46 | E23: 6.35 | F23: 25.21 | G23: 158.83 | H23: 16.63 | I23: 0.41 | J23: 0.05 | K23: 0.05 | L23: 0.25 | M23: 294, 312, 313
B24: =' 3-7 лет (день 9) '!B25 -> Яблоко | C24: 75 | D24: 0.67 | E24: 0.14 | F24: 17.25 | G24: 73 | H24: 25.5 | I24: 0.26 | J24: 0.02 | K24: 0.02 | L24: 44.86
A25: Ужин | B25: ='[2]07.01.2021 3-7 лет (день 9) '!B25 -> Омлет | C25: 100 | D25: 6.5714 | E25: 8.7 | F25: 3.7071 | G25: 117.86 | H25: 74.5 | I25: 1.1714 | J25: 0.0571 | K25: 0.042 | L25: 2.52143 | M25: 111
B26: ='[2]07.01.2021 3-7 лет (день 9) '!B26 -> Хлеб пшеничный | C26: 30 | D26: 2.355 | E26: 0.3 | F26: 14.475 | G26: 72 | H26: 6.9 | I26: 0.6 | J26: 0.045 | K26: 0.0075 | L26: 0
B27: ='[2]07.01.2021 3-7 лет (день 9) '!B27 -> Чай с сахаром | C27: 150/9 | D27: 0 | E27: 0 | F27: 8.98 | G27: 30 | H27: 0.27 | I27: 0.05 | J27: 0 | K27: 0 | L27: 0.27 | M27: 263, 264
B29: ВСЕГО за день | D29: =SUM(D8:D28) -> 40.5264 | E29: =SUM(E8:E28) -> 45.83 | F29: =SUM(F8:F28) -> 205.3821 | G29: =SUM(G8:G28) -> 1363.89 | H29: =SUM(H8:H28) -> 710.6 | I29: =SUM(I8:I28) -> 7.9804 | J29: =SUM(J8:J28) -> 0.5671 | K29: =SUM(K8:K28) -> 0.3095 | L29: =SUM(L8:L28) -> 123.07143
A30: Ответственный за питание _________________________ С.В.Залевская

Sheet День 9 от 3 лет
J1: Утверждаю
J2: Заведующий МК ДОУ
J3: Ташаринский детский сад "Лесовичок"
J4: ______________________ Т.В. Чугуева
E5: Меню на | G5: =' 3-7 лет (день 9) '!K7 -> 46266
A6: Прием пищи | B6: Наименование блюда | C6: Выход блюда | D6: Белки, г | E6: Жиры, г | F6: Углеводы, г | G6: Эн. Цен (ккал) | H6: Ca | I6: Fe | J6: B1 | K6: B2 | L6: C | M6: № рецептуры
A7: День 9 | B7: Дети с 3 - 7 лет
A8: Завтрак | B8: ='[2]07.01.2021 3-7 лет (день 9) '!B7 -> Каша манная молочная | C8: 200 | D8: 6.21 | E8: 7.47 | F8: 25.09 | G8: 192 | H8: 182.6 | I8: 0.31 | J8: 0.08 | K8: 0.06 | L8: 1.95 | M8: 88
B9: Бутерброд с маслом и сыром | C9: 30/5/14 | D9: 5.06 | E9: 7 | F9: 14.62 | G9: 145 | H9: 126.6 | I9: 0.47 | J9: 0.03 | K9: 0.03 | L9: 0.19 | M9: 3
B10: ='[2]07.01.2021 3-7 лет (день 9) '!B8 -> Бутерброд с маслом | C10: 30/5 | D10: 5.06 | E10: 7 | F10: 14.62 | G10: 145 | H10: 126.6 | I10: 0.47 | J10: 0.03 | K10: 0.03 | L10: 0.19 | M10: 3
B11: ='[2]07.01.2021 3-7 лет (день 9) '!B9 -> Какао с молоком | C11: 180 | D11: 1.5 | E11: 1.6 | F11: 12.1 | G11: 60 | H11: 100 | I11: 0.02 | J11: 0.02 | K11: 0.01 | L11: 0.65 | M11: 248
A13: Обед | B13: ='[2]07.01.2021 3-7 лет (день 9) '!B12 -> Суп шахтерский | C13: 250 | D13: 4.15 | E13: 6.04 | F13: 19.67 | G13: 144 | H13: 26.5 | I13: 1.21 | J13: 0.15 | K13: 0.04 | L13: 7.87 | M13: 101
B14: ='[2]07.01.2021 3-7 лет (день 9) '!B13 -> Капуста, тушеная с мясом | C14: 250 | D14: 3.82 | E14: 8.02 | F14: 15.6 | G14: 159 | H14: 97.81 | I14: 1.53 | J14: 0.06 | K14: 0.05 | L14: 29.81 | M14: 200
B15: ='[2]07.01.2021 3-7 лет (день 9) '!B14 -> Хлеб пшеничный | C15: 20 | D15: 1.57 | E15: 0.2 | F15: 9.65 | G15: 48 | H15: 4.6 | I15: 0.4 | J15: 0.03 | K15: 0.005 | L15: 0
B16: ='[2]07.01.2021 3-7 лет (день 9) '!B15 -> Хлеб ржано-пшеничный | C16: 50 | D16: 3.3 | E16: 0.6 | F16: 16.7 | G16: 87 | H16: 17.5 | I16: 1.95 | J16: 0.09 | K16: 0.04 | L16: 0
B17: ='[2]07.01.2021 3-7 лет (день 9) '!B16 -> Компот из сухофруктов | C17: 200 | D17: 0.48 | E17: 0 | F17: 23.8 | G17: 90 | H17: 49.14 | I17: 0.01 | J17: 0 | K17: 0 | L17: 0.4 | M17: 241
A22: Полдник | B22: ='[2]07.01.2021 3-7 лет (день 9) '!B20 -> Компот из свеж. морож. ягод | C22: 200 | D22: 0.025 | E22: 0.05 | F22: 15.83 | G22: 61.86 | H22: 9.28 | I22: 0.37 | J22: 0.005 | K22: 0.005 | L22: 50 | M22: 247
B23: =' 3-7 лет (день 9) '!B24 -> Пирожок рыбный | C23: 70 | D23: 7.53 | E23: 7.41 | F23: 29.42 | G23: 185.3 | H23: 19.4 | I23: 0.48 | J23: 0.06 | K23: 0.05 | L23: 0.3 | M23: 294, 312, 313
B24: =' 3-7 лет (день 9) '!B25 -> Яблоко | C24: 100 | D24: 0.9 | E24: 0.2 | F24: 23.07 | G24: 98 | H24: 34.5 | I24: 0.35 | J24: 0.04 | K24: 0.03 | L24: 60
A25: Ужин | B25: ='[2]07.01.2021 3-7 лет (день 9) '!B25 -> Омлет | C25: 140 | D25: 9.2 | E25: 12.18 | F25: 5.19 | G25: 165 | H25: 104.3 | I25: 1.64 | J25: 0.08 | K25: 0.06 | L25: 3.53 | M25: 111
B26: ='[2]07.01.2021 3-7 лет (день 9) '!B26 -> Хлеб пшеничный | C26: 30 | D26: 2.355 | E26: 0.3 | F26: 14.475 | G26: 72 | H26: 6.9 | I26: 0.6 | J26: 0.045 | K26: 0.0075 | L26: 0
B27: ='[2]07.01.2021 3-7 лет (день 9) '!B27 -> Чай с сахаром | C27: 180/12 | D27: 0 | E27: 0 | F27: 11.98 | G27: 43 | H27: 0.35 | I27: 0.06 | J27: 0 | K27: 0 | L27: 0 | M27: 263, 264
B29: ВСЕГО за день | D29: =SUM(D8:D28) -> 51.16 | E29: =SUM(E8:E28) -> 58.07 | F29: =SUM(F8:F28) -> 251.815 | G29: =SUM(G8:G28) -> 1695.16 | H29: =SUM(H8:H28) -> 871.58 | I29: =SUM(I8:I28) -> 9.87 | J29: =SUM(J8:J28) -> 0.72 | K29: =SUM(K8:K28) -> 0.4175 | L29: =SUM(L8:L28) -> 154.89
A31: Ответственный за питание _________________________ С.В.Залевская

Sheet БГП  
A1: =' 3-7 лет (день 9) '!K7 -> 46266
A2: Час изготовления блюда | B2: Время снятия бракеража | C2: Наименование блюда, кулинарного изделия | D2: Результаты органолептической оценки и степени готовности блюда, кулинарного изделия | E2: Разрешение к реализации блюда, кулинарного изделия | F2: Подписи членов бракеражной комиссии | G2: Примечание
A5: Завтрак 7:00-8:30 | B5: 0.36111111 | C5: =' 3-7 лет (день 9) '!B10 -> Каша манная молочная | D5: отлично | E5: разрешено
C6: =' 3-7 лет (день 9) '!B11 -> Бутерброд с маслом | D6: отлично | E6: разрешено
C7: Бутерброд с маслом | D7: отлично | E7: разрешено
C8: =' 3-7 лет (день 9) '!B12 -> Какао с молоком | D8: отлично | E8: разрешено
A9: Обед 9:00-11:30 | B9: 0.48611111 | C9: =' 3-7 лет (день 9) '!B15 -> Суп шахтерский | D9: отлично | E9: разрешено
C10: =' 3-7 лет (день 9) '!B16 -> Капуста, тушеная с мясом | D10: отлично | E10: разрешено
C11: =' 3-7 лет (день 9) '!B17 -> Хлеб пшеничный | D11: отлично | E11: разрешено
C12: =' 3-7 лет (день 9) '!B18 -> Хлеб ржано-пшеничный | D12: отлично | E12: разрешено
C13: =' 3-7 лет (день 9) '!B19 -> Компот из сухофруктов | D13: отлично | E13: разрешено
A17: Полдник 13:00-15:00 | B17: 0.63888889 | C17: =' 3-7 лет (день 9) '!B23 -> Компот из свеж. морож. ягод | D17: отлично | E17: разрешено
C18: =' 3-7 лет (день 9) '!B24 -> Пирожок рыбный | D18: отлично | E18: разрешено
C19: =' 3-7 лет (день 9) '!B25 -> Яблоко | D19: отлично | E19: разрешено
A20: Ужин 15:00-16:30 | B20: 0.69444444 | C20: =' 3-7 лет (день 9) '!B28 -> Омлет | D20: отлично | E20: разрешено
C21: =' 3-7 лет (день 9) '!B29 -> Хлеб пшеничный | D21: отлично | E21: разрешено
C22: =' 3-7 лет (день 9) '!B30 -> Чай с сахаром | D22: отлично | E22: разрешено
