Workbook

Sheet  1,5-2 года (день 9)
A1: Утверждаю
A2: Заведующий МКДОУ Ташаринский детский сад "Лесовичок" | H2: Меню - требование на выдачу продуктов питания | J2: Меню - требование на выдачу продуктов питания
A3: _________________ Чугуева Т.В.
A4: подпись | H4: Учреждение МКДОУ "Ташаринский детский сад"Лесовичок" | J4: Учреждение МКДОУ "Ташаринский детский сад"Лесовичок"
H5: Ответственное лицо Романашенко Г.М. | J5: Ответственное лицо Романашенко Г.М.
D7: детей в количестве | F7: 1 | G7: человек (1,5 - 2 года) на | K7: =' 3-7 лет (день 9) '!K7 -> 46266
B8: Наименование продуктов | C8: Кол-во человек | D8: =[1]Цены!A1 -> Хлеб пшеничный | E8: =[1]Цены!B1 -> Хлеб ржано-пшеничный | F8: =[1]Цены!C1 -> Сахар | G8: =[1]Цены!D1 -> Чай | H8: =[1]Цены!E1 -> Какао | I8: =[1]Цены!F1 -> Кофейный напиток | J8: =[1]Цены!G1 -> Молоко 2,5% | K8: =[1]Цены!H1 -> Масло сливочное | ... AE8: =[1]Цены!AB1 -> Ягода свежемороженная | AF8: =' 3-7 лет (день 9) '!AF8:AF9 -> Апельсин | AG8: =' 3-7 лет (день 9) '!AG8:AG9 -> Банан | AH8: =' 3-7 лет (день 9) '!AH8:AH9 -> Лимон | AI8: =' 3-7 лет (день 9) '!AI8:AI9 -> Яблоко | AJ8: =[1]Цены!AD1 -> Кисель | AK8: =[1]Цены!AE1 -> Сок | AL8: =[1]Цены!AF1 -> Макаронные изделия | AM8: =[1]Цены!AG1 -> Мука | AN8: =[1]Цены!AH1 -> Дрожжи | AO8: =[1]Цены!AI1 -> Печенье | AP8: =[1]Цены!AJ1 -> Пряники | AQ8: =[1]Цены!AK1 -> Вафли | ... BQ8: =[1]Цены!BK1 -> Соль | BR8: Лимонная кислота | BS8: Итого расход за день | BT8: ИТОГО на 1 Чел
B9: Меню
A10: Завтрак | B10: =' 3-7 лет (день 9) '!B10 -> Каша манная молочная | C10: =$F$7 -> 1 | F10: 0.004 | J10: 0.116 | K10: 0.002 | AX10: 0.015 | BQ10: 0.001
B11: =' 3-7 лет (день 9) '!B11 -> Бутерброд с маслом | D11: 0.02 | K11: 0.004
B12: =' 3-7 лет (день 9) '!B12 -> Какао с молоком | F12: 0.009 | H12: 0.001 | J12: 0.08
A15: Обед | B15: =' 3-7 лет (день 9) '!B15 -> Суп шахтерский | C15: =$F$7 -> 1 | K15: 0.002 | L15: 0.006 | AV15: 0.006 | BD15: 0.02 | BJ15: 0.08 | BK15: 0.01 | BL15: 0.01 | BP15: 0.002 | BQ15: 0.001
B16: =' 3-7 лет (день 9) '!B16 -> Капуста, тушеная с мясом | K16: 0.002 | BD16: 0.03 | BF16: 0.005 | BK16: 0.007 | BL16: 0.011 | BM16: 0.16 | BO16: 0.002 | BP16: 0.005 | BQ16: 0.001
B17: =' 3-7 лет (день 9) '!B17 -> Хлеб пшеничный | D17: 0.02
B18: =' 3-7 лет (день 9) '!B18 -> Хлеб ржано-пшеничный | E18: 0.0416
B19: =' 3-7 лет (день 9) '!B19 -> Компот из сухофруктов | F19: 0.011 | AD19: 0.02 | BR19: 3.5e-05
A23: Полдник | B23: =' 3-7 лет (день 9) '!B23 -> Компот из свеж. морож. ягод | C23: =$F$7 -> 1 | F23: 0.012 | AE23: 0.02
B24: =' 3-7 лет (день 9) '!B24 -> Пирожок рыбный | F24: 0.0017 | J24: 0.005 | K24: 0.003 | U24: 0.0208 | X24: 0.090909091 | AM24: 0.029 | AN24: 0.0012 | BC24: 0.003 | BL24: 0.002 | BP24: 0.0008
B25: =' 3-7 лет (день 9) '!B25 -> Яблоко
A28: Ужин | B28: =' 3-7 лет (день 9) '!B28 -> Омлет | C28: =$F$7 -> 1 | J28: 0.03 | K28: 0.002 | X28: 1 | BQ28: 0.001
B29: =' 3-7 лет (день 9) '!B29 -> Хлеб пшеничный | D29: 0.02
B30: =' 3-7 лет (день 9) '!B30 -> Чай с сахаром | F30: 0.008 | G30: 0.0005
B31: Итого на 1 чел | D31: =SUM(D10:D30) -> 0.06 | E31: =SUM(E10:E30) -> 0.0416 | F31: =SUM(F10:F30) -> 0.0457 | G31: =SUM(G10:G30) -> 0.0005 | H31: =SUM(H10:H30) -> 0.001 | I31: =SUM(I10:I30) -> 0 | J31: =SUM(J10:J30) -> 0.231 | K31: =SUM(K10:K30) -> 0.015 | ... BR31: =SUM(BR10:BR30) -> 3.5e-05
B32: Итого к выдаче, ГРАММ (на всех) | D32: =ROUND(PRODUCT(D31,$F$7),3) -> 0.06 | E32: =ROUND(PRODUCT(E31,$F$7),3) -> 0.042 | F32: =ROUND(PRODUCT(F31,$F$7),3) -> 0.046 | G32: =ROUND(PRODUCT(G31,$F$7),3) -> 0.001 | H32: =ROUND(PRODUCT(H31,$F$7),3) -> 0.001 | I32: =ROUND(PRODUCT(I31,$F$7),3) -> 0 | J32: =ROUND(PRODUCT(J31,$F$7),3) -> 0.231 | K32: =ROUND(PRODUCT(K31,$F$7),3) -> 0.015 | ... BR32: =ROUND(PRODUCT(BR31,$F$7),3) -> 0
D34: Ответственный калькулятор | H34: _________________ | K34: С.В.Залевская
D35: исполнитель | F35: должность | H35: подпись
F37: Повар | H37: ___________________ | K37: =' 3-7 лет (день 9) '!K39 -> 0
H38: подпись
B44: ЦЕНА ЗА КИЛОГРАММ (покупная) | C44: руб | D44: 90.9 | E44: 96 | F44: 91 | G44: 816 | H44: 1680 | I44: 1050 | J44: 90.57 | K44: 1166.67 | L44: 255.2 | M44: 833 | N44: 126.38 | O44: 387.53 | P44: 663.16 | Q44: 526.67 | R44: 1295 | U44: 1012 | V44: 470.67 | W44: 348 | X44: 9.4 | Y44: 266.5 | Z44: 367 | AA44: 524 | AB44: 330 | AC44: 299 | AD44: 148 | AE44: 842 | AG44: 180 | AH44: 359 | AI44: 160 | AJ44: 309.1 | AK44: 94 | AL44: 73 | AM44: 51.6 | AN44: 250 | AO44: 272 | AQ44: 425 | AR44: 800 | AS44: 294.25 | AT44: 95 | AU44: 87.33 | AV44: 73.33 | AW44: 80 | AX44: 89.29 | AY44: 63.75 | AZ44: 104.62 | BA44: 81.33 | BB44: 71.67 | BC44: 152.67 | BD44: 378 | BE44: 574 | BF44: 696 | BG44: 324 | BH44: 604 | BJ44: 38 | BK44: 38 | BL44: 33 | BM44: 43 | BN44: 43 | BO44: 306.32 | BP44: 190 | BQ44: 26
B45: ЦЕНА ЗА ГРАММ (покупная) | C45: руб | D45: =D44/1000 -> 0.0909 | E45: =E44/1000 -> 0.096 | F45: =F44/1000 -> 0.091 | G45: =G44/1000 -> 0.816 | H45: =H44/1000 -> 1.68 | I45: =I44/1000 -> 1.05 | J45: =J44/1000 -> 0.09057 | K45: =K44/1000 -> 1.16667 | ... BR45: =BR44/1000 -> 0
B46: Израсходовано на сумму (за граммы) | D46: =D32*D44 -> 5.454 | E46: =E32*E44 -> 4.032 | F46: =F32*F44 -> 4.186 | G46: =G32*G44 -> 0.816 | H46: =H32*H44 -> 1.68 | I46: =I32*I44 -> 0 | J46: =J32*J44 -> 20.92167 | K46: =K32*K44 -> 17.50005 | ... BR46: =BR32*BR44 -> 0 | BS46: =SUM(D46:BQ46) -> 147.3537 | BT46: =BS46/$C$10 -> 147.3537
B47: Израсходовано на сумму (за кг) | D47: =D32*D44 -> 5.454 | E47: =E32*E44 -> 4.032 | F47: =F32*F44 -> 4.186 | G47: =G32*G44 -> 0.816 | H47: =H32*H44 -> 1.68 | I47: =I32*I44 -> 0 | J47: =J32*J44 -> 20.92167 | K47: =K32*K44 -> 17.50005 | ... BR47: =BR32*BR44 -> 0 | BS47: =SUM(D47:BQ47) -> 147.3537 | BT47: =BS47/$C$10 -> 147.3537
B48: P/S: Итого к выдаче Яйцо- указано в шт.
B49: Цена за яйцо, указана за 1 шт.
BT50: =BT65+BT85+BT104+BT120 -> 155.2342
J52: человек (1,5 - 3 года) | K52: детей в количестве | L52: 0 | AD52: на 04.03.2019
B53: Наименование продуктов | C53: Кол-во человек | D53: =D8 -> Хлеб пшеничный | E53: =E8 -> Хлеб ржано-пшеничный | F53: =F8 -> Сахар | G53: =G8 -> Чай | H53: =H8 -> Какао | I53: =I8 -> Кофейный напиток | J53: =J8 -> Молоко 2,5% | K53: =K8 -> Масло сливочное | ... V53: =V8 -> Огурцы консервирован. | X53: =X8 -> Яйцо | Y53: =Y8 -> Икра кабачковая | Z53: =Z8 -> Изюм | AA53: =AA8 -> Курага | AB53: =AB8 -> Чернослив | AC53: =AC8 -> Шиповник | AD53: =AD8 -> Сухофрукты | AE53: =AE8 -> Ягода свежемороженная | ... BR53: =BR8 -> Лимонная кислота | BS53: Итого расход за день | BT53: ИТОГО на 1 Чел
B54: Меню
A55: Завтрак | B55: =B10 -> Каша манная молочная | C55: =$F$7 -> 1 | D55: =D10 -> 0 | E55: =E10 -> 0 | F55: =F10 -> 0.004 | G55: =G10 -> 0 | H55: =H10 -> 0 | I55: =I10 -> 0 | J55: =J10 -> 0.116 | K55: =K10 -> 0.002 | ... BR55: =BR10 -> 0
B56: =B11 -> Бутерброд с маслом | D56: =D11 -> 0.02 | E56: =E11 -> 0 | F56: =F11 -> 0 | G56: =G11 -> 0 | H56: =H11 -> 0 | I56: =I11 -> 0 | J56: =J11 -> 0 | K56: =K11 -> 0.004 | ... BR56: =BR11 -> 0
B57: =B12 -> Какао с молоком | D57: =D12 -> 0 | E57: =E12 -> 0 | F57: =F12 -> 0.009 | G57: =G12 -> 0 | H57: =H12 -> 0.001 | I57: =I12 -> 0 | J57: =J12 -> 0.08 | K57: =K12 -> 0 | ... BR57: =BR12 -> 0
B58: =B13 -> 0 | D58: =D13 -> 0 | E58: =E13 -> 0 | F58: =F13 -> 0 | G58: =G13 -> 0 | H58: =H13 -> 0 | I58: =I13 -> 0 | J58: =J13 -> 0 | K58: =K13 -> 0 | ... BR58: =BR13 -> 0
B59: =B14 -> 0 | D59: =D14 -> 0 | E59: =E14 -> 0 | F59: =F14 -> 0 | G59: =G14 -> 0 | H59: =H14 -> 0 | I59: =I14 -> 0 | J59: =J14 -> 0 | K59: =K14 -> 0 | ... BR59: =BR14 -> 0
B60: Итого на 1 чел | D60: =SUM(D55:D59) -> 0.02 | E60: =SUM(E55:E59) -> 0 | F60: =SUM(F55:F59) -> 0.013 | G60: =SUM(G55:G59) -> 0 | H60: =SUM(H55:H59) -> 0.001 | I60: =SUM(I55:I59) -> 0 | J60: =SUM(J55:J59) -> 0.196 | K60: =SUM(K55:K59) -> 0.006 | ... BR60: =SUM(BR55:BR59) -> 0
B61: Итого к выдаче, ГРАММ (на всех) | D61: =PRODUCT(D60,$F$7) -> 0.02 | E61: =PRODUCT(E60,$F$7) -> 0 | F61: =PRODUCT(F60,$F$7) -> 0.013 | G61: =PRODUCT(G60,$F$7) -> 0 | H61: =PRODUCT(H60,$F$7) -> 0.001 | I61: =PRODUCT(I60,$F$7) -> 0 | J61: =PRODUCT(J60,$F$7) -> 0.196 | K61: =PRODUCT(K60,$F$7) -> 0.006 | ... BR61: =PRODUCT(BR60,$F$7) -> 0
B63: ЦЕНА ЗА КИЛОГРАММ (покупная) | C63: руб | D63: =D44 -> 90.9 | E63: =E44 -> 96 | F63: =F44 -> 91 | G63: =G44 -> 816 | H63: =H44 -> 1680 | I63: =I44 -> 1050 | J63: =J44 -> 90.57 | K63: =K44 -> 1166.67 | ... BR63: =BR44 -> 0
B64: ЦЕНА ЗА ГРАММ (покупная) | C64: руб | D64: =D63/1000 -> 0.0909 | E64: =E63/1000 -> 0.096 | F64: =F63/1000 -> 0.091 | G64: =G63/1000 -> 0.816 | H64: =H63/1000 -> 1.68 | I64: =I63/1000 -> 1.05 | J64: =J63/1000 -> 0.09057 | K64: =K63/1000 -> 1.16667 | ... BR64: =BR63/1000 -> 0
B65: Израсходовано на сумму (за граммы) | D65: =D61*D63 -> 1.818 | E65: =E61*E63 -> 0 | F65: =F61*F63 -> 1.183 | G65: =G61*G63 -> 0 | H65: =H61*H63 -> 1.68 | I65: =I61*I63 -> 0 | J65: =J61*J63 -> 17.75172 | K65: =K61*K63 -> 7.00002 | ... BR65: =BR61*BR63 -> 0 | BS65: =SUM(D65:BQ65) -> 30.79809 | BT65: =BS65/$C$10 -> 30.79809
B66: Израсходовано на сумму (за кг) | D66: =D61*D63 -> 1.818 | E66: =E61*E63 -> 0 | F66: =F61*F63 -> 1.183 | G66: =G61*G63 -> 0 | H66: =H61*H63 -> 1.68 | I66: =I61*I63 -> 0 | J66: =J61*J63 -> 17.75172 | K66: =K61*K63 -> 7.00002 | ... BR66: =BR61*BR63 -> 0 | BS66: =SUM(D66:BQ66) -> 30.79809 | BT66: =BS66/$C$10 -> 30.79809
B67: P/S: Итого к выдаче Яйцо- указано в шт.
B68: Цена за яйцо, указана за 1 шт.
J70: человек (1,5 - 3 года) | K70: детей в количестве | L70: 0 | AD70: на 04.03.2019
B71: Наименование продуктов | C71: Кол-во человек | D71: =D53 -> Хлеб пшеничный | E71: =E53 -> Хлеб ржано-пшеничный | F71: =F53 -> Сахар | G71: =G53 -> Чай | H71: =H53 -> Какао | I71: =I53 -> Кофейный напиток | J71: =J53 -> Молоко 2,5% | K71: =K53 -> Масло сливочное | ... V71: =V53 -> Огурцы консервирован. | X71: =X53 -> Яйцо | Y71: =Y53 -> Икра кабачковая | Z71: =Z53 -> Изюм | AA71: =AA53 -> Курага | AB71: =AB53 -> Чернослив | AC71: =AC53 -> Шиповник | AD71: =AD53 -> Сухофрукты | AE71: =AE53 -> Ягода свежемороженная | ... BR71: =BR53 -> Лимонная кислота | BS71: Итого расход за день | BT71: ИТОГО на 1 Чел
B72: Меню
A73: Обед | B73: =B15 -> Суп шахтерский | C73: =$F$7 -> 1 | D73: =D15 -> 0 | E73: =E15 -> 0 | F73: =F15 -> 0 | G73: =G15 -> 0 | H73: =H15 -> 0 | I73: =I15 -> 0 | J73: =J15 -> 0 | K73: =K15 -> 0.002 | ... BR73: =BR15 -> 0
B74: =B16 -> Капуста, тушеная с мясом | D74: =D16 -> 0 | E74: =E16 -> 0 | F74: =F16 -> 0 | G74: =G16 -> 0 | H74: =H16 -> 0 | I74: =I16 -> 0 | J74: =J16 -> 0 | K74: =K16 -> 0.002 | ... BR74: =BR16 -> 0
B75: =B17 -> Хлеб пшеничный | D75: =D17 -> 0.02 | E75: =E17 -> 0 | F75: =F17 -> 0 | G75: =G17 -> 0 | H75: =H17 -> 0 | I75: =I17 -> 0 | J75: =J17 -> 0 | K75: =K17 -> 0 | ... BR75: =BR17 -> 0
B76: =B18 -> Хлеб ржано-пшеничный | D76: =D18 -> 0 | E76: =E18 -> 0.0416 | F76: =F18 -> 0 | G76: =G18 -> 0 | H76: =H18 -> 0 | I76: =I18 -> 0 | J76: =J18 -> 0 | K76: =K18 -> 0 | ... BR76: =BR18 -> 0
B77: =B19 -> Компот из сухофруктов | D77: =D19 -> 0 | E77: =E19 -> 0 | F77: =F19 -> 0.011 | G77: =G19 -> 0 | H77: =H19 -> 0 | I77: =I19 -> 0 | J77: =J19 -> 0 | K77: =K19 -> 0 | ... BR77: =BR19 -> 3.5e-05
B78: =B20 -> 0 | D78: =D20 -> 0 | E78: =E20 -> 0 | F78: =F20 -> 0 | G78: =G20 -> 0 | H78: =H20 -> 0 | I78: =I20 -> 0 | J78: =J20 -> 0 | K78: =K20 -> 0 | ... BR78: =BR20 -> 0
B79: =B21 -> 0 | D79: =D21 -> 0 | E79: =E21 -> 0 | F79: =F21 -> 0 | G79: =G21 -> 0 | H79: =H21 -> 0 | I79: =I21 -> 0 | J79: =J21 -> 0 | K79: =K21 -> 0 | ... BR79: =BR21 -> 0
B80: Итого на 1 чел | D80: =SUM(D73:D79) -> 0.02 | E80: =SUM(E73:E79) -> 0.0416 | F80: =SUM(F73:F79) -> 0.011 | G80: =SUM(G73:G79) -> 0 | H80: =SUM(H73:H79) -> 0 | I80: =SUM(I73:I79) -> 0 | J80: =SUM(J73:J79) -> 0 | K80: =SUM(K73:K79) -> 0.004 | ... BR80: =SUM(BR73:BR79) -> 3.5e-05
B81: Итого к выдаче, ГРАММ (на всех) | D81: =PRODUCT(D80,$F$7) -> 0.02 | E81: =PRODUCT(E80,$F$7) -> 0.0416 | F81: =PRODUCT(F80,$F$7) -> 0.011 | G81: =PRODUCT(G80,$F$7) -> 0 | H81: =PRODUCT(H80,$F$7) -> 0 | I81: =PRODUCT(I80,$F$7) -> 0 | J81: =PRODUCT(J80,$F$7) -> 0 | K81: =PRODUCT(K80,$F$7) -> 0.004 | ... BR81: =PRODUCT(BR80,$F$7) -> 3.5e-05
B83: ЦЕНА ЗА КИЛОГРАММ (покупная) | C83: руб | D83: =D44 -> 90.9 | E83: =E44 -> 96 | F83: =F44 -> 91 | G83: =G44 -> 816 | H83: =H44 -> 1680 | I83: =I44 -> 1050 | J83: =J44 -> 90.57 | K83: =K44 -> 1166.67 | ... BR83: =BR44 -> 0
B84: ЦЕНА ЗА ГРАММ (покупная) | C84: руб | D84: =D83/1000 -> 0.0909 | E84: =E83/1000 -> 0.096 | F84: =F83/1000 -> 0.091 | G84: =G83/1000 -> 0.816 | H84: =H83/1000 -> 1.68 | I84: =I83/1000 -> 1.05 | J84: =J83/1000 -> 0.09057 | K84: =K83/1000 -> 1.16667 | ... BR84: =BR83/1000 -> 0
B85: Израсходовано на сумму (за граммы) | D85: =D81*D83 -> 1.818 | E85: =E81*E83 -> 3.9936 | F85: =F81*F83 -> 1.001 | G85: =G81*G83 -> 0 | H85: =H81*H83 -> 0 | I85: =I81*I83 -> 0 | J85: =J81*J83 -> 0 | K85: =K81*K83 -> 4.66668 | ... BR85: =BR81*BR83 -> 0 | BS85: =SUM(D85:BQ85) -> 52.0441 | BT85: =BS85/$C$10 -> 52.0441
B86: Израсходовано на сумму (за кг) | D86: =D81*D83 -> 1.818 | E86: =E81*E83 -> 3.9936 | F86: =F81*F83 -> 1.001 | G86: =G81*G83 -> 0 | H86: =H81*H83 -> 0 | I86: =I81*I83 -> 0 | J86: =J81*J83 -> 0 | K86: =K81*K83 -> 4.66668 | ... BR86: =BR81*BR83 -> 0 | BS86: =SUM(D86:BQ86) -> 52.0441 | BT86: =BS86/$C$10 -> 52.0441
B87: P/S: Итого к выдаче Яйцо- указано в шт.
B88: Цена за яйцо, указана за 1 шт.
J90: человек (1,5 - 3 года) | K90: детей в количестве | L90: 0 | AD90: на 04.03.2019
B91: Наименование продуктов | C91: Кол-во человек | D91: =D53 -> Хлеб пшеничный | E91: =E53 -> Хлеб ржано-пшеничный | F91: =F53 -> Сахар | G91: =G53 -> Чай | H91: =H53 -> Какао | I91: =I53 -> Кофейный напиток | J91: =J53 -> Молоко 2,5% | K91: =K53 -> Масло сливочное | ... V91: =V53 -> Огурцы консервирован. | X91: =X53 -> Яйцо | Y91: =Y53 -> Икра кабачковая | Z91: =Z53 -> Изюм | AA91: =AA53 -> Курага | AB91: =AB53 -> Чернослив | AC91: =AC53 -> Шиповник | AD91: =AD53 -> Сухофрукты | AE91: =AE53 -> Ягода свежемороженная | ... BR91: =BR53 -> Лимонная кислота | BS91: Итого расход за день | BT91: ИТОГО на 1 Чел
B92: Меню
A93: Полдник | B93: =B23 -> Компот из свеж. морож. ягод | C93: =$F$7 -> 1 | D93: =D23 -> 0 | E93: =E23 -> 0 | F93: =F23 -> 0.012 | G93: =G23 -> 0 | H93: =H23 -> 0 | I93: =I23 -> 0 | J93: =J23 -> 0 | K93: =K23 -> 0 | ... BR93: =BR23 -> 0
B94: =B24 -> Пирожок рыбный | D94: =D24 -> 0 | E94: =E24 -> 0 | F94: =F24 -> 0.0017 | G94: =G24 -> 0 | H94: =H24 -> 0 | I94: =I24 -> 0 | J94: =J24 -> 0.005 | K94: =K24 -> 0.003 | ... BR94: =BR24 -> 0
B95: =B25 -> Яблоко | D95: =D25 -> 0 | E95: =E25 -> 0 | F95: =F25 -> 0 | G95: =G25 -> 0 | H95: =H25 -> 0 | I95: =I25 -> 0 | J95: =J25 -> 0 | K95: =K25 -> 0 | ... BR95: =BR25 -> 0
B96: =B26 -> 0 | D96: =D26 -> 0 | E96: =E26 -> 0 | F96: =F26 -> 0 | G96: =G26 -> 0 | H96: =H26 -> 0 | I96: =I26 -> 0 | J96: =J26 -> 0 | K96: =K26 -> 0 | ... BR96: =BR26 -> 0
B97: =B27 -> 0 | D97: =D27 -> 0 | E97: =E27 -> 0 | F97: =F27 -> 0 | G97: =G27 -> 0 | H97: =H27 -> 0 | I97: =I27 -> 0 | J97: =J27 -> 0 | K97: =K27 -> 0 | ... BR97: =BR27 -> 0
B98: Итого на 1 чел | D98: =SUM(D93:D97) -> 0 | E98: =SUM(E93:E97) -> 0 | F98: =SUM(F93:F97) -> 0.0137 | G98: =SUM(G93:G97) -> 0 | H98: =SUM(H93:H97) -> 0 | I98: =SUM(I93:I97) -> 0 | J98: =SUM(J93:J97) -> 0.005 | K98: =SUM(K93:K97) -> 0.003 | ... BR98: =SUM(BR93:BR97) -> 0
B99: Итого к выдаче, ГРАММ (на всех) | D99: =PRODUCT(D98,$F$7) -> 0 | E99: =PRODUCT(E98,$F$7) -> 0 | F99: =PRODUCT(F98,$F$7) -> 0.0137 | G99: =PRODUCT(G98,$F$7) -> 0 | H99: =PRODUCT(H98,$F$7) -> 0 | I99: =PRODUCT(I98,$F$7) -> 0 | J99: =PRODUCT(J98,$F$7) -> 0.005 | K99: =PRODUCT(K98,$F$7) -> 0.003 | ... W99: =PRODUCT(W98,$F$7) -> 0 | X99: 1 | Y99: =PRODUCT(Y98,$F$7) -> 0 | Z99: =PRODUCT(Z98,$F$7) -> 0 | AA99: =PRODUCT(AA98,$F$7) -> 0 | AB99: =PRODUCT(AB98,$F$7) -> 0 | AC99: =PRODUCT(AC98,$F$7) -> 0 | AD99: =PRODUCT(AD98,$F$7) -> 0 | AE99: =PRODUCT(AE98,$F$7) -> 0.02 | AF99: =PRODUCT(AF98,$F$7) -> 0 | ... BR99: =PRODUCT(BR98,$F$7) -> 0
B101: ЦЕНА ЗА КИЛОГРАММ (покупная) | C101: руб | D101: =D44 -> 90.9 | E101: =E44 -> 96 | F101: =F44 -> 91 | G101: =G44 -> 816 | H101: =H44 -> 1680 | I101: =I44 -> 1050 | J101: =J44 -> 90.57 | K101: =K44 -> 1166.67 | ... BR101: =BR44 -> 0
B102: ЦЕНА ЗА ГРАММ (покупная) | C102: руб | D102: =D101/1000 -> 0.0909 | E102: =E101/1000 -> 0.096 | F102: =F101/1000 -> 0.091 | G102: =G101/1000 -> 0.816 | H102: =H101/1000 -> 1.68 | I102: =I101/1000 -> 1.05 | J102: =J101/1000 -> 0.09057 | K102: =K101/1000 -> 1.16667 | ... BR102: =BR101/1000 -> 0
B103: Израсходовано на сумму (за граммы) | D103: =D99*D101 -> 0 | E103: =E99*E101 -> 0 | F103: =F99*F101 -> 1.2467 | G103: =G99*G101 -> 0 | H103: =H99*H101 -> 0 | I103: =I99*I101 -> 0 | J103: =J99*J101 -> 0.45285 | K103: =K99*K101 -> 3.50001 | ... BR103: =BR99*BR101 -> 0 | BS103: =SUM(D103:BQ103) -> 54.96157 | BT103: =BS103/$C$10 -> 54.96157
B104: Израсходовано на сумму (за кг) | D104: =D99*D101 -> 0 | E104: =E99*E101 -> 0 | F104: =F99*F101 -> 1.2467 | G104: =G99*G101 -> 0 | H104: =H99*H101 -> 0 | I104: =I99*I101 -> 0 | J104: =J99*J101 -> 0.45285 | K104: =K99*K101 -> 3.50001 | ... BR104: =BR99*BR101 -> 0 | BS104: =SUM(D104:BQ104) -> 54.96157 | BT104: =BS104/$C$10 -> 54.96157
B105: P/S: Итого к выдаче Яйцо- указано в шт.
B106: Цена за яйцо, указана за 1 шт.
J108: человек (1,5 - 3 года) | K108: детей в количестве | L108: 0 | AD108: на 04.03.2019
B109: Наименование продуктов | C109: Кол-во человек | D109: =D53 -> Хлеб пшеничный | E109: =E53 -> Хлеб ржано-пшеничный | F109: =F53 -> Сахар | G109: =G53 -> Чай | H109: =H53 -> Какао | I109: =I53 -> Кофейный напиток | J109: =J53 -> Молоко 2,5% | K109: =K53 -> Масло сливочное | ... V109: =V53 -> Огурцы консервирован. | X109: =X53 -> Яйцо | Y109: =Y53 -> Икра кабачковая | Z109: =Z53 -> Изюм | AA109: =AA53 -> Курага | AB109: =AB53 -> Чернослив | AC109: =AC53 -> Шиповник | AD109: =AD53 -> Сухофрукты | AE109: =AE53 -> Ягода свежемороженная | ... BR109: =BR53 -> Лимонная кислота | BS109: Итого расход за день | BT109: ИТОГО на 1 Чел
B110: Меню
A111: Ужин | B111: =B28 -> Омлет | C111: =$F$7 -> 1 | D111: =D28 -> 0 | E111: =E28 -> 0 | F111: =F28 -> 0 | G111: =G28 -> 0 | H111: =H28 -> 0 | I111: =I28 -> 0 | J111: =J28 -> 0.03 | K111: =K28 -> 0.002 | ... BR111: =BR28 -> 0
B112: =B29 -> Хлеб пшеничный | D112: =D29 -> 0.02 | E112: =E29 -> 0 | F112: =F29 -> 0 | G112: =G29 -> 0 | H112: =H29 -> 0 | I112: =I29 -> 0 | J112: =J29 -> 0 | K112: =K29 -> 0 | ... BR112: =BR29 -> 0
B113: =B30 -> Чай с сахаром | D113: =D30 -> 0 | E113: =E30 -> 0 | F113: =F30 -> 0.008 | G113: =G30 -> 0.0005 | H113: =H30 -> 0 | I113: =I30 -> 0 | J113: =J30 -> 0 | K113: =K30 -> 0 | ... BR113: =BR30 -> 0
B114: Итого на 1 чел | D114: =SUM(D111:D113) -> 0.02 | E114: =SUM(E111:E113) -> 0 | F114: =SUM(F111:F113) -> 0.008 | G114: =SUM(G111:G113) -> 0.0005 | H114: =SUM(H111:H113) -> 0 | I114: =SUM(I111:I113) -> 0 | J114: =SUM(J111:J113) -> 0.03 | K114: =SUM(K111:K113) -> 0.002 | ... BR114: =SUM(BR111:BR113) -> 0
B115: Итого к выдаче, ГРАММ (на всех) | D115: =PRODUCT(D114,$F$7) -> 0.02 | E115: =PRODUCT(E114,$F$7) -> 0 | F115: =PRODUCT(F114,$F$7) -> 0.008 | G115: =PRODUCT(G114,$F$7) -> 0.0005 | H115: =PRODUCT(H114,$F$7) -> 0 | I115: =PRODUCT(I114,$F$7) -> 0 | J115: =PRODUCT(J114,$F$7) -> 0.03 | K115: =PRODUCT(K114,$F$7) -> 0.002 | ... BR115: =PRODUCT(BR114,$F$7) -> 0
B117: ЦЕНА ЗА КИЛОГРАММ (покупная) | C117: руб | D117: =D44 -> 90.9 | E117: =E44 -> 96 | F117: =F44 -> 91 | G117: =G44 -> 816 | H117: =H44 -> 1680 | I117: =I44 -> 1050 | J117: =J44 -> 90.57 | K117: =K44 -> 1166.67 | ... BR117: =BR44 -> 0
B118: ЦЕНА ЗА ГРАММ (покупная) | C118: руб | D118: =D117/1000 -> 0.0909 | E118: =E117/1000 -> 0.096 | F118: =F117/1000 -> 0.091 | G118: =G117/1000 -> 0.816 | H118: =H117/1000 -> 1.68 | I118: =I117/1000 -> 1.05 | J118: =J117/1000 -> 0.09057 | K118: =K117/1000 -> 1.16667 | ... BR118: =BR117/1000 -> 0
B119: Израсходовано на сумму (за граммы) | D119: =D115*D117 -> 1.818 | E119: =E115*E117 -> 0 | F119: =F115*F117 -> 0.728 | G119: =G115*G117 -> 0.408 | H119: =H115*H117 -> 0 | I119: =I115*I117 -> 0 | J119: =J115*J117 -> 2.7171 | K119: =K115*K117 -> 2.33334 | ... BR119: =BR115*BR117 -> 0 | BS119: =SUM(D119:BQ119) -> 17.43044 | BT119: =BS119/$C$10 -> 17.43044
B120: Израсходовано на сумму (за кг) | D120: =D115*D117 -> 1.818 | E120: =E115*E117 -> 0 | F120: =F115*F117 -> 0.728 | G120: =G115*G117 -> 0.408 | H120: =H115*H117 -> 0 | I120: =I115*I117 -> 0 | J120: =J115*J117 -> 2.7171 | K120: =K115*K117 -> 2.33334 | ... BR120: =BR115*BR117 -> 0 | BS120: =SUM(D120:BQ120) -> 17.43044 | BT120: =BS120/$C$10 -> 17.43044
B121: P/S: Итого к выдаче Яйцо- указано в шт.
B122: Цена за яйцо, указана за 1 шт. | BT122: =BT66 -> 30.79809
BT123: =BT86 -> 52.0441
...

Sheet ОВЗ 3-7 лет
A1: Утверждаю
A2: Заведующий МКДОУ Ташаринский детский сад "Лесовичок" | H2: Меню - требование на выдачу продуктов питания | J2: Меню - требование на выдачу продуктов питания
A3: _________________ Чугуева Т.В.
A4: подпись | H4: Учреждение МКДОУ "Ташаринский детский сад"Лесовичок" | J4: Учреждение МКДОУ "Ташаринский детский сад"Лесовичок"
H5: Ответственное лицо Романашенко Г.М. | J5: Ответственное лицо Романашенко Г.М.
B7: ОВЗ | C7: детей в количестве | E7: 1 | F7: человек (3 - 7 лет) на | K7: =' 3-7 лет (день 9) '!K7 -> 46266
B8: Наименование продуктов | C8: Кол-во человек | D8: =[1]Цены!A1 -> Хлеб пшеничный | E8: =[1]Цены!B1 -> Хлеб ржано-пшеничный | F8: =[1]Цены!C1 -> Сахар | G8: =[1]Цены!D1 -> Чай | H8: =[1]Цены!E1 -> Какао | I8: =[1]Цены!F1 -> Кофейный напиток | J8: =[1]Цены!G1 -> Молоко 2,5% | K8: =[1]Цены!H1 -> Масло сливочное | ... AE8: =[1]Цены!AB1 -> Ягода свежемороженная | AF8: =' 3-7 лет (день 9) '!AF8:AF9 -> Апельсин | AG8: =' 3-7 лет (день 9) '!AG8:AG9 -> Банан | AH8: =' 3-7 лет (день 9) '!AH8:AH9 -> Лимон | AI8: =' 3-7 лет (день 9) '!AI8:AI9 -> Яблоко | AJ8: =[1]Цены!AD1 -> Кисель | AK8: =[1]Цены!AE1 -> Сок | AL8: =[1]Цены!AF1 -> Макаронные изделия | AM8: =[1]Цены!AG1 -> Мука | AN8: =[1]Цены!AH1 -> Дрожжи | AO8: =[1]Цены!AI1 -> Печенье | AP8: =[1]Цены!AJ1 -> Пряники | AQ8: =[1]Цены!AK1 -> Вафли | ... BQ8: =[1]Цены!BK1 -> Соль | BR8: Лимонная кислота | BS8: Итого расход за день | BT8: ИТОГО на 1 Чел
B9: Меню
A10: Завтрак | B10: =' 3-7 лет (день 9) '!B10 -> Каша манная молочная | C10: =$E$7 -> 1 | F10: 0.005 | J10: 0.13 | K10: 0.003 | AX10: 0.02 | BQ10: 0.001
B11: =' 3-7 лет (день 9) '!B11 -> Бутерброд с маслом | D11: 0.03 | K11: 0.005
B12: =' 3-7 лет (день 9) '!B12 -> Какао с молоком | F12: 0.011 | H12: 0.0012 | J12: 0.096
A15: Обед | B15: =' 3-7 лет (день 9) '!B15 -> Суп шахтерский | C15: =$E$7 -> 1 | K15: 0.004 | L15: 0.007 | AV15: 0.008 | BD15: 0.029 | BJ15: 0.1 | BK15: 0.0125 | BL15: 0.013 | BP15: 0.003 | BQ15: 0.002
B16: =' 3-7 лет (день 9) '!B16 -> Капуста, тушеная с мясом | K16: 0.002 | BD16: 0.04 | BF16: 0.007 | BK16: 0.008 | BL16: 0.015 | BM16: 0.19 | BO16: 0.003 | BP16: 0.004 | BQ16: 0.002
B17: =' 3-7 лет (день 9) '!B17 -> Хлеб пшеничный | D17: 0.03
B18: =' 3-7 лет (день 9) '!B18 -> Хлеб ржано-пшеничный | E18: 0.05
B19: =' 3-7 лет (день 9) '!B19 -> Компот из сухофруктов | F19: 0.015 | AD19: 0.022 | BR19: 5e-05
A23: Полдник | B23: =' 3-7 лет (день 9) '!B23 -> Компот из свеж. морож. ягод | C23: =$E$7 -> 1 | F23: 0.014 | AE23: 0.025
B24: =' 3-7 лет (день 9) '!B24 -> Пирожок рыбный | F24: 0.002 | J24: 0.008 | K24: 0.003 | U24: 0.0208 | X24: 0.1 | AM24: 0.033 | AN24: 0.00139 | BC24: 0.004 | BL24: 0.003 | BP24: 0.001
B25: =' 3-7 лет (день 9) '!B25 -> Яблоко
A28: Ужин | B28: =' 3-7 лет (день 9) '!B28 -> Омлет | C28: =$E$7 -> 1 | J28: 0.045 | K28: 0.002 | X28: 1 | BQ28: 0.001
B29: =' 3-7 лет (день 9) '!B29 -> Хлеб пшеничный | D29: 0.02
B30: =' 3-7 лет (день 9) '!B30 -> Чай с сахаром | F30: 0.012 | G30: 0.0006
B31: Итого на 1 чел | D31: =SUM(D10:D30) -> 0.08 | E31: =SUM(E10:E30) -> 0.05 | F31: =SUM(F10:F30) -> 0.059 | G31: =SUM(G10:G30) -> 0.0006 | H31: =SUM(H10:H30) -> 0.0012 | I31: =SUM(I10:I30) -> 0 | J31: =SUM(J10:J30) -> 0.279 | K31: =SUM(K10:K30) -> 0.019 | ... BR31: =SUM(BR10:BR30) -> 5e-05
B32: К выдаче, ГРАММ (на всех) | D32: =ROUND(PRODUCT(D31,$E$7),3) -> 0.08 | E32: =ROUND(PRODUCT(E31,$E$7),3) -> 0.05 | F32: =ROUND(PRODUCT(F31,$E$7),3) -> 0.059 | G32: =ROUND(PRODUCT(G31,$E$7),3) -> 0.001 | H32: =ROUND(PRODUCT(H31,$E$7),3) -> 0.001 | I32: =ROUND(PRODUCT(I31,$E$7),3) -> 0 | J32: =ROUND(PRODUCT(J31,$E$7),3) -> 0.279 | K32: =ROUND(PRODUCT(K31,$E$7),3) -> 0.019 | ... BR32: =ROUND(PRODUCT(BR31,$E$7),3) -> 0
D34: Ответственный калькулятор | H34: _________________ | K34: С.В.Залевская
D35: исполнитель | F35: должность | H35: подпись
F37: Повар | H37: ___________________ | K37: =' 3-7 лет (день 9) '!K39 -> 0
H38: подпись
B45: ЦЕНА ЗА КИЛОГРАММ (покупная) | C45: руб | D45: 90.9 | E45: 96 | F45: 91 | G45: 816 | H45: 1680 | I45: 1050 | J45: 90.57 | K45: 1166.67 | L45: 255.2 | M45: 833 | N45: 126.38 | O45: 387.53 | P45: 663.16 | Q45: 526.67 | R45: 1295 | U45: 1012 | V45: 470.67 | W45: 348 | X45: 9.4 | Y45: 266.5 | Z45: 367 | AA45: 524 | AB45: 330 | AC45: 299 | AD45: 148 | AE45: 842 | AG45: 180 | AH45: 359 | AI45: 160 | AJ45: 309.1 | AK45: 94 | AL45: 73 | AM45: 51.6 | AN45: 250 | AO45: 272 | AQ45: 425 | AR45: 800 | AS45: 294.25 | AT45: 95 | AU45: 87.33 | AV45: 73.33 | AW45: 80 | AX45: 89.29 | AY45: 63.75 | AZ45: 104.62 | BA45: 81.33 | BB45: 71.67 | BC45: 152.67 | BD45: 378 | BE45: 574 | BF45: 696 | BG45: 324 | BH45: 604 | BJ45: 38 | BK45: 38 | BL45: 33 | BM45: 43 | BN45: 43 | BO45: 306.32 | BP45: 190 | BQ45: 26
B46: ЦЕНА ЗА ГРАММ (покупная) | C46: руб | D46: =D45/1000 -> 0.0909 | E46: =E45/1000 -> 0.096 | F46: =F45/1000 -> 0.091 | G46: =G45/1000 -> 0.816 | H46: =H45/1000 -> 1.68 | I46: =I45/1000 -> 1.05 | J46: =J45/1000 -> 0.09057 | K46: =K45/1000 -> 1.16667 | ... BR46: =BR45/1000 -> 0
B47: Израсходовано на сумму (за граммы) | D47: =D32*D45 -> 7.272 | E47: =E32*E45 -> 4.8 | F47: =F32*F45 -> 5.369 | G47: =G32*G45 -> 0.816 | H47: =H32*H45 -> 1.68 | I47: =I32*I45 -> 0 | J47: =J32*J45 -> 25.26903 | K47: =K32*K45 -> 22.16673 | ... BR47: =BR32*BR45 -> 0 | BS47: =SUM(D47:BQ47) -> 177.33304 | BT47: =BS47/$C$23 -> 177.33304
B48: Израсходовано на сумму (за кг) | D48: =D32*D45 -> 7.272 | E48: =E32*E45 -> 4.8 | F48: =F32*F45 -> 5.369 | G48: =G32*G45 -> 0.816 | H48: =H32*H45 -> 1.68 | I48: =I32*I45 -> 0 | J48: =J32*J45 -> 25.26903 | K48: =K32*K45 -> 22.16673 | ... BR48: =BR32*BR45 -> 0 | BS48: =SUM(D48:BQ48) -> 177.33304 | BT48: =BS48/$C$23 -> 177.33304
B49: P/S: Итого к выдаче Яйцо- указано в шт. | D49: =D68+D86+D102+D116 -> 7.272 | E49: =E68+E86+E102+E116 -> 4.8 | F49: =F68+F86+F102+F116 -> 5.369 | G49: =G68+G86+G102+G116 -> 0.4896 | H49: =H68+H86+H102+H116 -> 2.016 | I49: =I68+I86+I102+I116 -> 0 | J49: =J68+J86+J102+J116 -> 25.26903 | K49: =K68+K86+K102+K116 -> 22.16673 | ... BR49: =BR68+BR86+BR102+BR116 -> 0
B50: Цена за яйцо, указана за 1 шт. | BT50: =BT67+BT85+BT102+BT115 -> 177.21874
B55: Наименование продуктов | C55: Кол-во человек | D55: =D8 -> Хлеб пшеничный | E55: =E8 -> Хлеб ржано-пшеничный | F55: =F8 -> Сахар | G55: =G8 -> Чай | H55: =H8 -> Какао | I55: =I8 -> Кофейный напиток | J55: =J8 -> Молоко 2,5% | K55: =K8 -> Масло сливочное | ... V55: =V8 -> Огурцы консервирован. | X55: =X8 -> Яйцо | Y55: =Y8 -> Икра кабачковая | Z55: =Z8 -> Изюм | AA55: =AA8 -> Курага | AB55: =AB8 -> Чернослив | AC55: =AC8 -> Шиповник | AD55: =AD8 -> Сухофрукты | AE55: =AE8 -> Ягода свежемороженная | ... BR55: =BR8 -> Лимонная кислота | BS55: Итого расход за день | BT55: ИТОГО на 1 Чел
B56: Меню
A57: Завтрак | B57: =B10 -> Каша манная молочная | C57: =$E$7 -> 1 | D57: =D10 -> 0 | E57: =E10 -> 0 | F57: =F10 -> 0.005 | G57: =G10 -> 0 | H57: =H10 -> 0 | I57: =I10 -> 0 | J57: =J10 -> 0.13 | K57: =K10 -> 0.003 | ... BR57: =BR10 -> 0
B58: =B11 -> Бутерброд с маслом | D58: =D11 -> 0.03 | E58: =E11 -> 0 | F58: =F11 -> 0 | G58: =G11 -> 0 | H58: =H11 -> 0 | I58: =I11 -> 0 | J58: =J11 -> 0 | K58: =K11 -> 0.005 | ... BR58: =BR11 -> 0
B59: =B12 -> Какао с молоком | D59: =D12 -> 0 | E59: =E12 -> 0 | F59: =F12 -> 0.011 | G59: =G12 -> 0 | H59: =H12 -> 0.0012 | I59: =I12 -> 0 | J59: =J12 -> 0.096 | K59: =K12 -> 0 | ... BR59: =BR12 -> 0
B60: =B13 -> 0 | D60: =D13 -> 0 | E60: =E13 -> 0 | F60: =F13 -> 0 | G60: =G13 -> 0 | H60: =H13 -> 0 | I60: =I13 -> 0 | J60: =J13 -> 0 | K60: =K13 -> 0 | ... BR60: =BR13 -> 0
B61: =B14 -> 0 | D61: =D14 -> 0 | E61: =E14 -> 0 | F61: =F14 -> 0 | G61: =G14 -> 0 | H61: =H14 -> 0 | I61: =I14 -> 0 | J61: =J14 -> 0 | K61: =K14 -> 0 | ... BR61: =BR14 -> 0
B62: Итого на 1 чел | D62: =SUM(D57:D61) -> 0.03 | E62: =SUM(E57:E61) -> 0 | F62: =SUM(F57:F61) -> 0.016 | G62: =SUM(G57:G61) -> 0 | H62: =SUM(H57:H61) -> 0.0012 | I62: =SUM(I57:I61) -> 0 | J62: =SUM(J57:J61) -> 0.226 | K62: =SUM(K57:K61) -> 0.008 | ... BR62: =SUM(BR57:BR61) -> 0
B63: Итого к выдаче, ГРАММ (на всех) | D63: =PRODUCT(D62,$E$7) -> 0.03 | E63: =PRODUCT(E62,$E$7) -> 0 | F63: =PRODUCT(F62,$E$7) -> 0.016 | G63: =PRODUCT(G62,$E$7) -> 0 | H63: =PRODUCT(H62,$E$7) -> 0.0012 | I63: =PRODUCT(I62,$E$7) -> 0 | J63: =PRODUCT(J62,$E$7) -> 0.226 | K63: =PRODUCT(K62,$E$7) -> 0.008 | ... BR63: =PRODUCT(BR62,$E$7) -> 0
B65: ЦЕНА ЗА КИЛОГРАММ (покупная) | C65: руб | D65: =D45 -> 90.9 | E65: =E45 -> 96 | F65: =F45 -> 91 | G65: =G45 -> 816 | H65: =H45 -> 1680 | I65: =I45 -> 1050 | J65: =J45 -> 90.57 | K65: =K45 -> 1166.67 | ... BR65: =BR45 -> 0
B66: ЦЕНА ЗА ГРАММ (покупная) | C66: руб | D66: =D65/1000 -> 0.0909 | E66: =E65/1000 -> 0.096 | F66: =F65/1000 -> 0.091 | G66: =G65/1000 -> 0.816 | H66: =H65/1000 -> 1.68 | I66: =I65/1000 -> 1.05 | J66: =J65/1000 -> 0.09057 | K66: =K65/1000 -> 1.16667 | ... BR66: =BR65/1000 -> 0
B67: Израсходовано на сумму (за граммы) | D67: =D63*D65 -> 2.727 | E67: =E63*E65 -> 0 | F67: =F63*F65 -> 1.456 | G67: =G63*G65 -> 0 | H67: =H63*H65 -> 2.016 | I67: =I63*I65 -> 0 | J67: =J63*J65 -> 20.46882 | K67: =K63*K65 -> 9.33336 | ... BR67: =BR63*BR65 -> 0 | BS67: =SUM(D67:BQ67) -> 37.81298 | BT67: =BS67/$C$10 -> 37.81298
B68: Израсходовано на сумму (за кг) | D68: =D63*D65 -> 2.727 | E68: =E63*E65 -> 0 | F68: =F63*F65 -> 1.456 | G68: =G63*G65 -> 0 | H68: =H63*H65 -> 2.016 | I68: =I63*I65 -> 0 | J68: =J63*J65 -> 20.46882 | K68: =K63*K65 -> 9.33336 | ... BR68: =BR63*BR65 -> 0 | BS68: =SUM(D68:BQ68) -> 37.81298 | BT68: =BS68/$C$10 -> 37.81298
B71: Наименование продуктов | C71: Кол-во человек | D71: =D8 -> Хлеб пшеничный | E71: =E8 -> Хлеб ржано-пшеничный | F71: =F8 -> Сахар | G71: =G8 -> Чай | H71: =H8 -> Какао | I71: =I8 -> Кофейный напиток | J71: =J8 -> Молоко 2,5% | K71: =K8 -> Масло сливочное | ... V71: =V8 -> Огурцы консервирован. | X71: =X8 -> Яйцо | Y71: =Y8 -> Икра кабачковая | Z71: =Z8 -> Изюм | AA71: =AA8 -> Курага | AB71: =AB8 -> Чернослив | AC71: =AC8 -> Шиповник | AD71: =AD8 -> Сухофрукты | AE71: =AE8 -> Ягода свежемороженная | ... BR71: =BR8 -> Лимонная кислота | BS71: Итого расход за день | BT71: ИТОГО на 1 Чел
B72: Меню
A73: Обед | B73: =B15 -> Суп шахтерский | C73: =$E$7 -> 1 | D73: =D15 -> 0 | E73: =E15 -> 0 | F73: =F15 -> 0 | G73: =G15 -> 0 | H73: =H15 -> 0 | I73: =I15 -> 0 | J73: =J15 -> 0 | K73: =K15 -> 0.004 | ... BR73: =BR15 -> 0
B74: =B16 -> Капуста, тушеная с мясом | D74: =D16 -> 0 | E74: =E16 -> 0 | F74: =F16 -> 0 | G74: =G16 -> 0 | H74: =H16 -> 0 | I74: =I16 -> 0 | J74: =J16 -> 0 | K74: =K16 -> 0.002 | ... BR74: =BR16 -> 0
B75: =B17 -> Хлеб пшеничный | D75: =D17 -> 0.03 | E75: =E17 -> 0 | F75: =F17 -> 0 | G75: =G17 -> 0 | H75: =H17 -> 0 | I75: =I17 -> 0 | J75: =J17 -> 0 | K75: =K17 -> 0 | ... BR75: =BR17 -> 0
B76: =B18 -> Хлеб ржано-пшеничный | D76: =D18 -> 0 | E76: =E18 -> 0.05 | F76: =F18 -> 0 | G76: =G18 -> 0 | H76: =H18 -> 0 | I76: =I18 -> 0 | J76: =J18 -> 0 | K76: =K18 -> 0 | ... BR76: =BR18 -> 0
B77: =B19 -> Компот из сухофруктов | D77: =D19 -> 0 | E77: =E19 -> 0 | F77: =F19 -> 0.015 | G77: =G19 -> 0 | H77: =H19 -> 0 | I77: =I19 -> 0 | J77: =J19 -> 0 | K77: =K19 -> 0 | ... BR77: =BR19 -> 5e-05
B78: =B20 -> 0 | D78: =D20 -> 0 | E78: =E20 -> 0 | F78: =F20 -> 0 | G78: =G20 -> 0 | H78: =H20 -> 0 | I78: =I20 -> 0 | J78: =J20 -> 0 | K78: =K20 -> 0 | ... BR78: =BR20 -> 0
B79: =B21 -> 0 | D79: =D21 -> 0 | E79: =E21 -> 0 | F79: =F21 -> 0 | G79: =G21 -> 0 | H79: =H21 -> 0 | I79: =I21 -> 0 | J79: =J21 -> 0 | K79: =K21 -> 0 | ... BR79: =BR21 -> 0
B80: Итого на 1 чел | D80: =SUM(D73:D79) -> 0.03 | E80: =SUM(E73:E79) -> 0.05 | F80: =SUM(F73:F79) -> 0.015 | G80: =SUM(G73:G79) -> 0 | H80: =SUM(H73:H79) -> 0 | I80: =SUM(I73:I79) -> 0 | J80: =SUM(J73:J79) -> 0 | K80: =SUM(K73:K79) -> 0.006 | ... BR80: =SUM(BR73:BR79) -> 5e-05
B81: Итого к выдаче, ГРАММ (на всех) | D81: =PRODUCT(D80,$E$7) -> 0.03 | E81: =PRODUCT(E80,$E$7) -> 0.05 | F81: =PRODUCT(F80,$E$7) -> 0.015 | G81: =PRODUCT(G80,$E$7) -> 0 | H81: =PRODUCT(H80,$E$7) -> 0 | I81: =PRODUCT(I80,$E$7) -> 0 | J81: =PRODUCT(J80,$E$7) -> 0 | K81: =PRODUCT(K80,$E$7) -> 0.006 | ... BR81: =PRODUCT(BR80,$E$7) -> 5e-05
B83: ЦЕНА ЗА КИЛОГРАММ (покупная) | C83: руб | D83: =D45 -> 90.9 | E83: =E45 -> 96 | F83: =F45 -> 91 | G83: =G45 -> 816 | H83: =H45 -> 1680 | I83: =I45 -> 1050 | J83: =J45 -> 90.57 | K83: =K45 -> 1166.67 | ... AE83: =AE45 -> 842 | AH83: =AH45 -> 359 | AJ83: =AJ45 -> 309.1 | AK83: =AK45 -> 94 | AL83: =AL45 -> 73 | AM83: =AM45 -> 51.6 | AN83: =AN45 -> 250 | AO83: =AO45 -> 272 | AP83: =AP45 -> 0 | AQ83: =AQ45 -> 425 | ... BR83: =BR45 -> 0
B84: ЦЕНА ЗА ГРАММ (покупная) | C84: руб | D84: =D83/1000 -> 0.0909 | E84: =E83/1000 -> 0.096 | F84: =F83/1000 -> 0.091 | G84: =G83/1000 -> 0.816 | H84: =H83/1000 -> 1.68 | I84: =I83/1000 -> 1.05 | J84: =J83/1000 -> 0.09057 | K84: =K83/1000 -> 1.16667 | ... BR84: =BR83/1000 -> 0
B85: Израсходовано на сумму (за граммы) | D85: =D81*D83 -> 2.727 | E85: =E81*E83 -> 4.8 | F85: =F81*F83 -> 1.365 | G85: =G81*G83 -> 0 | H85: =H81*H83 -> 0 | I85: =I81*I83 -> 0 | J85: =J81*J83 -> 0 | K85: =K81*K83 -> 7.00002 | ... BR85: =BR81*BR83 -> 0 | BS85: =SUM(D85:BQ85) -> 68.50102 | BT85: =BS85/$C$10 -> 68.50102
B86: Израсходовано на сумму (за кг) | D86: =D81*D83 -> 2.727 | E86: =E81*E83 -> 4.8 | F86: =F81*F83 -> 1.365 | G86: =G81*G83 -> 0 | H86: =H81*H83 -> 0 | I86: =I81*I83 -> 0 | J86: =J81*J83 -> 0 | K86: =K81*K83 -> 7.00002 | ... AH86: =AH81*AH83 -> 0 | AJ86: =AJ81*AJ83 -> 0 | AK86: =AK81*AK83 -> 0 | AL86: =AL81*AL83 -> 0 | AM86: =AM81*AM83 -> 0 | AN86: =AN81*AN83 -> 0 | AO86: =AO81*AO83 -> 0 | AP86: =AP81*AP83 -> 0 | AQ86: =AQ81*AQ83 -> 0 | ... BR86: =BR81*BR83 -> 0 | BS86: =SUM(D86:BQ86) -> 68.50102 | BT86: =BS86/$C$10 -> 68.50102
B89: Наименование продуктов | C89: Кол-во человек | D89: =D8 -> Хлеб пшеничный | E89: =E8 -> Хлеб ржано-пшеничный | F89: =F8 -> Сахар | G89: =G8 -> Чай | H89: =H8 -> Какао | I89: =I8 -> Кофейный напиток | J89: =J8 -> Молоко 2,5% | K89: =K8 -> Масло сливочное | ... V89: =V8 -> Огурцы консервирован. | X89: =X8 -> Яйцо | Y89: =Y8 -> Икра кабачковая | Z89: =Z8 -> Изюм | AA89: =AA8 -> Курага | AB89: =AB8 -> Чернослив | AC89: =AC8 -> Шиповник | AD89: =AD8 -> Сухофрукты | AE89: =AE8 -> Ягода свежемороженная | ... BR89: =BR8 -> Лимонная кислота | BS89: Итого расход за день | BT89: ИТОГО на 1 Чел
B90: Меню
A91: Полдник | B91: =B23 -> Компот из свеж. морож. ягод | C91: =$E$7 -> 1 | D91: =D23 -> 0 | E91: =E23 -> 0 | F91: =F23 -> 0.014 | G91: =G23 -> 0 | H91: =H23 -> 0 | I91: =I23 -> 0 | J91: =J23 -> 0 | K91: =K23 -> 0 | ... BR91: =BR23 -> 0
B92: =B24 -> Пирожок рыбный | D92: =D24 -> 0 | E92: =E24 -> 0 | F92: =F24 -> 0.002 | G92: =G24 -> 0 | H92: =H24 -> 0 | I92: =I24 -> 0 | J92: =J24 -> 0.008 | K92: =K24 -> 0.003 | ... BR92: =BR24 -> 0
B93: =B25 -> Яблоко | D93: =D25 -> 0 | E93: =E25 -> 0 | F93: =F25 -> 0 | G93: =G25 -> 0 | H93: =H25 -> 0 | I93: =I25 -> 0 | J93: =J25 -> 0 | K93: =K25 -> 0 | ... BR93: =BR25 -> 0
B94: =B26 -> 0 | D94: =D26 -> 0 | E94: =E26 -> 0 | F94: =F26 -> 0 | G94: =G26 -> 0 | H94: =H26 -> 0 | I94: =I26 -> 0 | J94: =J26 -> 0 | K94: =K26 -> 0 | ... BR94: =BR26 -> 0
B95: =B27 -> 0 | D95: =D27 -> 0 | E95: =E27 -> 0 | F95: =F27 -> 0 | G95: =G27 -> 0 | H95: =H27 -> 0 | I95: =I27 -> 0 | J95: =J27 -> 0 | K95: =K27 -> 0 | ... BR95: =BR27 -> 0
B96: Итого на 1 чел | D96: =SUM(D91:D95) -> 0 | E96: =SUM(E91:E95) -> 0 | F96: =SUM(F91:F95) -> 0.016 | G96: =SUM(G91:G95) -> 0 | H96: =SUM(H91:H95) -> 0 | I96: =SUM(I91:I95) -> 0 | J96: =SUM(J91:J95) -> 0.008 | K96: =SUM(K91:K95) -> 0.003 | ... BR96: =SUM(BR91:BR95) -> 0
B97: Итого к выдаче, ГРАММ (на всех) | D97: =PRODUCT(D96,$E$7) -> 0 | E97: =PRODUCT(E96,$E$7) -> 0 | F97: =PRODUCT(F96,$E$7) -> 0.016 | G97: =PRODUCT(G96,$E$7) -> 0 | H97: =PRODUCT(H96,$E$7) -> 0 | I97: =PRODUCT(I96,$E$7) -> 0 | J97: =PRODUCT(J96,$E$7) -> 0.008 | K97: =PRODUCT(K96,$E$7) -> 0.003 | ... BR97: =PRODUCT(BR96,$E$7) -> 0
B99: ЦЕНА ЗА КИЛОГРАММ (покупная) | C99: руб | D99: =D45 -> 90.9 | E99: =E45 -> 96 | F99: =F45 -> 91 | G99: =G45 -> 816 | H99: =H45 -> 1680 | I99: =I45 -> 1050 | J99: =J45 -> 90.57 | K99: =K45 -> 1166.67 | ... AE99: =AE45 -> 842 | AH99: =AH45 -> 359 | AJ99: =AJ45 -> 309.1 | AK99: =AK45 -> 94 | AL99: =AL45 -> 73 | AM99: =AM45 -> 51.6 | AN99: =AN45 -> 250 | AO99: =AO45 -> 272 | AP99: =AP45 -> 0 | AQ99: =AQ45 -> 425 | ... BR99: =BR45 -> 0
B100: ЦЕНА ЗА ГРАММ (покупная) | C100: руб | D100: =D99/1000 -> 0.0909 | E100: =E99/1000 -> 0.096 | F100: =F99/1000 -> 0.091 | G100: =G99/1000 -> 0.816 | H100: =H99/1000 -> 1.68 | I100: =I99/1000 -> 1.05 | J100: =J99/1000 -> 0.09057 | K100: =K99/1000 -> 1.16667 | ... BR100: =BR99/1000 -> 0
B101: Израсходовано на сумму (за граммы) | D101: =D97*D99 -> 0 | E101: =E97*E99 -> 0 | F101: =F97*F99 -> 1.456 | G101: =G97*G99 -> 0 | H101: =H97*H99 -> 0 | I101: =I97*I99 -> 0 | J101: =J97*J99 -> 0.72456 | K101: =K97*K99 -> 3.50001 | ... BR101: =BR97*BR99 -> 0 | BS101: =SUM(D101:BQ101) -> 51.67015 | BT101: =BS101/$C$23 -> 51.67015
B102: Израсходовано на сумму (за кг) | D102: =D97*D99 -> 0 | E102: =E97*E99 -> 0 | F102: =F97*F99 -> 1.456 | G102: =G97*G99 -> 0 | H102: =H97*H99 -> 0 | I102: =I97*I99 -> 0 | J102: =J97*J99 -> 0.72456 | K102: =K97*K99 -> 3.50001 | ... BR102: =BR97*BR99 -> 0 | BS102: =SUM(D102:BQ102) -> 51.67015 | BT102: =BS102/$C$23 -> 51.67015
B105: Наименование продуктов | C105: Кол-во человек | D105: =D8 -> Хлеб пшеничный | E105: =E8 -> Хлеб ржано-пшеничный | F105: =F8 -> Сахар | G105: =G8 -> Чай | H105: =H8 -> Какао | I105: =I8 -> Кофейный напиток | J105: =J8 -> Молоко 2,5% | K105: =K8 -> Масло сливочное | ... V105: =V8 -> Огурцы консервирован. | X105: =X8 -> Яйцо | Y105: =Y8 -> Икра кабачковая | Z105: =Z8 -> Изюм | AA105: =AA8 -> Курага | AB105: =AB8 -> Чернослив | AC105: =AC8 -> Шиповник | AD105: =AD8 -> Сухофрукты | AE105: =AE8 -> Ягода свежемороженная | ... BR105: =BR8 -> Лимонная кислота | BS105: Итого расход за день | BT105: ИТОГО на 1 Чел
B106: Меню
A107: Ужин | B107: =B28 -> Омлет | C107: =$E$7 -> 1 | D107: =D28 -> 0 | E107: =E28 -> 0 | F107: =F28 -> 0 | G107: =G28 -> 0 | H107: =H28 -> 0 | I107: =I28 -> 0 | J107: =J28 -> 0.045 | K107: =K28 -> 0.002 | ... BR107: =BR28 -> 0
B108: =B29 -> Хлеб пшеничный | D108: =D29 -> 0.02 | E108: =E29 -> 0 | F108: =F29 -> 0 | G108: =G29 -> 0 | H108: =H29 -> 0 | I108: =I29 -> 0 | J108: =J29 -> 0 | K108: =K29 -> 0 | ... BR108: =BR29 -> 0
B109: =B30 -> Чай с сахаром | D109: =D30 -> 0 | E109: =E30 -> 0 | F109: =F30 -> 0.012 | G109: =G30 -> 0.0006 | H109: =H30 -> 0 | I109: =I30 -> 0 | J109: =J30 -> 0 | K109: =K30 -> 0 | ... BR109: =BR30 -> 0
B110: Итого на 1 чел | D110: =SUM(D107:D109) -> 0.02 | E110: =SUM(E107:E109) -> 0 | F110: =SUM(F107:F109) -> 0.012 | G110: =SUM(G107:G109) -> 0.0006 | H110: =SUM(H107:H109) -> 0 | I110: =SUM(I107:I109) -> 0 | J110: =SUM(J107:J109) -> 0.045 | K110: =SUM(K107:K109) -> 0.002 | ... BR110: =SUM(BR107:BR109) -> 0
B111: Итого к выдаче, ГРАММ (на всех) | D111: =PRODUCT(D110,$E$7) -> 0.02 | E111: =PRODUCT(E110,$E$7) -> 0 | F111: =PRODUCT(F110,$E$7) -> 0.012 | G111: =PRODUCT(G110,$E$7) -> 0.0006 | H111: =PRODUCT(H110,$E$7) -> 0 | I111: =PRODUCT(I110,$E$7) -> 0 | J111: =PRODUCT(J110,$E$7) -> 0.045 | K111: =PRODUCT(K110,$E$7) -> 0.002 | ... BR111: =PRODUCT(BR110,$E$7) -> 0
B113: ЦЕНА ЗА КИЛОГРАММ (покупная) | C113: руб | D113: =D45 -> 90.9 | E113: =E45 -> 96 | F113: =F45 -> 91 | G113: =G45 -> 816 | H113: =H45 -> 1680 | I113: =I45 -> 1050 | J113: =J45 -> 90.57 | K113: =K45 -> 1166.67 | ... AE113: =AE45 -> 842 | AH113: =AH45 -> 359 | AJ113: =AJ45 -> 309.1 | AK113: =AK45 -> 94 | AL113: =AL45 -> 73 | AM113: =AM45 -> 51.6 | AN113: =AN45 -> 250 | AO113: =AO45 -> 272 | AP113: =AP45 -> 0 | AQ113: =AQ45 -> 425 | ... BR113: =BR45 -> 0
B114: ЦЕНА ЗА ГРАММ (покупная) | C114: руб | D114: =D113/1000 -> 0.0909 | E114: =E113/1000 -> 0.096 | F114: =F113/1000 -> 0.091 | G114: =G113/1000 -> 0.816 | H114: =H113/1000 -> 1.68 | I114: =I113/1000 -> 1.05 | J114: =J113/1000 -> 0.09057 | K114: =K113/1000 -> 1.16667 | ... BR114: =BR113/1000 -> 0
B115: Израсходовано на сумму (за граммы) | D115: =D111*D113 -> 1.818 | E115: =E111*E113 -> 0 | F115: =F111*F113 -> 1.092 | G115: =G111*G113 -> 0.4896 | H115: =H111*H113 -> 0 | I115: =I111*I113 -> 0 | J115: =J111*J113 -> 4.07565 | K115: =K111*K113 -> 2.33334 | ... BR115: =BR111*BR113 -> 0 | BS115: =SUM(D115:BQ115) -> 19.23459 | BT115: =BS115/$C$23 -> 19.23459
B116: Израсходовано на сумму (за кг) | D116: =D111*D113 -> 1.818 | E116: =E111*E113 -> 0 | F116: =F111*F113 -> 1.092 | G116: =G111*G113 -> 0.4896 | H116: =H111*H113 -> 0 | I116: =I111*I113 -> 0 | J116: =J111*J113 -> 4.07565 | K116: =K111*K113 -> 2.33334 | ... BR116: =BR111*BR113 -> 0 | BS116: =SUM(D116:BQ116) -> 19.23459 | BT116: =BS116/$C$23 -> 19.23459
BT119: =BT68 -> 37.81298
BT120: =BT86 -> 68.50102
BT121: =BT102 -> 51.67015
BT122: =BT116 -> 19.23459

Sheet СВО  3-7 лет
A1: Утверждаю
A2: Заведующий МКДОУ Ташаринский детский сад "Лесовичок" | H2: Меню - требование на выдачу продуктов питания | J2: Меню - требование на выдачу продуктов питания
A3: _________________ Чугуева Т.В.
A4: подпись | H4: Учреждение МКДОУ "Ташаринский детский сад"Лесовичок" | J4: Учреждение МКДОУ "Ташаринский детский сад"Лесовичок"
H5: Ответственное лицо Романашенко Г.М. | J5: Ответственное лицо Романашенко Г.М.
B7: СВО | C7: детей в количестве | E7: 1 | F7: человек (3 - 7 лет) на | K7: =' 3-7 лет (день 9) '!K7 -> 46266
B8: Наименование продуктов | C8: Кол-во человек | D8: =[1]Цены!A1 -> Хлеб пшеничный | E8: =[1]Цены!B1 -> Хлеб ржано-пшеничный | F8: =[1]Цены!C1 -> Сахар | G8: =[1]Цены!D1 -> Чай | H8: =[1]Цены!E1 -> Какао | I8: =[1]Цены!F1 -> Кофейный напиток | J8: =[1]Цены!G1 -> Молоко 2,5% | K8: =[1]Цены!H1 -> Масло сливочное | ... AE8: =[1]Цены!AB1 -> Ягода свежемороженная | AF8: =' 3-7 лет (день 9) '!AF8:AF9 -> Апельсин | AG8: =' 3-7 лет (день 9) '!AG8:AG9 -> Банан | AH8: =' 3-7 лет (день 9) '!AH8:AH9 -> Лимон | AI8: =' 3-7 лет (день 9) '!AI8:AI9 -> Яблоко | AJ8: =[1]Цены!AD1 -> Кисель | AK8: =[1]Цены!AE1 -> Сок | AL8: =[1]Цены!AF1 -> Макаронные изделия | AM8: =[1]Цены!AG1 -> Мука | AN8: =[1]Цены!AH1 -> Дрожжи | AO8: =[1]Цены!AI1 -> Печенье | AP8: =[1]Цены!AJ1 -> Пряники | AQ8: =[1]Цены!AK1 -> Вафли | ... BQ8: =[1]Цены!BK1 -> Соль | BR8: Лимонная кислота | BS8: Итого расход за день | BT8: ИТОГО на 1 Чел
B9: Меню
A10: Завтрак | B10: =' 3-7 лет (день 9) '!B10 -> Каша манная молочная | C10: =$E$7 -> 1 | F10: 0.005 | J10: 0.13 | K10: 0.003 | AX10: 0.02 | BQ10: 0.001
B11: =' 3-7 лет (день 9) '!B11 -> Бутерброд с маслом | D11: 0.03 | K11: 0.005
B12: =' 3-7 лет (день 9) '!B12 -> Какао с молоком | F12: 0.011 | H12: 0.0012 | J12: 0.096
A15: Обед | B15: =' 3-7 лет (день 9) '!B15 -> Суп шахтерский | C15: =$E$7 -> 1 | K15: 0.004 | L15: 0.007 | AV15: 0.008 | BD15: 0.029 | BJ15: 0.1 | BK15: 0.0125 | BL15: 0.013 | BP15: 0.003 | BQ15: 0.002
B16: =' 3-7 лет (день 9) '!B16 -> Капуста, тушеная с мясом | K16: 0.002 | BD16: 0.04 | BF16: 0.007 | BK16: 0.008 | BL16: 0.015 | BM16: 0.19 | BO16: 0.003 | BP16: 0.004 | BQ16: 0.002
B17: =' 3-7 лет (день 9) '!B17 -> Хлеб пшеничный | D17: 0.03
B18: =' 3-7 лет (день 9) '!B18 -> Хлеб ржано-пшеничный | E18: 0.05
B19: =' 3-7 лет (день 9) '!B19 -> Компот из сухофруктов | F19: 0.015 | AD19: 0.022 | BR19: 5e-05
A23: Полдник | B23: =' 3-7 лет (день 9) '!B23 -> Компот из свеж. морож. ягод | C23: =$E$7 -> 1 | F23: 0.014 | AE23: 0.025
B24: =' 3-7 лет (день 9) '!B24 -> Пирожок рыбный | F24: 0.002 | J24: 0.008 | K24: 0.003 | U24: 0.0208 | X24: 0.1 | AM24: 0.033 | AN24: 0.00139 | BC24: 0.004 | BL24: 0.003 | BP24: 0.001
B25: =' 3-7 лет (день 9) '!B25 -> Яблоко
A28: Ужин | B28: =' 3-7 лет (день 9) '!B28 -> Омлет | C28: =$E$7 -> 1 | J28: 0.045 | K28: 0.002 | X28: 1 | BQ28: 0.001
B29: =' 3-7 лет (день 9) '!B29 -> Хлеб пшеничный | D29: 0.02
B30: =' 3-7 лет (день 9) '!B30 -> Чай с сахаром | F30: 0.012 | G30: 0.0006
B31: Итого на 1 чел | D31: =SUM(D10:D30) -> 0.08 | E31: =SUM(E10:E30) -> 0.05 | F31: =SUM(F10:F30) -> 0.059 | G31: =SUM(G10:G30) -> 0.0006 | H31: =SUM(H10:H30) -> 0.0012 | I31: =SUM(I10:I30) -> 0 | J31: =SUM(J10:J30) -> 0.279 | K31: =SUM(K10:K30) -> 0.019 | ... BR31: =SUM(BR10:BR30) -> 5e-05
B32: К выдаче, ГРАММ (на всех) | D32: =ROUND(PRODUCT(D31,$E$7),3) -> 0.08 | E32: =ROUND(PRODUCT(E31,$E$7),3) -> 0.05 | F32: =ROUND(PRODUCT(F31,$E$7),3) -> 0.059 | G32: =ROUND(PRODUCT(G31,$E$7),3) -> 0.001 | H32: =ROUND(PRODUCT(H31,$E$7),3) -> 0.001 | I32: =ROUND(PRODUCT(I31,$E$7),3) -> 0 | J32: =ROUND(PRODUCT(J31,$E$7),3) -> 0.279 | K32: =ROUND(PRODUCT(K31,$E$7),3) -> 0.019 | ... BR32: =ROUND(PRODUCT(BR31,$E$7),3) -> 0
D34: Ответственный калькулятор | H34: _________________ | K34: С.В.Залевская
D35: исполнитель | F35: должность | H35: подпись
F37: Повар | H37: ___________________ | K37: =' 3-7 лет (день 9) '!K39 -> 0
H38: подпись
B46: ЦЕНА ЗА КИЛОГРАММ (покупная) | C46: руб | D46: 90.9 | E46: 96 | F46: 91 | G46: 816 | H46: 1680 | I46: 1050 | J46: 90.57 | K46: 1166.67 | L46: 255.2 | M46: 833 | N46: 126.38 | O46: 387.53 | P46: 663.16 | Q46: 526.67 | R46: 1295 | U46: 1012 | V46: 470.67 | W46: 348 | X46: 9.4 | Y46: 266.5 | Z46: 367 | AA46: 524 | AB46: 330 | AC46: 299 | AD46: 148 | AE46: 842 | AG46: 180 | AH46: 359 | AI46: 160 | AJ46: 309.1 | AK46: 94 | AL46: 73 | AM46: 51.6 | AN46: 250 | AO46: 272 | AQ46: 425 | AR46: 800 | AS46: 294.25 | AT46: 95 | AU46: 87.33 | AV46: 73.33 | AW46: 80 | AX46: 89.29 | AY46: 63.75 | AZ46: 104.62 | BA46: 81.33 | BB46: 71.67 | BC46: 152.67 | BD46: 378 | BE46: 574 | BF46: 696 | BG46: 324 | BH46: 604 | BJ46: 38 | BK46: 38 | BL46: 33 | BM46: 43 | BN46: 43 | BO46: 306.32 | BP46: 190 | BQ46: 26
B47: ЦЕНА ЗА ГРАММ (покупная) | C47: руб | D47: =D46/1000 -> 0.0909 | E47: =E46/1000 -> 0.096 | F47: =F46/1000 -> 0.091 | G47: =G46/1000 -> 0.816 | H47: =H46/1000 -> 1.68 | I47: =I46/1000 -> 1.05 | J47: =J46/1000 -> 0.09057 | K47: =K46/1000 -> 1.16667 | ... BR47: =BR46/1000 -> 0
B48: Израсходовано на сумму (за граммы) | D48: =D32*D46 -> 7.272 | E48: =E32*E46 -> 4.8 | F48: =F32*F46 -> 5.369 | G48: =G32*G46 -> 0.816 | H48: =H32*H46 -> 1.68 | I48: =I32*I46 -> 0 | J48: =J32*J46 -> 25.26903 | K48: =K32*K46 -> 22.16673 | ... BR48: =BR32*BR46 -> 0 | BS48: =SUM(D48:BQ48) -> 177.33304 | BT48: =BS48/$C$23 -> 177.33304
B49: Израсходовано на сумму (за кг) | D49: =D32*D46 -> 7.272 | E49: =E32*E46 -> 4.8 | F49: =F32*F46 -> 5.369 | G49: =G32*G46 -> 0.816 | H49: =H32*H46 -> 1.68 | I49: =I32*I46 -> 0 | J49: =J32*J46 -> 25.26903 | K49: =K32*K46 -> 22.16673 | ... BR49: =BR32*BR46 -> 0 | BS49: =SUM(D49:BQ49) -> 177.33304 | BT49: =BS49/$C$23 -> 177.33304
B50: P/S: Итого к выдаче Яйцо- указано в шт. | D50: =D69+D87+D103+D117 -> 7.272 | E50: =E69+E87+E103+E117 -> 4.8 | F50: =F69+F87+F103+F117 -> 5.369 | G50: =G69+G87+G103+G117 -> 0.4896 | H50: =H69+H87+H103+H117 -> 2.016 | I50: =I69+I87+I103+I117 -> 0 | J50: =J69+J87+J103+J117 -> 25.26903 | K50: =K69+K87+K103+K117 -> 22.16673 | ... BR50: =BR69+BR87+BR103+BR117 -> 0
B51: Цена за яйцо, указана за 1 шт. | BT51: =BT68+BT86+BT103+BT116 -> 177.21874
B56: Наименование продуктов | C56: Кол-во человек | D56: =D8 -> Хлеб пшеничный | E56: =E8 -> Хлеб ржано-пшеничный | F56: =F8 -> Сахар | G56: =G8 -> Чай | H56: =H8 -> Какао | I56: =I8 -> Кофейный напиток | J56: =J8 -> Молоко 2,5% | K56: =K8 -> Масло сливочное | ... V56: =V8 -> Огурцы консервирован. | X56: =X8 -> Яйцо | Y56: =Y8 -> Икра кабачковая | Z56: =Z8 -> Изюм | AA56: =AA8 -> Курага | AB56: =AB8 -> Чернослив | AC56: =AC8 -> Шиповник | AD56: =AD8 -> Сухофрукты | AE56: =AE8 -> Ягода свежемороженная | ... BR56: =BR8 -> Лимонная кислота | BS56: Итого расход за день | BT56: ИТОГО на 1 Чел
B57: Меню
A58: Завтрак | B58: =B10 -> Каша манная молочная | C58: =$E$7 -> 1 | D58: =D10 -> 0 | E58: =E10 -> 0 | F58: =F10 -> 0.005 | G58: =G10 -> 0 | H58: =H10 -> 0 | I58: =I10 -> 0 | J58: =J10 -> 0.13 | K58: =K10 -> 0.003 | ... BR58: =BR10 -> 0
B59: =B11 -> Бутерброд с маслом | D59: =D11 -> 0.03 | E59: =E11 -> 0 | F59: =F11 -> 0 | G59: =G11 -> 0 | H59: =H11 -> 0 | I59: =I11 -> 0 | J59: =J11 -> 0 | K59: =K11 -> 0.005 | ... BR59: =BR11 -> 0
B60: =B12 -> Какао с молоком | D60: =D12 -> 0 | E60: =E12 -> 0 | F60: =F12 -> 0.011 | G60: =G12 -> 0 | H60: =H12 -> 0.0012 | I60: =I12 -> 0 | J60: =J12 -> 0.096 | K60: =K12 -> 0 | ... BR60: =BR12 -> 0
B61: =B13 -> 0 | D61: =D13 -> 0 | E61: =E13 -> 0 | F61: =F13 -> 0 | G61: =G13 -> 0 | H61: =H13 -> 0 | I61: =I13 -> 0 | J61: =J13 -> 0 | K61: =K13 -> 0 | ... BR61: =BR13 -> 0
B62: =B14 -> 0 | D62: =D14 -> 0 | E62: =E14 -> 0 | F62: =F14 -> 0 | G62: =G14 -> 0 | H62: =H14 -> 0 | I62: =I14 -> 0 | J62: =J14 -> 0 | K62: =K14 -> 0 | ... BR62: =BR14 -> 0
B63: Итого на 1 чел | D63: =SUM(D58:D62) -> 0.03 | E63: =SUM(E58:E62) -> 0 | F63: =SUM(F58:F62) -> 0.016 | G63: =SUM(G58:G62) -> 0 | H63: =SUM(H58:H62) -> 0.0012 | I63: =SUM(I58:I62) -> 0 | J63: =SUM(J58:J62) -> 0.226 | K63: =SUM(K58:K62) -> 0.008 | ... BR63: =SUM(BR58:BR62) -> 0
B64: Итого к выдаче, ГРАММ (на всех) | D64: =PRODUCT(D63,$E$7) -> 0.03 | E64: =PRODUCT(E63,$E$7) -> 0 | F64: =PRODUCT(F63,$E$7) -> 0.016 | G64: =PRODUCT(G63,$E$7) -> 0 | H64: =PRODUCT(H63,$E$7) -> 0.0012 | I64: =PRODUCT(I63,$E$7) -> 0 | J64: =PRODUCT(J63,$E$7) -> 0.226 | K64: =PRODUCT(K63,$E$7) -> 0.008 | ... BR64: =PRODUCT(BR63,$E$7) -> 0
B66: ЦЕНА ЗА КИЛОГРАММ (покупная) | C66: руб | D66: =D46 -> 90.9 | E66: =E46 -> 96 | F66: =F46 -> 91 | G66: =G46 -> 816 | H66: =H46 -> 1680 | I66: =I46 -> 1050 | J66: =J46 -> 90.57 | K66: =K46 -> 1166.67 | ... BR66: =BR46 -> 0
B67: ЦЕНА ЗА ГРАММ (покупная) | C67: руб | D67: =D66/1000 -> 0.0909 | E67: =E66/1000 -> 0.096 | F67: =F66/1000 -> 0.091 | G67: =G66/1000 -> 0.816 | H67: =H66/1000 -> 1.68 | I67: =I66/1000 -> 1.05 | J67: =J66/1000 -> 0.09057 | K67: =K66/1000 -> 1.16667 | ... BR67: =BR66/1000 -> 0
B68: Израсходовано на сумму (за граммы) | D68: =D64*D66 -> 2.727 | E68: =E64*E66 -> 0 | F68: =F64*F66 -> 1.456 | G68: =G64*G66 -> 0 | H68: =H64*H66 -> 2.016 | I68: =I64*I66 -> 0 | J68: =J64*J66 -> 20.46882 | K68: =K64*K66 -> 9.33336 | ... BR68: =BR64*BR66 -> 0 | BS68: =SUM(D68:BQ68) -> 37.81298 | BT68: =BS68/$C$10 -> 37.81298
B69: Израсходовано на сумму (за кг) | D69: =D64*D66 -> 2.727 | E69: =E64*E66 -> 0 | F69: =F64*F66 -> 1.456 | G69: =G64*G66 -> 0 | H69: =H64*H66 -> 2.016 | I69: =I64*I66 -> 0 | J69: =J64*J66 -> 20.46882 | K69: =K64*K66 -> 9.33336 | ... BR69: =BR64*BR66 -> 0 | BS69: =SUM(D69:BQ69) -> 37.81298 | BT69: =BS69/$C$10 -> 37.81298
B72: Наименование продуктов | C72: Кол-во человек | D72: =D8 -> Хлеб пшеничный | E72: =E8 -> Хлеб ржано-пшеничный | F72: =F8 -> Сахар | G72: =G8 -> Чай | H72: =H8 -> Какао | I72: =I8 -> Кофейный напиток | J72: =J8 -> Молоко 2,5% | K72: =K8 -> Масло сливочное | ... V72: =V8 -> Огурцы консервирован. | X72: =X8 -> Яйцо | Y72: =Y8 -> Икра кабачковая | Z72: =Z8 -> Изюм | AA72: =AA8 -> Курага | AB72: =AB8 -> Чернослив | AC72: =AC8 -> Шиповник | AD72: =AD8 -> Сухофрукты | AE72: =AE8 -> Ягода свежемороженная | ... BR72: =BR8 -> Лимонная кислота | BS72: Итого расход за день | BT72: ИТОГО на 1 Чел
B73: Меню
A74: Обед | B74: =B15 -> Суп шахтерский | C74: =$E$7 -> 1 | D74: =D15 -> 0 | E74: =E15 -> 0 | F74: =F15 -> 0 | G74: =G15 -> 0 | H74: =H15 -> 0 | I74: =I15 -> 0 | J74: =J15 -> 0 | K74: =K15 -> 0.004 | ... BR74: =BR15 -> 0
B75: =B16 -> Капуста, тушеная с мясом | D75: =D16 -> 0 | E75: =E16 -> 0 | F75: =F16 -> 0 | G75: =G16 -> 0 | H75: =H16 -> 0 | I75: =I16 -> 0 | J75: =J16 -> 0 | K75: =K16 -> 0.002 | ... BR75: =BR16 -> 0
B76: =B17 -> Хлеб пшеничный | D76: =D17 -> 0.03 | E76: =E17 -> 0 | F76: =F17 -> 0 | G76: =G17 -> 0 | H76: =H17 -> 0 | I76: =I17 -> 0 | J76: =J17 -> 0 | K76: =K17 -> 0 | ... BR76: =BR17 -> 0
B77: =B18 -> Хлеб ржано-пшеничный | D77: =D18 -> 0 | E77: =E18 -> 0.05 | F77: =F18 -> 0 | G77: =G18 -> 0 | H77: =H18 -> 0 | I77: =I18 -> 0 | J77: =J18 -> 0 | K77: =K18 -> 0 | ... BR77: =BR18 -> 0
B78: =B19 -> Компот из сухофруктов | D78: =D19 -> 0 | E78: =E19 -> 0 | F78: =F19 -> 0.015 | G78: =G19 -> 0 | H78: =H19 -> 0 | I78: =I19 -> 0 | J78: =J19 -> 0 | K78: =K19 -> 0 | ... BR78: =BR19 -> 5e-05
B79: =B20 -> 0 | D79: =D20 -> 0 | E79: =E20 -> 0 | F79: =F20 -> 0 | G79: =G20 -> 0 | H79: =H20 -> 0 | I79: =I20 -> 0 | J79: =J20 -> 0 | K79: =K20 -> 0 | ... BR79: =BR20 -> 0
B80: =B21 -> 0 | D80: =D21 -> 0 | E80: =E21 -> 0 | F80: =F21 -> 0 | G80: =G21 -> 0 | H80: =H21 -> 0 | I80: =I21 -> 0 | J80: =J21 -> 0 | K80: =K21 -> 0 | ... BR80: =BR21 -> 0
B81: Итого на 1 чел | D81: =SUM(D74:D80) -> 0.03 | E81: =SUM(E74:E80) -> 0.05 | F81: =SUM(F74:F80) -> 0.015 | G81: =SUM(G74:G80) -> 0 | H81: =SUM(H74:H80) -> 0 | I81: =SUM(I74:I80) -> 0 | J81: =SUM(J74:J80) -> 0 | K81: =SUM(K74:K80) -> 0.006 | ... BR81: =SUM(BR74:BR80) -> 5e-05
B82: Итого к выдаче, ГРАММ (на всех) | D82: =PRODUCT(D81,$E$7) -> 0.03 | E82: =PRODUCT(E81,$E$7) -> 0.05 | F82: =PRODUCT(F81,$E$7) -> 0.015 | G82: =PRODUCT(G81,$E$7) -> 0 | H82: =PRODUCT(H81,$E$7) -> 0 | I82: =PRODUCT(I81,$E$7) -> 0 | J82: =PRODUCT(J81,$E$7) -> 0 | K82: =PRODUCT(K81,$E$7) -> 0.006 | ... BR82: =PRODUCT(BR81,$E$7) -> 5e-05
B84: ЦЕНА ЗА КИЛОГРАММ (покупная) | C84: руб | D84: =D46 -> 90.9 | E84: =E46 -> 96 | F84: =F46 -> 91 | G84: =G46 -> 816 | H84: =H46 -> 1680 | I84: =I46 -> 1050 | J84: =J46 -> 90.57 | K84: =K46 -> 1166.67 | ... AE84: =AE46 -> 842 | AH84: =AH46 -> 359 | AJ84: =AJ46 -> 309.1 | AK84: =AK46 -> 94 | AL84: =AL46 -> 73 | AM84: =AM46 -> 51.6 | AN84: =AN46 -> 250 | AO84: =AO46 -> 272 | AP84: =AP46 -> 0 | AQ84: =AQ46 -> 425 | ... BR84: =BR46 -> 0
B85: ЦЕНА ЗА ГРАММ (покупная) | C85: руб | D85: =D84/1000 -> 0.0909 | E85: =E84/1000 -> 0.096 | F85: =F84/1000 -> 0.091 | G85: =G84/1000 -> 0.816 | H85: =H84/1000 -> 1.68 | I85: =I84/1000 -> 1.05 | J85: =J84/1000 -> 0.09057 | K85: =K84/1000 -> 1.16667 | ... BR85: =BR84/1000 -> 0
B86: Израсходовано на сумму (за граммы) | D86: =D82*D84 -> 2.727 | E86: =E82*E84 -> 4.8 | F86: =F82*F84 -> 1.365 | G86: =G82*G84 -> 0 | H86: =H82*H84 -> 0 | I86: =I82*I84 -> 0 | J86: =J82*J84 -> 0 | K86: =K82*K84 -> 7.00002 | ... BR86: =BR82*BR84 -> 0 | BS86: =SUM(D86:BQ86) -> 68.50102 | BT86: =BS86/$C$10 -> 68.50102
B87: Израсходовано на сумму (за кг) | D87: =D82*D84 -> 2.727 | E87: =E82*E84 -> 4.8 | F87: =F82*F84 -> 1.365 | G87: =G82*G84 -> 0 | H87: =H82*H84 -> 0 | I87: =I82*I84 -> 0 | J87: =J82*J84 -> 0 | K87: =K82*K84 -> 7.00002 | ... AH87: =AH82*AH84 -> 0 | AJ87: =AJ82*AJ84 -> 0 | AK87: =AK82*AK84 -> 0 | AL87: =AL82*AL84 -> 0 | AM87: =AM82*AM84 -> 0 | AN87: =AN82*AN84 -> 0 | AO87: =AO82*AO84 -> 0 | AP87: =AP82*AP84 -> 0 | AQ87: =AQ82*AQ84 -> 0 | ... BR87: =BR82*BR84 -> 0 | BS87: =SUM(D87:BQ87) -> 68.50102 | BT87: =BS87/$C$10 -> 68.50102
B90: Наименование продуктов | C90: Кол-во человек | D90: =D8 -> Хлеб пшеничный | E90: =E8 -> Хлеб ржано-пшеничный | F90: =F8 -> Сахар | G90: =G8 -> Чай | H90: =H8 -> Какао | I90: =I8 -> Кофейный напиток | J90: =J8 -> Молоко 2,5% | K90: =K8 -> Масло сливочное | ... V90: =V8 -> Огурцы консервирован. | X90: =X8 -> Яйцо | Y90: =Y8 -> Икра кабачковая | Z90: =Z8 -> Изюм | AA90: =AA8 -> Курага | AB90: =AB8 -> Чернослив | AC90: =AC8 -> Шиповник | AD90: =AD8 -> Сухофрукты | AE90: =AE8 -> Ягода свежемороженная | ... BR90: =BR8 -> Лимонная кислота | BS90: Итого расход за день | BT90: ИТОГО на 1 Чел
B91: Меню
A92: Полдник | B92: =B23 -> Компот из свеж. морож. ягод | C92: =$E$7 -> 1 | D92: =D23 -> 0 | E92: =E23 -> 0 | F92: =F23 -> 0.014 | G92: =G23 -> 0 | H92: =H23 -> 0 | I92: =I23 -> 0 | J92: =J23 -> 0 | K92: =K23 -> 0 | ... BR92: =BR23 -> 0
B93: =B24 -> Пирожок рыбный | D93: =D24 -> 0 | E93: =E24 -> 0 | F93: =F24 -> 0.002 | G93: =G24 -> 0 | H93: =H24 -> 0 | I93: =I24 -> 0 | J93: =J24 -> 0.008 | K93: =K24 -> 0.003 | ... BR93: =BR24 -> 0
B94: =B25 -> Яблоко | D94: =D25 -> 0 | E94: =E25 -> 0 | F94: =F25 -> 0 | G94: =G25 -> 0 | H94: =H25 -> 0 | I94: =I25 -> 0 | J94: =J25 -> 0 | K94: =K25 -> 0 | ... BR94: =BR25 -> 0
B95: =B26 -> 0 | D95: =D26 -> 0 | E95: =E26 -> 0 | F95: =F26 -> 0 | G95: =G26 -> 0 | H95: =H26 -> 0 | I95: =I26 -> 0 | J95: =J26 -> 0 | K95: =K26 -> 0 | ... BR95: =BR26 -> 0
B96: =B27 -> 0 | D96: =D27 -> 0 | E96: =E27 -> 0 | F96: =F27 -> 0 | G96: =G27 -> 0 | H96: =H27 -> 0 | I96: =I27 -> 0 | J96: =J27 -> 0 | K96: =K27 -> 0 | ... BR96: =BR27 -> 0
B97: Итого на 1 чел | D97: =SUM(D92:D96) -> 0 | E97: =SUM(E92:E96) -> 0 | F97: =SUM(F92:F96) -> 0.016 | G97: =SUM(G92:G96) -> 0 | H97: =SUM(H92:H96) -> 0 | I97: =SUM(I92:I96) -> 0 | J97: =SUM(J92:J96) -> 0.008 | K97: =SUM(K92:K96) -> 0.003 | ... BR97: =SUM(BR92:BR96) -> 0
B98: Итого к выдаче, ГРАММ (на всех) | D98: =PRODUCT(D97,$E$7) -> 0 | E98: =PRODUCT(E97,$E$7) -> 0 | F98: =PRODUCT(F97,$E$7) -> 0.016 | G98: =PRODUCT(G97,$E$7) -> 0 | H98: =PRODUCT(H97,$E$7) -> 0 | I98: =PRODUCT(I97,$E$7) -> 0 | J98: =PRODUCT(J97,$E$7) -> 0.008 | K98: =PRODUCT(K97,$E$7) -> 0.003 | ... BR98: =PRODUCT(BR97,$E$7) -> 0
B100: ЦЕНА ЗА КИЛОГРАММ (покупная) | C100: руб | D100: =D46 -> 90.9 | E100: =E46 -> 96 | F100: =F46 -> 91 | G100: =G46 -> 816 | H100: =H46 -> 1680 | I100: =I46 -> 1050 | J100: =J46 -> 90.57 | K100: =K46 -> 1166.67 | ... AE100: =AE46 -> 842 | AH100: =AH46 -> 359 | AJ100: =AJ46 -> 309.1 | AK100: =AK46 -> 94 | AL100: =AL46 -> 73 | AM100: =AM46 -> 51.6 | AN100: =AN46 -> 250 | AO100: =AO46 -> 272 | AP100: =AP46 -> 0 | AQ100: =AQ46 -> 425 | ... BR100: =BR46 -> 0
B101: ЦЕНА ЗА ГРАММ (покупная) | C101: руб | D101: =D100/1000 -> 0.0909 | E101: =E100/1000 -> 0.096 | F101: =F100/1000 -> 0.091 | G101: =G100/1000 -> 0.816 | H101: =H100/1000 -> 1.68 | I101: =I100/1000 -> 1.05 | J101: =J100/1000 -> 0.09057 | K101: =K100/1000 -> 1.16667 | ... BR101: =BR100/1000 -> 0
B102: Израсходовано на сумму (за граммы) | D102: =D98*D100 -> 0 | E102: =E98*E100 -> 0 | F102: =F98*F100 -> 1.456 | G102: =G98*G100 -> 0 | H102: =H98*H100 -> 0 | I102: =I98*I100 -> 0 | J102: =J98*J100 -> 0.72456 | K102: =K98*K100 -> 3.50001 | ... BR102: =BR98*BR100 -> 0 | BS102: =SUM(D102:BQ102) -> 51.67015 | BT102: =BS102/$C$23 -> 51.67015
B103: Израсходовано на сумму (за кг) | D103: =D98*D100 -> 0 | E103: =E98*E100 -> 0 | F103: =F98*F100 -> 1.456 | G103: =G98*G100 -> 0 | H103: =H98*H100 -> 0 | I103: =I98*I100 -> 0 | J103: =J98*J100 -> 0.72456 | K103: =K98*K100 -> 3.50001 | ... BR103: =BR98*BR100 -> 0 | BS103: =SUM(D103:BQ103) -> 51.67015 | BT103: =BS103/$C$23 -> 51.67015
B106: Наименование продуктов | C106: Кол-во человек | D106: =D8 -> Хлеб пшеничный | E106: =E8 -> Хлеб ржано-пшеничный | F106: =F8 -> Сахар | G106: =G8 -> Чай | H106: =H8 -> Какао | I106: =I8 -> Кофейный напиток | J106: =J8 -> Молоко 2,5% | K106: =K8 -> Масло сливочное | ... V106: =V8 -> Огурцы консервирован. | X106: =X8 -> Яйцо | Y106: =Y8 -> Икра кабачковая | Z106: =Z8 -> Изюм | AA106: =AA8 -> Курага | AB106: =AB8 -> Чернослив | AC106: =AC8 -> Шиповник | AD106: =AD8 -> Сухофрукты | AE106: =AE8 -> Ягода свежемороженная | ... BR106: =BR8 -> Лимонная кислота | BS106: Итого расход за день | BT106: ИТОГО на 1 Чел
B107: Меню
A108: Ужин | B108: =B28 -> Омлет | C108: =$E$7 -> 1 | D108: =D28 -> 0 | E108: =E28 -> 0 | F108: =F28 -> 0 | G108: =G28 -> 0 | H108: =H28 -> 0 | I108: =I28 -> 0 | J108: =J28 -> 0.045 | K108: =K28 -> 0.002 | ... BR108: =BR28 -> 0
B109: =B29 -> Хлеб пшеничный | D109: =D29 -> 0.02 | E109: =E29 -> 0 | F109: =F29 -> 0 | G109: =G29 -> 0 | H109: =H29 -> 0 | I109: =I29 -> 0 | J109: =J29 -> 0 | K109: =K29 -> 0 | ... BR109: =BR29 -> 0
B110: =B30 -> Чай с сахаром | D110: =D30 -> 0 | E110: =E30 -> 0 | F110: =F30 -> 0.012 | G110: =G30 -> 0.0006 | H110: =H30 -> 0 | I110: =I30 -> 0 | J110: =J30 -> 0 | K110: =K30 -> 0 | ... BR110: =BR30 -> 0
B111: Итого на 1 чел | D111: =SUM(D108:D110) -> 0.02 | E111: =SUM(E108:E110) -> 0 | F111: =SUM(F108:F110) -> 0.012 | G111: =SUM(G108:G110) -> 0.0006 | H111: =SUM(H108:H110) -> 0 | I111: =SUM(I108:I110) -> 0 | J111: =SUM(J108:J110) -> 0.045 | K111: =SUM(K108:K110) -> 0.002 | ... BR111: =SUM(BR108:BR110) -> 0
B112: Итого к выдаче, ГРАММ (на всех) | D112: =PRODUCT(D111,$E$7) -> 0.02 | E112: =PRODUCT(E111,$E$7) -> 0 | F112: =PRODUCT(F111,$E$7) -> 0.012 | G112: =PRODUCT(G111,$E$7) -> 0.0006 | H112: =PRODUCT(H111,$E$7) -> 0 | I112: =PRODUCT(I111,$E$7) -> 0 | J112: =PRODUCT(J111,$E$7) -> 0.045 | K112: =PRODUCT(K111,$E$7) -> 0.002 | ... BR112: =PRODUCT(BR111,$E$7) -> 0
B114: ЦЕНА ЗА КИЛОГРАММ (покупная) | C114: руб | D114: =D46 -> 90.9 | E114: =E46 -> 96 | F114: =F46 -> 91 | G114: =G46 -> 816 | H114: =H46 -> 1680 | I114: =I46 -> 1050 | J114: =J46 -> 90.57 | K114: =K46 -> 1166.67 | ... AE114: =AE46 -> 842 | AH114: =AH46 -> 359 | AJ114: =AJ46 -> 309.1 | AK114: =AK46 -> 94 | AL114: =AL46 -> 73 | AM114: =AM46 -> 51.6 | AN114: =AN46 -> 250 | AO114: =AO46 -> 272 | AP114: =AP46 -> 0 | AQ114: =AQ46 -> 425 | ... BR114: =BR46 -> 0
B115: ЦЕНА ЗА ГРАММ (покупная) | C115: руб | D115: =D114/1000 -> 0.0909 | E115: =E114/1000 -> 0.096 | F115: =F114/1000 -> 0.091 | G115: =G114/1000 -> 0.816 | H115: =H114/1000 -> 1.68 | I115: =I114/1000 -> 1.05 | J115: =J114/1000 -> 0.09057 | K115: =K114/1000 -> 1.16667 | ... BR115: =BR114/1000 -> 0
B116: Израсходовано на сумму (за граммы) | D116: =D112*D114 -> 1.818 | E116: =E112*E114 -> 0 | F116: =F112*F114 -> 1.092 | G116: =G112*G114 -> 0.4896 | H116: =H112*H114 -> 0 | I116: =I112*I114 -> 0 | J116: =J112*J114 -> 4.07565 | K116: =K112*K114 -> 2.33334 | ... BR116: =BR112*BR114 -> 0 | BS116: =SUM(D116:BQ116) -> 19.23459 | BT116: =BS116/$C$23 -> 19.23459
B117: Израсходовано на сумму (за кг) | D117: =D112*D114 -> 1.818 | E117: =E112*E114 -> 0 | F117: =F112*F114 -> 1.092 | G117: =G112*G114 -> 0.4896 | H117: =H112*H114 -> 0 | I117: =I112*I114 -> 0 | J117: =J112*J114 -> 4.07565 | K117: =K112*K114 -> 2.33334 | ... BR117: =BR112*BR114 -> 0 | BS117: =SUM(D117:BQ117) -> 19.23459 | BT117: =BS117/$C$23 -> 19.23459
BT120: =BT69 -> 37.81298
BT121: =BT87 -> 68.50102
BT122: =BT103 -> 51.67015
BT123: =BT117 -> 19.23459

Sheet  3-7 лет (день 9) 
A1: Утверждаю
A2: Заведующий МКДОУ Ташаринский детский сад "Лесовичок" | H2: Меню - требование на выдачу продуктов питания | J2: Меню - требование на выдачу продуктов питания
A3: _________________ Чугуева Т.В.
A4: подпись | H4: Учреждение МКДОУ "Ташаринский детский сад"Лесовичок" | J4: Учреждение МКДОУ "Ташаринский детский сад"Лесовичок"
H5: Ответственное лицо Романашенко Г.М. | J5: Ответственное лицо Романашенко Г.М.
C7: детей в количестве | E7: 1 | F7: человек (3 - 7 лет) на | K7: 46266
B8: Наименование продуктов | C8: Кол-во человек | D8: =[1]Цены!A1 -> Хлеб пшеничный | E8: =[1]Цены!B1 -> Хлеб ржано-пшеничный | F8: =[1]Цены!C1 -> Сахар | G8: =[1]Цены!D1 -> Чай | H8: =[1]Цены!E1 -> Какао | I8: =[1]Цены!F1 -> Кофейный напиток | J8: =[1]Цены!G1 -> Молоко 2,5% | K8: =[1]Цены!H1 -> Масло сливочное | ... AE8: =[1]Цены!AB1 -> Ягода свежемороженная | AF8: Апельсин | AG8: Банан | AH8: =[1]Цены!AC1 -> Лимон | AI8: Яблоко | AJ8: =[1]Цены!AD1 -> Кисель | AK8: =[1]Цены!AE1 -> Сок | AL8: =[1]Цены!AF1 -> Макаронные изделия | AM8: =[1]Цены!AG1 -> Мука | AN8: =[1]Цены!AH1 -> Дрожжи | AO8: =[1]Цены!AI1 -> Печенье | AP8: =[1]Цены!AJ1 -> Пряники | AQ8: =[1]Цены!AK1 -> Вафли | ... BQ8: =[1]Цены!BK1 -> Соль | BR8: Лимонная кислота | BS8: Итого расход за день | BT8: ИТОГО на 1 Чел
B9: Меню
A10: Завтрак | B10: Каша манная молочная | C10: =$E$7 -> 1 | F10: 0.005 | J10: 0.13 | K10: 0.003 | AX10: 0.02 | BQ10: 0.001
B11: Бутерброд с маслом | D11: 0.03 | K11: 0.005
B12: Какао с молоком | F12: 0.011 | H12: 0.0012 | J12: 0.096
A15: Обед | B15: Суп шахтерский | C15: =$E$7 -> 1 | K15: 0.004 | L15: 0.007 | AV15: 0.008 | BD15: 0.029 | BJ15: 0.1 | BK15: 0.0125 | BL15: 0.013 | BP15: 0.003 | BQ15: 0.002
B16: Капуста, тушеная с мясом | K16: 0.002 | BD16: 0.04 | BF16: 0.007 | BK16: 0.008 | BL16: 0.015 | BM16: 0.19 | BO16: 0.003 | BP16: 0.004 | BQ16: 0.002
B17: Хлеб пшеничный | D17: 0.03
B18: Хлеб ржано-пшеничный | E18: 0.05
B19: Компот из сухофруктов | F19: 0.015 | AD19: 0.022 | BR19: 5e-05
A23: Полдник | B23: Компот из свеж. морож. ягод | C23: =$E$7 -> 1 | F23: 0.014 | AE23: 0.025
B24: Пирожок рыбный | F24: 0.002 | J24: 0.008 | K24: 0.003 | U24: 0.02086 | X24: 0.1 | AM24: 0.033 | AN24: 0.00139 | BC24: 0.004 | BL24: 0.003 | BP24: 0.001
B25: Яблоко
A28: Ужин | B28: Омлет | C28: =$E$7 -> 1 | J28: 0.045 | K28: 0.002 | X28: 1 | BQ28: 0.001
B29: Хлеб пшеничный | D29: 0.02
B30: Чай с сахаром | F30: 0.012 | G30: 0.0006
B31: Итого на 1 чел | D31: =SUM(D10:D30) -> 0.08 | E31: =SUM(E10:E30) -> 0.05 | F31: =SUM(F10:F30) -> 0.059 | G31: =SUM(G10:G30) -> 0.0006 | H31: =SUM(H10:H30) -> 0.0012 | I31: =SUM(I10:I30) -> 0 | J31: =SUM(J10:J30) -> 0.279 | K31: =SUM(K10:K30) -> 0.019 | ... BR31: =SUM(BR10:BR30) -> 5e-05
B32: К выдаче, ГРАММ (на всех) | D32: =ROUND(PRODUCT(D31,$E$7),3) -> 0.08 | E32: =ROUND(PRODUCT(E31,$E$7),3) -> 0.05 | F32: =ROUND(PRODUCT(F31,$E$7),3) -> 0.059 | G32: =ROUND(PRODUCT(G31,$E$7),3) -> 0.001 | H32: =ROUND(PRODUCT(H31,$E$7),3) -> 0.001 | I32: =ROUND(PRODUCT(I31,$E$7),3) -> 0 | J32: =ROUND(PRODUCT(J31,$E$7),3) -> 0.279 | K32: =ROUND(PRODUCT(K31,$E$7),3) -> 0.019 | ... BR32: =ROUND(PRODUCT(BR31,$E$7),3) -> 0
D33: =D32+' 1,5-2 года (день 9)'!D32+'СВО 3-7 лет'!D32+'ОВЗ 3-7 лет'!D32 -> 0.3 | E33: =E32+' 1,5-2 года (день 9)'!E32+'СВО 3-7 лет'!E32+'ОВЗ 3-7 лет'!E32 -> 0.192 | F33: =F32+' 1,5-2 года (день 9)'!F32+'СВО 3-7 лет'!F32+'ОВЗ 3-7 лет'!F32 -> 0.223 | G33: =G32+' 1,5-2 года (день 9)'!G32+'СВО 3-7 лет'!G32+'ОВЗ 3-7 лет'!G32 -> 0.004 | H33: =H32+' 1,5-2 года (день 9)'!H32+'СВО 3-7 лет'!H32+'ОВЗ 3-7 лет'!H32 -> 0.004 | I33: =I32+' 1,5-2 года (день 9)'!I32+'СВО 3-7 лет'!I32+'ОВЗ 3-7 лет'!I32 -> 0 | J33: =J32+' 1,5-2 года (день 9)'!J32+'СВО 3-7 лет'!J32+'ОВЗ 3-7 лет'!J32 -> 1.068 | K33: =K32+' 1,5-2 года (день 9)'!K32+'СВО 3-7 лет'!K32+'ОВЗ 3-7 лет'!K32 -> 0.072 | ... BR33: =BR32+' 1,5-2 года (день 9)'!BR32+'СВО 3-7 лет'!BR32+'ОВЗ 3-7 лет'!BR32 -> 0 | BS33: =SUM(D33:BQ33) -> 8.452
D36: Ответственный калькулятор | H36: _________________ | K36: С.В.Залевская
D37: исполнитель | F37: должность | H37: подпись
F39: Повар | H39: ___________________
H40: подпись
B48: ЦЕНА ЗА КИЛОГРАММ (покупная) | C48: руб | D48: 90.9 | E48: 96 | F48: 91 | G48: 816 | H48: 1680 | I48: 1050 | J48: 90.57 | K48: 1166.67 | L48: 255.2 | M48: 833 | N48: 126.38 | O48: 387.53 | P48: 663.16 | Q48: 526.67 | R48: 1295 | U48: 1012 | V48: 470.67 | W48: 348 | X48: 9.4 | Y48: 266.5 | Z48: 367 | AA48: 524 | AB48: 330 | AC48: 299 | AD48: 148 | AE48: 842 | AG48: 180 | AH48: 359 | AI48: 160 | AJ48: 309.1 | AK48: 94 | AL48: 73 | AM48: 51.6 | AN48: 250 | AO48: 272 | AQ48: 425 | AR48: 800 | AS48: 294.25 | AT48: 95 | AU48: 87.33 | AV48: 73.33 | AW48: 80 | AX48: 89.29 | AY48: 63.75 | AZ48: 104.62 | BA48: 81.33 | BB48: 71.67 | BC48: 152.67 | BD48: 378 | BE48: 574 | BF48: 696 | BG48: 324 | BH48: 604 | BJ48: 38 | BK48: 38 | BL48: 33 | BM48: 43 | BN48: 43 | BO48: 306.32 | BP48: 190 | BQ48: 26
B49: ЦЕНА ЗА ГРАММ (покупная) | C49: руб | D49: =D48/1000 -> 0.0909 | E49: =E48/1000 -> 0.096 | F49: =F48/1000 -> 0.091 | G49: =G48/1000 -> 0.816 | H49: =H48/1000 -> 1.68 | I49: =I48/1000 -> 1.05 | J49: =J48/1000 -> 0.09057 | K49: =K48/1000 -> 1.16667 | ... BR49: =BR48/1000 -> 0
B50: Израсходовано на сумму (за граммы) | D50: =D32*D48 -> 7.272 | E50: =E32*E48 -> 4.8 | F50: =F32*F48 -> 5.369 | G50: =G32*G48 -> 0.816 | H50: =H32*H48 -> 1.68 | I50: =I32*I48 -> 0 | J50: =J32*J48 -> 25.26903 | K50: =K32*K48 -> 22.16673 | ... BR50: =BR32*BR48 -> 0 | BS50: =SUM(D50:BQ50) -> 177.33304 | BT50: =BS50/$C$23 -> 177.33304
B51: Израсходовано на сумму (за кг) | D51: =D32*D48 -> 7.272 | E51: =E32*E48 -> 4.8 | F51: =F32*F48 -> 5.369 | G51: =G32*G48 -> 0.816 | H51: =H32*H48 -> 1.68 | I51: =I32*I48 -> 0 | J51: =J32*J48 -> 25.26903 | K51: =K32*K48 -> 22.16673 | ... BR51: =BR32*BR48 -> 0 | BS51: =SUM(D51:BQ51) -> 177.33304 | BT51: =BS51/$C$23 -> 177.33304
B52: P/S: Итого к выдаче Яйцо- указано в шт. | D52: =D71+D89+D105+D119 -> 7.272 | E52: =E71+E89+E105+E119 -> 4.8 | F52: =F71+F89+F105+F119 -> 5.369 | G52: =G71+G89+G105+G119 -> 0.4896 | H52: =H71+H89+H105+H119 -> 2.016 | I52: =I71+I89+I105+I119 -> 0 | J52: =J71+J89+J105+J119 -> 25.26903 | K52: =K71+K89+K105+K119 -> 22.16673 | ... BR52: =BR71+BR89+BR105+BR119 -> 0
B53: Цена за яйцо, указана за 1 шт. | BT53: =BT70+BT88+BT105+BT118 -> 177.27946
B58: Наименование продуктов | C58: Кол-во человек | D58: =D8 -> Хлеб пшеничный | E58: =E8 -> Хлеб ржано-пшеничный | F58: =F8 -> Сахар | G58: =G8 -> Чай | H58: =H8 -> Какао | I58: =I8 -> Кофейный напиток | J58: =J8 -> Молоко 2,5% | K58: =K8 -> Масло сливочное | ... V58: =V8 -> Огурцы консервирован. | X58: =X8 -> Яйцо | Y58: =Y8 -> Икра кабачковая | Z58: =Z8 -> Изюм | AA58: =AA8 -> Курага | AB58: =AB8 -> Чернослив | AC58: =AC8 -> Шиповник | AD58: =AD8 -> Сухофрукты | AE58: =AE8 -> Ягода свежемороженная | ... BR58: =BR8 -> Лимонная кислота | BS58: Итого расход за день | BT58: ИТОГО на 1 Чел
B59: Меню
A60: Завтрак | B60: =B10 -> Каша манная молочная | C60: =$E$7 -> 1 | D60: =D10 -> 0 | E60: =E10 -> 0 | F60: =F10 -> 0.005 | G60: =G10 -> 0 | H60: =H10 -> 0 | I60: =I10 -> 0 | J60: =J10 -> 0.13 | K60: =K10 -> 0.003 | ... BR60: =BR10 -> 0
B61: =B11 -> Бутерброд с маслом | D61: =D11 -> 0.03 | E61: =E11 -> 0 | F61: =F11 -> 0 | G61: =G11 -> 0 | H61: =H11 -> 0 | I61: =I11 -> 0 | J61: =J11 -> 0 | K61: =K11 -> 0.005 | ... BR61: =BR11 -> 0
B62: =B12 -> Какао с молоком | D62: =D12 -> 0 | E62: =E12 -> 0 | F62: =F12 -> 0.011 | G62: =G12 -> 0 | H62: =H12 -> 0.0012 | I62: =I12 -> 0 | J62: =J12 -> 0.096 | K62: =K12 -> 0 | ... BR62: =BR12 -> 0
B63: =B13 -> 0 | D63: =D13 -> 0 | E63: =E13 -> 0 | F63: =F13 -> 0 | G63: =G13 -> 0 | H63: =H13 -> 0 | I63: =I13 -> 0 | J63: =J13 -> 0 | K63: =K13 -> 0 | ... BR63: =BR13 -> 0
B64: =B14 -> 0 | D64: =D14 -> 0 | E64: =E14 -> 0 | F64: =F14 -> 0 | G64: =G14 -> 0 | H64: =H14 -> 0 | I64: =I14 -> 0 | J64: =J14 -> 0 | K64: =K14 -> 0 | ... BR64: =BR14 -> 0
B65: Итого на 1 чел | D65: =SUM(D60:D64) -> 0.03 | E65: =SUM(E60:E64) -> 0 | F65: =SUM(F60:F64) -> 0.016 | G65: =SUM(G60:G64) -> 0 | H65: =SUM(H60:H64) -> 0.0012 | I65: =SUM(I60:I64) -> 0 | J65: =SUM(J60:J64) -> 0.226 | K65: =SUM(K60:K64) -> 0.008 | ... BR65: =SUM(BR60:BR64) -> 0
B66: Итого к выдаче, ГРАММ (на всех) | D66: =PRODUCT(D65,$E$7) -> 0.03 | E66: =PRODUCT(E65,$E$7) -> 0 | F66: =PRODUCT(F65,$E$7) -> 0.016 | G66: =PRODUCT(G65,$E$7) -> 0 | H66: =PRODUCT(H65,$E$7) -> 0.0012 | I66: =PRODUCT(I65,$E$7) -> 0 | J66: =PRODUCT(J65,$E$7) -> 0.226 | K66: =PRODUCT(K65,$E$7) -> 0.008 | ... BR66: =PRODUCT(BR65,$E$7) -> 0
B68: ЦЕНА ЗА КИЛОГРАММ (покупная) | C68: руб | D68: =D48 -> 90.9 | E68: =E48 -> 96 | F68: =F48 -> 91 | G68: =G48 -> 816 | H68: =H48 -> 1680 | I68: =I48 -> 1050 | J68: =J48 -> 90.57 | K68: =K48 -> 1166.67 | ... BR68: =BR48 -> 0
B69: ЦЕНА ЗА ГРАММ (покупная) | C69: руб | D69: =D68/1000 -> 0.0909 | E69: =E68/1000 -> 0.096 | F69: =F68/1000 -> 0.091 | G69: =G68/1000 -> 0.816 | H69: =H68/1000 -> 1.68 | I69: =I68/1000 -> 1.05 | J69: =J68/1000 -> 0.09057 | K69: =K68/1000 -> 1.16667 | ... BR69: =BR68/1000 -> 0
B70: Израсходовано на сумму (за граммы) | D70: =D66*D68 -> 2.727 | E70: =E66*E68 -> 0 | F70: =F66*F68 -> 1.456 | G70: =G66*G68 -> 0 | H70: =H66*H68 -> 2.016 | I70: =I66*I68 -> 0 | J70: =J66*J68 -> 20.46882 | K70: =K66*K68 -> 9.33336 | ... BR70: =BR66*BR68 -> 0 | BS70: =SUM(D70:BQ70) -> 37.81298 | BT70: =BS70/$C$10 -> 37.81298
B71: Израсходовано на сумму (за кг) | D71: =D66*D68 -> 2.727 | E71: =E66*E68 -> 0 | F71: =F66*F68 -> 1.456 | G71: =G66*G68 -> 0 | H71: =H66*H68 -> 2.016 | I71: =I66*I68 -> 0 | J71: =J66*J68 -> 20.46882 | K71: =K66*K68 -> 9.33336 | ... BR71: =BR66*BR68 -> 0 | BS71: =SUM(D71:BQ71) -> 37.81298 | BT71: =BS71/$C$10 -> 37.81298
B74: Наименование продуктов | C74: Кол-во человек | D74: =D8 -> Хлеб пшеничный | E74: =E8 -> Хлеб ржано-пшеничный | F74: =F8 -> Сахар | G74: =G8 -> Чай | H74: =H8 -> Какао | I74: =I8 -> Кофейный напиток | J74: =J8 -> Молоко 2,5% | K74: =K8 -> Масло сливочное | ... V74: =V8 -> Огурцы консервирован. | X74: =X8 -> Яйцо | Y74: =Y8 -> Икра кабачковая | Z74: =Z8 -> Изюм | AA74: =AA8 -> Курага | AB74: =AB8 -> Чернослив | AC74: =AC8 -> Шиповник | AD74: =AD8 -> Сухофрукты | AE74: =AE8 -> Ягода свежемороженная | ... BR74: =BR8 -> Лимонная кислота | BS74: Итого расход за день | BT74: ИТОГО на 1 Чел
B75: Меню
A76: Обед | B76: =B15 -> Суп шахтерский | C76: =$E$7 -> 1 | D76: =D15 -> 0 | E76: =E15 -> 0 | F76: =F15 -> 0 | G76: =G15 -> 0 | H76: =H15 -> 0 | I76: =I15 -> 0 | J76: =J15 -> 0 | K76: =K15 -> 0.004 | ... BR76: =BR15 -> 0
B77: =B16 -> Капуста, тушеная с мясом | D77: =D16 -> 0 | E77: =E16 -> 0 | F77: =F16 -> 0 | G77: =G16 -> 0 | H77: =H16 -> 0 | I77: =I16 -> 0 | J77: =J16 -> 0 | K77: =K16 -> 0.002 | ... BR77: =BR16 -> 0
B78: =B17 -> Хлеб пшеничный | D78: =D17 -> 0.03 | E78: =E17 -> 0 | F78: =F17 -> 0 | G78: =G17 -> 0 | H78: =H17 -> 0 | I78: =I17 -> 0 | J78: =J17 -> 0 | K78: =K17 -> 0 | ... BR78: =BR17 -> 0
B79: =B18 -> Хлеб ржано-пшеничный | D79: =D18 -> 0 | E79: =E18 -> 0.05 | F79: =F18 -> 0 | G79: =G18 -> 0 | H79: =H18 -> 0 | I79: =I18 -> 0 | J79: =J18 -> 0 | K79: =K18 -> 0 | ... BR79: =BR18 -> 0
B80: =B19 -> Компот из сухофруктов | D80: =D19 -> 0 | E80: =E19 -> 0 | F80: =F19 -> 0.015 | G80: =G19 -> 0 | H80: =H19 -> 0 | I80: =I19 -> 0 | J80: =J19 -> 0 | K80: =K19 -> 0 | ... BR80: =BR19 -> 5e-05
B81: =B20 -> 0 | D81: =D20 -> 0 | E81: =E20 -> 0 | F81: =F20 -> 0 | G81: =G20 -> 0 | H81: =H20 -> 0 | I81: =I20 -> 0 | J81: =J20 -> 0 | K81: =K20 -> 0 | ... BR81: =BR20 -> 0
B82: =B21 -> 0 | D82: =D21 -> 0 | E82: =E21 -> 0 | F82: =F21 -> 0 | G82: =G21 -> 0 | H82: =H21 -> 0 | I82: =I21 -> 0 | J82: =J21 -> 0 | K82: =K21 -> 0 | ... BR82: =BR21 -> 0
B83: Итого на 1 чел | D83: =SUM(D76:D82) -> 0.03 | E83: =SUM(E76:E82) -> 0.05 | F83: =SUM(F76:F82) -> 0.015 | G83: =SUM(G76:G82) -> 0 | H83: =SUM(H76:H82) -> 0 | I83: =SUM(I76:I82) -> 0 | J83: =SUM(J76:J82) -> 0 | K83: =SUM(K76:K82) -> 0.006 | ... BR83: =SUM(BR76:BR82) -> 5e-05
B84: Итого к выдаче, ГРАММ (на всех) | D84: =PRODUCT(D83,$E$7) -> 0.03 | E84: =PRODUCT(E83,$E$7) -> 0.05 | F84: =PRODUCT(F83,$E$7) -> 0.015 | G84: =PRODUCT(G83,$E$7) -> 0 | H84: =PRODUCT(H83,$E$7) -> 0 | I84: =PRODUCT(I83,$E$7) -> 0 | J84: =PRODUCT(J83,$E$7) -> 0 | K84: =PRODUCT(K83,$E$7) -> 0.006 | ... BR84: =PRODUCT(BR83,$E$7) -> 5e-05
B86: ЦЕНА ЗА КИЛОГРАММ (покупная) | C86: руб | D86: =D48 -> 90.9 | E86: =E48 -> 96 | F86: =F48 -> 91 | G86: =G48 -> 816 | H86: =H48 -> 1680 | I86: =I48 -> 1050 | J86: =J48 -> 90.57 | K86: =K48 -> 1166.67 | ... BR86: =BR48 -> 0
B87: ЦЕНА ЗА ГРАММ (покупная) | C87: руб | D87: =D86/1000 -> 0.0909 | E87: =E86/1000 -> 0.096 | F87: =F86/1000 -> 0.091 | G87: =G86/1000 -> 0.816 | H87: =H86/1000 -> 1.68 | I87: =I86/1000 -> 1.05 | J87: =J86/1000 -> 0.09057 | K87: =K86/1000 -> 1.16667 | ... BR87: =BR86/1000 -> 0
B88: Израсходовано на сумму (за граммы) | D88: =D84*D86 -> 2.727 | E88: =E84*E86 -> 4.8 | F88: =F84*F86 -> 1.365 | G88: =G84*G86 -> 0 | H88: =H84*H86 -> 0 | I88: =I84*I86 -> 0 | J88: =J84*J86 -> 0 | K88: =K84*K86 -> 7.00002 | ... BR88: =BR84*BR86 -> 0 | BS88: =SUM(D88:BQ88) -> 68.50102 | BT88: =BS88/$C$10 -> 68.50102
B89: Израсходовано на сумму (за кг) | D89: =D84*D86 -> 2.727 | E89: =E84*E86 -> 4.8 | F89: =F84*F86 -> 1.365 | G89: =G84*G86 -> 0 | H89: =H84*H86 -> 0 | I89: =I84*I86 -> 0 | J89: =J84*J86 -> 0 | K89: =K84*K86 -> 7.00002 | ... BR89: =BR84*BR86 -> 0 | BS89: =SUM(D89:BQ89) -> 68.50102 | BT89: =BS89/$C$10 -> 68.50102
B92: Наименование продуктов | C92: Кол-во человек | D92: =D8 -> Хлеб пшеничный | E92: =E8 -> Хлеб ржано-пшеничный | F92: =F8 -> Сахар | G92: =G8 -> Чай | H92: =H8 -> Какао | I92: =I8 -> Кофейный напиток | J92: =J8 -> Молоко 2,5% | K92: =K8 -> Масло сливочное | ... V92: =V8 -> Огурцы консервирован. | X92: =X8 -> Яйцо | Y92: =Y8 -> Икра кабачковая | Z92: =Z8 -> Изюм | AA92: =AA8 -> Курага | AB92: =AB8 -> Чернослив | AC92: =AC8 -> Шиповник | AD92: =AD8 -> Сухофрукты | AE92: =AE8 -> Ягода свежемороженная | ... BR92: =BR8 -> Лимонная кислота | BS92: Итого расход за день | BT92: ИТОГО на 1 Чел
B93: Меню
A94: Полдник | B94: =B23 -> Компот из свеж. морож. ягод | C94: =$E$7 -> 1 | D94: =D23 -> 0 | E94: =E23 -> 0 | F94: =F23 -> 0.014 | G94: =G23 -> 0 | H94: =H23 -> 0 | I94: =I23 -> 0 | J94: =J23 -> 0 | K94: =K23 -> 0 | ... BR94: =BR23 -> 0
B95: =B24 -> Пирожок рыбный | D95: =D24 -> 0 | E95: =E24 -> 0 | F95: =F24 -> 0.002 | G95: =G24 -> 0 | H95: =H24 -> 0 | I95: =I24 -> 0 | J95: =J24 -> 0.008 | K95: =K24 -> 0.003 | ... BR95: =BR24 -> 0
B96: =B25 -> Яблоко | D96: =D25 -> 0 | E96: =E25 -> 0 | F96: =F25 -> 0 | G96: =G25 -> 0 | H96: =H25 -> 0 | I96: =I25 -> 0 | J96: =J25 -> 0 | K96: =K25 -> 0 | ... BR96: =BR25 -> 0
B97: =B26 -> 0 | D97: =D26 -> 0 | E97: =E26 -> 0 | F97: =F26 -> 0 | G97: =G26 -> 0 | H97: =H26 -> 0 | I97: =I26 -> 0 | J97: =J26 -> 0 | K97: =K26 -> 0 | ... BR97: =BR26 -> 0
B98: =B27 -> 0 | D98: =D27 -> 0 | E98: =E27 -> 0 | F98: =F27 -> 0 | G98: =G27 -> 0 | H98: =H27 -> 0 | I98: =I27 -> 0 | J98: =J27 -> 0 | K98: =K27 -> 0 | ... BR98: =BR27 -> 0
B99: Итого на 1 чел | D99: =SUM(D94:D98) -> 0 | E99: =SUM(E94:E98) -> 0 | F99: =SUM(F94:F98) -> 0.016 | G99: =SUM(G94:G98) -> 0 | H99: =SUM(H94:H98) -> 0 | I99: =SUM(I94:I98) -> 0 | J99: =SUM(J94:J98) -> 0.008 | K99: =SUM(K94:K98) -> 0.003 | ... BR99: =SUM(BR94:BR98) -> 0
B100: Итого к выдаче, ГРАММ (на всех) | D100: =PRODUCT(D99,$E$7) -> 0 | E100: =PRODUCT(E99,$E$7) -> 0 | F100: =PRODUCT(F99,$E$7) -> 0.016 | G100: =PRODUCT(G99,$E$7) -> 0 | H100: =PRODUCT(H99,$E$7) -> 0 | I100: =PRODUCT(I99,$E$7) -> 0 | J100: =PRODUCT(J99,$E$7) -> 0.008 | K100: =PRODUCT(K99,$E$7) -> 0.003 | ... BR100: =PRODUCT(BR99,$E$7) -> 0
B102: ЦЕНА ЗА КИЛОГРАММ (покупная) | C102: руб | D102: =D48 -> 90.9 | E102: =E48 -> 96 | F102: =F48 -> 91 | G102: =G48 -> 816 | H102: =H48 -> 1680 | I102: =I48 -> 1050 | J102: =J48 -> 90.57 | K102: =K48 -> 1166.67 | ... BR102: =BR48 -> 0
B103: ЦЕНА ЗА ГРАММ (покупная) | C103: руб | D103: =D102/1000 -> 0.0909 | E103: =E102/1000 -> 0.096 | F103: =F102/1000 -> 0.091 | G103: =G102/1000 -> 0.816 | H103: =H102/1000 -> 1.68 | I103: =I102/1000 -> 1.05 | J103: =J102/1000 -> 0.09057 | K103: =K102/1000 -> 1.16667 | ... BR103: =BR102/1000 -> 0
B104: Израсходовано на сумму (за граммы) | D104: =D100*D102 -> 0 | E104: =E100*E102 -> 0 | F104: =F100*F102 -> 1.456 | G104: =G100*G102 -> 0 | H104: =H100*H102 -> 0 | I104: =I100*I102 -> 0 | J104: =J100*J102 -> 0.72456 | K104: =K100*K102 -> 3.50001 | ... BR104: =BR100*BR102 -> 0 | BS104: =SUM(D104:BQ104) -> 51.73087 | BT104: =BS104/$C$23 -> 51.73087
B105: Израсходовано на сумму (за кг) | D105: =D100*D102 -> 0 | E105: =E100*E102 -> 0 | F105: =F100*F102 -> 1.456 | G105: =G100*G102 -> 0 | H105: =H100*H102 -> 0 | I105: =I100*I102 -> 0 | J105: =J100*J102 -> 0.72456 | K105: =K100*K102 -> 3.50001 | ... BR105: =BR100*BR102 -> 0 | BS105: =SUM(D105:BQ105) -> 51.73087 | BT105: =BS105/$C$23 -> 51.73087
B108: Наименование продуктов | C108: Кол-во человек | D108: =D8 -> Хлеб пшеничный | E108: =E8 -> Хлеб ржано-пшеничный | F108: =F8 -> Сахар | G108: =G8 -> Чай | H108: =H8 -> Какао | I108: =I8 -> Кофейный напиток | J108: =J8 -> Молоко 2,5% | K108: =K8 -> Масло сливочное | ... V108: =V8 -> Огурцы консервирован. | X108: =X8 -> Яйцо | Y108: =Y8 -> Икра кабачковая | Z108: =Z8 -> Изюм | AA108: =AA8 -> Курага | AB108: =AB8 -> Чернослив | AC108: =AC8 -> Шиповник | AD108: =AD8 -> Сухофрукты | AE108: =AE8 -> Ягода свежемороженная | ... BR108: =BR8 -> Лимонная кислота | BS108: Итого расход за день | BT108: ИТОГО на 1 Чел
B109: Меню
A110: Ужин | B110: =B28 -> Омлет | C110: =$E$7 -> 1 | D110: =D28 -> 0 | E110: =E28 -> 0 | F110: =F28 -> 0 | G110: =G28 -> 0 | H110: =H28 -> 0 | I110: =I28 -> 0 | J110: =J28 -> 0.045 | K110: =K28 -> 0.002 | ... BR110: =BR28 -> 0
B111: =B29 -> Хлеб пшеничный | D111: =D29 -> 0.02 | E111: =E29 -> 0 | F111: =F29 -> 0 | G111: =G29 -> 0 | H111: =H29 -> 0 | I111: =I29 -> 0 | J111: =J29 -> 0 | K111: =K29 -> 0 | ... BR111: =BR29 -> 0
B112: =B30 -> Чай с сахаром | D112: =D30 -> 0 | E112: =E30 -> 0 | F112: =F30 -> 0.012 | G112: =G30 -> 0.0006 | H112: =H30 -> 0 | I112: =I30 -> 0 | J112: =J30 -> 0 | K112: =K30 -> 0 | ... BR112: =BR30 -> 0
B113: Итого на 1 чел | D113: =SUM(D110:D112) -> 0.02 | E113: =SUM(E110:E112) -> 0 | F113: =SUM(F110:F112) -> 0.012 | G113: =SUM(G110:G112) -> 0.0006 | H113: =SUM(H110:H112) -> 0 | I113: =SUM(I110:I112) -> 0 | J113: =SUM(J110:J112) -> 0.045 | K113: =SUM(K110:K112) -> 0.002 | ... BR113: =SUM(BR110:BR112) -> 0
B114: Итого к выдаче, ГРАММ (на всех) | D114: =PRODUCT(D113,$E$7) -> 0.02 | E114: =PRODUCT(E113,$E$7) -> 0 | F114: =PRODUCT(F113,$E$7) -> 0.012 | G114: =PRODUCT(G113,$E$7) -> 0.0006 | H114: =PRODUCT(H113,$E$7) -> 0 | I114: =PRODUCT(I113,$E$7) -> 0 | J114: =PRODUCT(J113,$E$7) -> 0.045 | K114: =PRODUCT(K113,$E$7) -> 0.002 | ... BR114: =PRODUCT(BR113,$E$7) -> 0
B116: ЦЕНА ЗА КИЛОГРАММ (покупная) | C116: руб | D116: =D48 -> 90.9 | E116: =E48 -> 96 | F116: =F48 -> 91 | G116: =G48 -> 816 | H116: =H48 -> 1680 | I116: =I48 -> 1050 | J116: =J48 -> 90.57 | K116: =K48 -> 1166.67 | ... BR116: =BR48 -> 0
B117: ЦЕНА ЗА ГРАММ (покупная) | C117: руб | D117: =D116/1000 -> 0.0909 | E117: =E116/1000 -> 0.096 | F117: =F116/1000 -> 0.091 | G117: =G116/1000 -> 0.816 | H117: =H116/1000 -> 1.68 | I117: =I116/1000 -> 1.05 | J117: =J116/1000 -> 0.09057 | K117: =K116/1000 -> 1.16667 | ... BR117: =BR116/1000 -> 0
B118: Израсходовано на сумму (за граммы) | D118: =D114*D116 -> 1.818 | E118: =E114*E116 -> 0 | F118: =F114*F116 -> 1.092 | G118: =G114*G116 -> 0.4896 | H118: =H114*H116 -> 0 | I118: =I114*I116 -> 0 | J118: =J114*J116 -> 4.07565 | K118: =K114*K116 -> 2.33334 | ... BR118: =BR114*BR116 -> 0 | BS118: =SUM(D118:BQ118) -> 19.23459 | BT118: =BS118/$C$23 -> 19.23459
B119: Израсходовано на сумму (за кг) | D119: =D114*D116 -> 1.818 | E119: =E114*E116 -> 0 | F119: =F114*F116 -> 1.092 | G119: =G114*G116 -> 0.4896 | H119: =H114*H116 -> 0 | I119: =I114*I116 -> 0 | J119: =J114*J116 -> 4.07565 | K119: =K114*K116 -> 2.33334 | ... BR119: =BR114*BR116 -> 0 | BS119: =SUM(D119:BQ119) -> 19.23459 | BT119: =BS119/$C$23 -> 19.23459
BT122: =BT71 -> 37.81298
BT123: =BT89 -> 68.50102
BT124: =BT105 -> 51.73087
BT125: =BT119 -> 19.23459

Sheet Лист1

Sheet Лист2

Sheet Лист3

Sheet День 9 до 3 лет
J1: Утверждаю
J2: Заведующий МК ДОУ
J3: Ташаринский детский сад "Лесовичок"
J4: ____________________ Т.В. Чугуева
E5: Меню на | G5: =' 3-7 лет (день 9) '!K7 -> 46266
A6: Прием пищи | B6: Наименование блюда | C6: Выход блюда | D6: Белки, г | E6: Жиры, г | F6: Углеводы, г | G6: Эн. Цен (ккал) | H6: Ca | I6: Fe | J6: B1 | K6: B2 | L6: C | M6: № рецептуры
A7: День 9 | B7: Дети с 1,5 - 3 лет
A8: Завтрак | B8: ='[2]07.01.2021 3-7 лет (день 9) '!B7 -> Каша манная молочная | C8: 150 | D8: 4.66 | E8: 5.6 | F8: 18.82 | G8: 144 | H8: 136.97 | I8: 0.23 | J8: 0.06 | K8: 0.05 | L8: 1.46 | M8: 88
B9: Бутерброд с маслом и сыром | C9: 20/4/9 | D9: 3.61 | E9: 5.4 | F9: 9.75 | G9: 106 | H9: 94.48 | I9: 0.33 | J9: 0.02 | K9: 0.01 | L9: 0.14 | M9: 3
B10: ='[2]07.01.2021 3-7 лет (день 9) '!B8 -> Бутерброд с маслом | C10: 20/4 | D10: 3.61 | E10: 5.4 | F10: 9.75 | G10: 106 | H10: 94.48 | I10: 0.33 | J10: 0.02 | K10: 0.01 | L10: 0.14 | M10: 3
B11: ='[2]07.01.2021 3-7 лет (день 9) '!B9 -> Какао с молоком | C11: 150 | D11: 1.25 | E11: 1.33 | F11: 10.08 | G11: 50 | H11: 83.33 | I11: 0.01 | J11: 0.02 | K11: 0.01 | L11: 0.54 | M11: 248
A13: Обед | B13: ='[2]07.01.2021 3-7 лет (день 9) '!B12 -> Суп шахтерский | C13: 200 | D13: 3.32 | E13: 4.83 | F13: 15.74 | G13: 115.2 | H13: 21.2 | I13: 0.97 | J13: 0.12 | K13: 0.03 | L13: 6.3 | M13: 101
B14: ='[2]07.01.2021 3-7 лет (день 9) '!B13 -> Капуста, тушеная с мясом | C14: 220 | D14: 3.36 | E14: 7.06 | F14: 13.73 | G14: 139.92 | H14: 86.07 | I14: 1.35 | J14: 0.05 | K14: 0.04 | L14: 26.23 | M14: 200
B15: ='[2]07.01.2021 3-7 лет (день 9) '!B14 -> Хлеб пшеничный | C15: 20 | D15: 1.57 | E15: 0.2 | F15: 9.65 | G15: 48 | H15: 4.6 | I15: 0.4 | J15: 0.03 | K15: 0.005 | L15: 0
B16: ='[2]07.01.2021 3-7 лет (день 9) '!B15 -> Хлеб ржано-пшеничный | C16: 40 | D16: 2.64 | E16: 0.48 | F16: 13.36 | G16: 69.6 | H16: 14 | I16: 1.56 | J16: 0.072 | K16: 0.032 | L16: 0
B17: ='[2]07.01.2021 3-7 лет (день 9) '!B16 -> Компот из сухофруктов | C17: 180 | D17: 0.43 | E17: 0 | F17: 21.42 | G17: 81 | H17: 44.23 | I17: 0.009 | J17: 0 | K17: 0 | L17: 0.36 | M17: 241
A22: Полдник | B22: ='[2]07.01.2021 3-7 лет (день 9) '!B20 -> Компот из свеж. морож. ягод | C22: 150 | D22: 0.02 | E22: 0.04 | F22: 13.46 | G22: 52.48 | H22: 7.44 | I22: 0.3 | J22: 0.003 | K22: 0.003 | L22: 40 | M22: 247
B23: =' 3-7 лет (день 9) '!B24 -> Пирожок рыбный | C23: 60 | D23: 6.46 | E23: 6.35 | F23: 25.21 | G23: 158.83 | H23: 16.63 | I23: 0.41 | J23: 0.05 | K23: 0.05 | L23: 0.25 | M23: 294, 312, 313
B24: =' 3-7 лет (день 9) '!B25 -> Яблоко | C24: 75 | D24: 0.67 | E24: 0.14 | F24: 17.25 | G24: 73 | H24: 25.5 | I24: 0.26 | J24: 0.02 | K24: 0.02 | L24: 44.86
A25: Ужин | B25: ='[2]07.01.2021 3-7 лет (день 9) '!B25 -> Омлет | C25: 100 | D25: 6.5714 | E25: 8.7 | F25: 3.7071 | G25: 117.86 | H25: 74.5 | I25: 1.1714 | J25: 0.0571 | K25: 0.042 | L25: 2.52143 | M25: 111
B26: ='[2]07.01.2021 3-7 лет (день 9) '!B26 -> Хлеб пшеничный | C26: 30 | D26: 2.355 | E26: 0.3 | F26: 14.475 | G26: 72 | H26: 6.9 | I26: 0.6 | J26: 0.045 | K26: 0.0075 | L26: 0
B27: ='[2]07.01.2021 3-7 лет (день 9) '!B27 -> Чай с сахаром | C27: 150/9 | D27: 0 | E27: 0 | F27: 8.98 | G27: 30 | H27: 0.27 | I27: 0.05 | J27: 0 | K27: 0 | L27: 0.27 | M27: 263, 264
B29: ВСЕГО за день | D29: =SUM(D8:D28) -> 40.5264 | E29: =SUM(E8:E28) -> 45.83 | F29: =SUM(F8:F28) -> 205.3821 | G29: =SUM(G8:G28) -> 1363.89 | H29: =SUM(H8:H28) -> 710.6 | I29: =SUM(I8:I28) -> 7.9804 | J29: =SUM(J8:J28) -> 0.5671 | K29: =SUM(K8:K28) -> 0.3095 | L29: =SUM(L8:L28) -> 123.07143
A30: Ответственный за питание _________________________ С.В.Залевская

Sheet День 9 от 3 лет
J1: Утверждаю
J2: Заведующий МК ДОУ
J3: Ташаринский детский сад "Лесовичок"
J4: ______________________ Т.В. Чугуева
E5: Меню на | G5: =' 3-7 лет (день 9) '!K7 -> 46266
A6: Прием пищи | B6: Наименование блюда | C6: Выход блюда | D6: Белки, г | E6: Жиры, г | F6: Углеводы, г | G6: Эн. Цен (ккал) | H6: Ca | I6: Fe | J6: B1 | K6: B2 | L6: C | M6: № рецептуры
A7: День 9 | B7: Дети с 3 - 7 лет
A8: Завтрак | B8: ='[2]07.01.2021 3-7 лет (день 9) '!B7 -> Каша манная молочная | C8: 200 | D8: 6.21 | E8: 7.47 | F8: 25.09 | G8: 192 | H8: 182.6 | I8: 0.31 | J8: 0.08 | K8: 0.06 | L8: 1.95 | M8: 88
B9: Бутерброд с маслом и сыром | C9: 30/5/14 | D9: 5.06 | E9: 7 | F9: 14.62 | G9: 145 | H9: 126.6 | I9: 0.47 | J9: 0.03 | K9: 0.03 | L9: 0.19 | M9: 3
B10: ='[2]07.01.2021 3-7 лет (день 9) '!B8 -> Бутерброд с маслом | C10: 30/5 | D10: 5.06 | E10: 7 | F10: 14.62 | G10: 145 | H10: 126.6 | I10: 0.47 | J10: 0.03 | K10: 0.03 | L10: 0.19 | M10: 3
B11: ='[2]07.01.2021 3-7 лет (день 9) '!B9 -> Какао с молоком | C11: 180 | D11: 1.5 | E11: 1.6 | F11: 12.1 | G11: 60 | H11: 100 | I11: 0.02 | J11: 0.02 | K11: 0.01 | L11: 0.65 | M11: 248
A13: Обед | B13: ='[2]07.01.2021 3-7 лет (день 9) '!B12 -> Суп шахтерский | C13: 250 | D13: 4.15 | E13: 6.04 | F13: 19.67 | G13: 144 | H13: 26.5 | I13: 1.21 | J13: 0.15 | K13: 0.04 | L13: 7.87 | M13: 101
B14: ='[2]07.01.2021 3-7 лет (день 9) '!B13 -> Капуста, тушеная с мясом | C14: 250 | D14: 3.82 | E14: 8.02 | F14: 15.6 | G14: 159 | H14: 97.81 | I14: 1.53 | J14: 0.06 | K14: 0.05 | L14: 29.81 | M14: 200
B15: ='[2]07.01.2021 3-7 лет (день 9) '!B14 -> Хлеб пшеничный | C15: 20 | D15: 1.57 | E15: 0.2 | F15: 9.65 | G15: 48 | H15: 4.6 | I15: 0.4 | J15: 0.03 | K15: 0.005 | L15: 0
B16: ='[2]07.01.2021 3-7 лет (день 9) '!B15 -> Хлеб ржано-пшеничный | C16: 50 | D16: 3.3 | E16: 0.6 | F16: 16.7 | G16: 87 | H16: 17.5 | I16: 1.95 | J16: 0.09 | K16: 0.04 | L16: 0
B17: ='[2]07.01.2021 3-7 лет (день 9) '!B16 -> Компот из сухофруктов | C17: 200 | D17: 0.48 | E17: 0 | F17: 23.8 | G17: 90 | H17: 49.14 | I17: 0.01 | J17: 0 | K17: 0 | L17: 0.4 | M17: 241
A22: Полдник | B22: ='[2]07.01.2021 3-7 лет (день 9) '!B20 -> Компот из свеж. морож. ягод | C22: 200 | D22: 0.025 | E22: 0.05 | F22: 15.83 | G22: 61.86 | H22: 9.28 | I22: 0.37 | J22: 0.005 | K22: 0.005 | L22: 50 | M22: 247
B23: =' 3-7 лет (день 9) '!B24 -> Пирожок рыбный | C23: 70 | D23: 7.53 | E23: 7.41 | F23: 29.42 | G23: 185.3 | H23: 19.4 | I23: 0.48 | J23: 0.06 | K23: 0.05 | L23: 0.3 | M23: 294, 312, 313
B24: =' 3-7 лет (день 9) '!B25 -> Яблоко | C24: 100 | D24: 0.9 | E24: 0.2 | F24: 23.07 | G24: 98 | H24: 34.5 | I24: 0.35 | J24: 0.04 | K24: 0.03 | L24: 60
A25: Ужин | B25: ='[2]07.01.2021 3-7 лет (день 9) '!B25 -> Омлет | C25: 140 | D25: 9.2 | E25: 12.18 | F25: 5.19 | G25: 165 | H25: 104.3 | I25: 1.64 | J25: 0.08 | K25: 0.06 | L25: 3.53 | M25: 111
B26: ='[2]07.01.2021 3-7 лет (день 9) '!B26 -> Хлеб пшеничный | C26: 30 | D26: 2.355 | E26: 0.3 | F26: 14.475 | G26: 72 | H26: 6.9 | I26: 0.6 | J26: 0.045 | K26: 0.0075 | L26: 0
B27: ='[2]07.01.2021 3-7 лет (день 9) '!B27 -> Чай с сахаром | C27: 180/12 | D27: 0 | E27: 0 | F27: 11.98 | G27: 43 | H27: 0.35 | I27: 0.06 | J27: 0 | K27: 0 | L27: 0 | M27: 263, 264
B29: ВСЕГО за день | D29: =SUM(D8:D28) -> 51.16 | E29: =SUM(E8:E28) -> 58.07 | F29: =SUM(F8:F28) -> 251.815 | G29: =SUM(G8:G28) -> 1695.16 | H29: =SUM(H8:H28) -> 871.58 | I29: =SUM(I8:I28) -> 9.87 | J29: =SUM(J8:J28) -> 0.72 | K29: =SUM(K8:K28) -> 0.4175 | L29: =SUM(L8:L28) -> 154.89
A31: Ответственный за питание _________________________ С.В.Залевская

Sheet БГП  
A1: =' 3-7 лет (день 9) '!K7 -> 46266
A2: Час изготовления блюда | B2: Время снятия бракеража | C2: Наименование блюда, кулинарного изделия | D2: Результаты органолептической оценки и степени готовности блюда, кулинарного изделия | E2: Разрешение к реализации блюда, кулинарного изделия | F2: Подписи членов бракеражной комиссии | G2: Примечание
A5: Завтрак 7:00-8:30 | B5: 0.36111111 | C5: =' 3-7 лет (день 9) '!B10 -> Каша манная молочная | D5: отлично | E5: разрешено
C6: =' 3-7 лет (день 9) '!B11 -> Бутерброд с маслом | D6: отлично | E6: разрешено
C7: Бутерброд с маслом | D7: отлично | E7: разрешено
C8: =' 3-7 лет (день 9) '!B12 -> Какао с молоком | D8: отлично | E8: разрешено
A9: Обед 9:00-11:30 | B9: 0.48611111 | C9: =' 3-7 лет (день 9) '!B15 -> Суп шахтерский | D9: отлично | E9: разрешено
C10: =' 3-7 лет (день 9) '!B16 -> Капуста, тушеная с мясом | D10: отлично | E10: разрешено
C11: =' 3-7 лет (день 9) '!B17 -> Хлеб пшеничный | D11: отлично | E11: разрешено
C12: =' 3-7 лет (день 9) '!B18 -> Хлеб ржано-пшеничный | D12: отлично | E12: разрешено
C13: =' 3-7 лет (день 9) '!B19 -> Компот из сухофруктов | D13: отлично | E13: разрешено
A17: Полдник 13:00-15:00 | B17: 0.63888889 | C17: =' 3-7 лет (день 9) '!B23 -> Компот из свеж. морож. ягод | D17: отлично | E17: разрешено
C18: =' 3-7 лет (день 9) '!B24 -> Пирожок рыбный | D18: отлично | E18: разрешено
C19: =' 3-7 лет (день 9) '!B25 -> Яблоко | D19: отлично | E19: разрешено
A20: Ужин 15:00-16:30 | B20: 0.69444444 | C20: =' 3-7 лет (день 9) '!B28 -> Омлет | D20: отлично | E20: разрешено
C21: =' 3-7 лет (день 9) '!B29 -> Хлеб пшеничный | D21: отлично | E21: разрешено
C22: =' 3-7 лет (день 9) '!B30 -> Чай с сахаром | D22: отлично | E22: разрешено
