Workbook

Sheet  1,5-2 года (день 7)
A1: Утверждаю
A2: Заведующий МКДОУ Ташаринский детский сад "Лесовичок" | H2: Меню - требование на выдачу продуктов питания
A3: _________________ Чугуева Т.В.
A4: подпись | H4: Учреждение МКДОУ "Ташаринский детский сад"Лесовичок"
H5: Ответственное лицо Романашенко Г.М.
C7: детей в количестве | F7: 1 | G7: человек (1,5-2года) на | K7: =' 3-7 лет (день 7)'!K7 -> 46293
B8: Наименование продуктов | C8: Кол-во человек | D8: =[1]Цены!A1 -> Хлеб пшеничный | E8: =[1]Цены!B1 -> Хлеб ржано-пшеничный | F8: =[1]Цены!C1 -> Сахар | G8: =[1]Цены!D1 -> Чай | H8: =[1]Цены!E1 -> Какао | I8: =[1]Цены!F1 -> Кофейный напиток | J8: =[1]Цены!G1 -> Молоко 2,5% | K8: =[1]Цены!H1 -> Масло сливочное | ... AE8: =[1]Цены!AB1 -> Ягода свежемороженная | AF8: ='СВО 3-7 лет '!AF8:AF9 -> Апельсин | AG8: ='СВО 3-7 лет '!AG8:AG9 -> Банан | AH8: ='СВО 3-7 лет '!AH8:AH9 -> Лимон | AI8: ='СВО 3-7 лет '!AI8:AI9 -> Яблоко | AJ8: =[1]Цены!AD1 -> Кисель | AK8: =[1]Цены!AE1 -> Сок | AL8: =[1]Цены!AF1 -> Макаронные изделия | AM8: =[1]Цены!AG1 -> Мука | AN8: =[1]Цены!AH1 -> Дрожжи | AO8: =[1]Цены!AI1 -> Печенье | AP8: =[1]Цены!AJ1 -> Пряники | AQ8: =[1]Цены!AK1 -> Вафли | ... BQ8: =[1]Цены!BK1 -> Соль | BR8: Лимонная кислота | BS8: Итого расход за день | BT8: ИТОГО на 1 Чел
B9: Меню
A10: Завтрак | B10: =' 3-7 лет (день 7)'!B10 -> Каша пшеничная молочная | C10: =$F$7 -> 1 | F10: 0.004 | K10: 0.002 | M10: 0.0124 | AZ10: 0.015 | BQ10: 0.0005
B11: =' 3-7 лет (день 7)'!B11 -> Бутерброд с джемом | D11: 0.02 | Q11: 0.005
B12: =' 3-7 лет (день 7)'!B12 -> Какао с молоком | F12: 0.009 | H12: 0.001 | J12: 0.08
A15: Второй завтрак | B15: Яблоко | C15: =F7 -> 1 | AI15: 0.108
B16: Банан
A17: Обед | B17: =' 3-7 лет (день 7)'!B17 -> Суп "Волна" | C17: =F7 -> 1 | K17: 0.002 | X17: 0.33333333 | BD17: 0.027 | BJ17: 0.133 | BK17: 0.014 | BL17: 0.01 | BP17: 0.001 | BQ17: 0.001
B18: =' 3-7 лет (день 7)'!B18 -> Голубцы ленивые | X18: 0.076923077 | BC18: 0.004 | BE18: 0.025 | BF18: 0.015 | BL18: 0.004 | BM18: 0.04 | BP18: 0.001 | BQ18: 0.001
B19: =' 3-7 лет (день 7)'!B19 -> Соус сметанный | K19: 0.001 | L19: 0.01 | AM19: 0.001
B20: =' 3-7 лет (день 7)'!B20 -> Макароны отварные | K20: 0.004 | AL20: 0.03 | BQ20: 0.0005
B21: =' 3-7 лет (день 7)'!B21 -> Хлеб пшеничный | D21: 0.02
B22: =' 3-7 лет (день 7)'!B22 -> Хлеб ржано-пшеничный | E22: 0.04
B23: =' 3-7 лет (день 7)'!B23 -> Компот из кураги | F23: 0.009 | AA23: 0.01 | BR23: 3.5e-05
A24: Полдник | B24: =' 3-7 лет (день 7)'!B24 -> Напиток из шиповника | C24: =$F$7 -> 1 | F24: 0.011 | AC24: 0.008
B25: =' 3-7 лет (день 7)'!B25 -> Ватрушка с повидлом | F25: 0.0017 | K25: 0.002 | X25: 0.041666 | AM25: 0.04 | AN25: 0.0012 | AS25: 0.01 | BP25: 0.0009
B26: =' 3-7 лет (день 7)'!B26 -> Яблоко
A29: Ужин | B29: =' 3-7 лет (день 7)'!B29 -> Картофельное пюре | C29: =$F$7 -> 1 | J29: 0.021 | K29: 0.004 | BJ29: 0.147 | BQ29: 0.001
B30: =' 3-7 лет (день 7)'!B30 -> Огурчик свежий | W30: 0.03
B31: =' 3-7 лет (день 7)'!B31 -> Чай с лимоном | F31: 0.009 | G31: 0.0005 | AH31: 0.005
B32: =' 3-7 лет (день 7)'!B32 -> Хлеб пшеничный | D32: 0.02
B34: Итого на 1 чел | D34: =SUM(D10:D33) -> 0.06 | E34: =SUM(E10:E33) -> 0.04 | F34: =SUM(F10:F33) -> 0.0437 | G34: =SUM(G10:G33) -> 0.0005 | H34: =SUM(H10:H33) -> 0.001 | I34: =SUM(I10:I33) -> 0 | J34: =SUM(J10:J33) -> 0.101 | K34: =SUM(K10:K33) -> 0.015 | ... BR34: =SUM(BR10:BR33) -> 3.5e-05
B35: Итого к выдаче, ГРАММ (на всех) | D35: =ROUND(PRODUCT(D34,$F$7),3) -> 0.06 | E35: =ROUND(PRODUCT(E34,$F$7),3) -> 0.04 | F35: =ROUND(PRODUCT(F34,$F$7),3) -> 0.044 | G35: =ROUND(PRODUCT(G34,$F$7),3) -> 0.001 | H35: =ROUND(PRODUCT(H34,$F$7),3) -> 0.001 | I35: =ROUND(PRODUCT(I34,$F$7),3) -> 0 | J35: =ROUND(PRODUCT(J34,$F$7),3) -> 0.101 | K35: =ROUND(PRODUCT(K34,$F$7),3) -> 0.015 | ... BR35: =ROUND(PRODUCT(BR34,$F$7),3) -> 0
D37: Ответственный калькулятор | H37: _________________ | K37: С.В.Залевская
D38: исполнитель | F38: должность | H38: подпись
F40: Повар | H40: ___________________ | K40: =' 3-7 лет (день 7)'!K41 -> 0
H41: подпись
B48: ЦЕНА ЗА КИЛОГРАММ (покупная) | C48: руб | D48: 90.9 | E48: 96 | F48: 91 | G48: 816 | H48: 1680 | I48: 1050 | J48: 90.57 | K48: 1166.67 | L48: 255.2 | M48: 833 | N48: 126.38 | O48: 387.53 | P48: 663.16 | Q48: 526.67 | R48: 1295 | U48: 1012 | V48: 470.67 | W48: 348 | X48: 9.4 | Y48: 266.5 | Z48: 367 | AA48: 524 | AB48: 330 | AC48: 299 | AD48: 148 | AE48: 842 | AG48: 180 | AH48: 359 | AI48: 160 | AJ48: 309.1 | AK48: 94 | AL48: 73 | AM48: 51.6 | AN48: 250 | AO48: 272 | AQ48: 425 | AR48: 800 | AS48: 294.25 | AT48: 95 | AU48: 87.33 | AV48: 73.33 | AW48: 80 | AX48: 89.29 | AY48: 63.75 | AZ48: 104.62 | BA48: 81.33 | BB48: 71.67 | BC48: 152.67 | BD48: 378 | BE48: 574 | BF48: 696 | BG48: 324 | BH48: 604 | BJ48: 38 | BK48: 38 | BL48: 33 | BM48: 43 | BN48: 43 | BO48: 306.32 | BP48: 190 | BQ48: 26
B49: ЦЕНА ЗА ГРАММ (покупная) | C49: руб | D49: =D48/1000 -> 0.0909 | E49: =E48/1000 -> 0.096 | F49: =F48/1000 -> 0.091 | G49: =G48/1000 -> 0.816 | H49: =H48/1000 -> 1.68 | I49: =I48/1000 -> 1.05 | J49: =J48/1000 -> 0.09057 | K49: =K48/1000 -> 1.16667 | ... BR49: =BR48/1000 -> 0
B50: Израсходовано на сумму (за граммы) | D50: =D35*D48 -> 5.454 | E50: =E35*E48 -> 3.84 | F50: =F35*F48 -> 4.004 | G50: =G35*G48 -> 0.816 | H50: =H35*H48 -> 1.68 | I50: =I35*I48 -> 0 | J50: =J35*J48 -> 9.14757 | K50: =K35*K48 -> 17.50005 | ... BR50: =BR35*BR48 -> 0 | BS50: =SUM(D50:BQ50) -> 157.72085 | BT50: =BS50/$C$10 -> 157.72085
B51: Израсходовано на сумму (за кг) | D51: =D35*D48 -> 5.454 | E51: =E35*E48 -> 3.84 | F51: =F35*F48 -> 4.004 | G51: =G35*G48 -> 0.816 | H51: =H35*H48 -> 1.68 | I51: =I35*I48 -> 0 | J51: =J35*J48 -> 9.14757 | K51: =K35*K48 -> 17.50005 | ... BR51: =BR35*BR48 -> 0 | BS51: =SUM(D51:BQ51) -> 157.72085 | BT51: =BS51/$C$10 -> 157.72085
B52: P/S: Итого к выдаче Яйцо- указано в шт. | D52: =D69+D87+D103+D119 -> 5.454 | E52: =E69+E87+E103+E119 -> 3.84 | F52: =F69+F87+F103+F119 -> 3.9767 | G52: =G69+G87+G103+G119 -> 0.408 | H52: =H69+H87+H103+H119 -> 1.68 | I52: =I69+I87+I103+I119 -> 0 | J52: =J69+J87+J103+J119 -> 9.14757 | K52: =K69+K87+K103+K119 -> 17.50005 | ... BR52: =BR69+BR87+BR103+BR119 -> 0
B53: Цена за яйцо, указана за 1 шт. | BT53: =BT69+BT87+BT103+BT119 -> 164.32095
J55: 10 | K55: детей в количестве | S55: на 18.03.2019
...

Sheet ОВЗ 3-7 лет  
A1: Утверждаю
A2: Заведующий МКДОУ Ташаринский детский сад "Лесовичок" | H2: Меню - требование на выдачу продуктов питания
A3: _________________ Чугуева Т.В.
A4: подпись | H4: Учреждение МКДОУ "Ташаринский детский сад"Лесовичок"
H5: Ответственное лицо Романашенко Г.М.
B7: ОВЗ | C7: детей в количестве | E7: 1 | F7: человек (3-7 лет) на | K7: =' 3-7 лет (день 7)'!K7 -> 46293
B8: Наименование продуктов | C8: Кол-во человек | D8: =[1]Цены!A1 -> Хлеб пшеничный | E8: =[1]Цены!B1 -> Хлеб ржано-пшеничный | F8: =[1]Цены!C1 -> Сахар | G8: =[1]Цены!D1 -> Чай | H8: =[1]Цены!E1 -> Какао | I8: =[1]Цены!F1 -> Кофейный напиток | J8: =[1]Цены!G1 -> Молоко 2,5% | K8: =[1]Цены!H1 -> Масло сливочное | ... AE8: =[1]Цены!AB1 -> Ягода свежемороженная | AF8: =' 3-7 лет (день 7)'!AF8:AF9 -> Апельсин | AG8: =' 3-7 лет (день 7)'!AG8:AG9 -> Банан | AH8: =' 3-7 лет (день 7)'!AH8:AH9 -> Лимон | AI8: =' 3-7 лет (день 7)'!AI8:AI9 -> Яблоко | AJ8: =[1]Цены!AD1 -> Кисель | AK8: =[1]Цены!AE1 -> Сок | AL8: =[1]Цены!AF1 -> Макаронные изделия | AM8: =[1]Цены!AG1 -> Мука | AN8: =[1]Цены!AH1 -> Дрожжи | AO8: =[1]Цены!AI1 -> Печенье | AP8: =[1]Цены!AJ1 -> Пряники | AQ8: =[1]Цены!AK1 -> Вафли | ... BQ8: =[1]Цены!BK1 -> Соль | BR8: Лимонная кислота | BS8: Итого расход за день | BT8: ИТОГО на 1 Чел
B9: Меню
A10: Завтрак | B10: =' 3-7 лет (день 7)'!B10 -> Каша пшеничная молочная | C10: =$E$7 -> 1 | F10: 0.005 | K10: 0.003 | M10: 0.0165 | AZ10: 0.02 | BQ10: 0.0005
B11: =' 3-7 лет (день 7)'!B11 -> Бутерброд с джемом | D11: 0.03 | Q11: 0.008
B12: =' 3-7 лет (день 7)'!B12 -> Какао с молоком | F12: 0.011 | H12: 0.0012 | J12: 0.096
A15: Второй завтрак | B15: Яблоко | C15: =E7 -> 1 | AI15: 0.114
B16: Банан
A17: Обед | B17: =' 3-7 лет (день 7)'!B17 -> Суп "Волна" | C17: =E7 -> 1 | K17: 0.003 | X17: 0.5 | BD17: 0.035 | BJ17: 0.188 | BK17: 0.017 | BL17: 0.012 | BP17: 0.002 | BQ17: 0.002
B18: =' 3-7 лет (день 7)'!B18 -> Голубцы ленивые | X18: 0.1 | BC18: 0.0042 | BE18: 0.027 | BF18: 0.021 | BL18: 0.005 | BM18: 0.055 | BP18: 0.002 | BQ18: 0.002
B19: =' 3-7 лет (день 7)'!B19 -> Соус сметанный | K19: 0.001 | L19: 0.015 | AM19: 0.001
B20: =' 3-7 лет (день 7)'!B20 -> Макароны отварные | K20: 0.005 | AL20: 0.035 | BQ20: 0.0005
B21: =' 3-7 лет (день 7)'!B21 -> Хлеб пшеничный | D21: 0.03
B22: =' 3-7 лет (день 7)'!B22 -> Хлеб ржано-пшеничный | E22: 0.05
B23: =' 3-7 лет (день 7)'!B23 -> Компот из кураги | F23: 0.012 | AA23: 0.01 | BR23: 5e-05
A24: Полдник | B24: =' 3-7 лет (день 7)'!B24 -> Напиток из шиповника | C24: =$E$7 -> 1 | F24: 0.015 | AC24: 0.012
B25: =' 3-7 лет (день 7)'!B25 -> Ватрушка с повидлом | F25: 0.002 | K25: 0.002 | X25: 0.05 | AM25: 0.04 | AN25: 0.0022857 | AS25: 0.02 | BP25: 0.001
B26: =' 3-7 лет (день 7)'!B26 -> Яблоко
A29: Ужин | B29: =' 3-7 лет (день 7)'!B29 -> Картофельное пюре | C29: =$E$7 -> 1 | J29: 0.024 | K29: 0.005 | BJ29: 0.192 | BQ29: 0.001
B30: =' 3-7 лет (день 7)'!B30 -> Огурчик свежий | W30: 0.035
B31: =' 3-7 лет (день 7)'!B31 -> Чай с лимоном | F31: 0.012 | G31: 0.0006 | AH31: 0.005
B32: =' 3-7 лет (день 7)'!B32 -> Хлеб пшеничный | D32: 0.02
B34: Итого на 1 чел | D34: =SUM(D10:D33) -> 0.08 | E34: =SUM(E10:E33) -> 0.05 | F34: =SUM(F10:F33) -> 0.057 | G34: =SUM(G10:G33) -> 0.0006 | H34: =SUM(H10:H33) -> 0.0012 | I34: =SUM(I10:I33) -> 0 | J34: =SUM(J10:J33) -> 0.12 | K34: =SUM(K10:K33) -> 0.019 | ... BR34: =SUM(BR10:BR33) -> 5e-05
B35: К выдаче, ГРАММ (на всех) | D35: =ROUND(PRODUCT(D34,$E$7),3) -> 0.08 | E35: =ROUND(PRODUCT(E34,$E$7),3) -> 0.05 | F35: =ROUND(PRODUCT(F34,$E$7),3) -> 0.057 | G35: =ROUND(PRODUCT(G34,$E$7),3) -> 0.001 | H35: =ROUND(PRODUCT(H34,$E$7),3) -> 0.001 | I35: =ROUND(PRODUCT(I34,$E$7),3) -> 0 | J35: =ROUND(PRODUCT(J34,$E$7),3) -> 0.12 | K35: =ROUND(PRODUCT(K34,$E$7),3) -> 0.019 | ... BR35: =ROUND(PRODUCT(BR34,$E$7),3) -> 0
D37: Ответственный калькулятор | H37: _________________ | K37: С.В.Залевская
D38: исполнитель | F38: должность | H38: подпись
F40: Повар | H40: ___________________ | K40: =' 3-7 лет (день 7)'!K41 -> 0
H41: подпись
B48: ЦЕНА ЗА КИЛОГРАММ (покупная) | C48: руб | D48: 90.9 | E48: 96 | F48: 91 | G48: 816 | H48: 1680 | I48: 1050 | J48: 90.57 | K48: 1166.67 | L48: 255.2 | M48: 833 | N48: 126.38 | O48: 387.53 | P48: 663.16 | Q48: 526.67 | R48: 1295 | U48: 1012 | V48: 470.67 | W48: 348 | X48: 9.4 | Y48: 266.5 | Z48: 367 | AA48: 524 | AB48: 330 | AC48: 299 | AD48: 148 | AE48: 842 | AG48: 180 | AH48: 359 | AI48: 160 | AJ48: 309.1 | AK48: 94 | AL48: 73 | AM48: 51.6 | AN48: 250 | AO48: 272 | AQ48: 425 | AR48: 800 | AS48: 294.25 | AT48: 95 | AU48: 87.33 | AV48: 73.33 | AW48: 80 | AX48: 89.29 | AY48: 63.75 | AZ48: 104.62 | BA48: 81.33 | BB48: 71.67 | BC48: 152.67 | BD48: 378 | BE48: 574 | BF48: 696 | BG48: 324 | BH48: 604 | BJ48: 38 | BK48: 38 | BL48: 33 | BM48: 43 | BN48: 43 | BO48: 306.32 | BP48: 190 | BQ48: 26
B49: ЦЕНА ЗА ГРАММ (покупная) | C49: руб | D49: =D48/1000 -> 0.0909 | E49: =E48/1000 -> 0.096 | F49: =F48/1000 -> 0.091 | G49: =G48/1000 -> 0.816 | H49: =H48/1000 -> 1.68 | I49: =I48/1000 -> 1.05 | J49: =J48/1000 -> 0.09057 | K49: =K48/1000 -> 1.16667 | ... BR49: =BR48/1000 -> 0
B50: Израсходовано на сумму (за граммы) | D50: =D35*D48 -> 7.272 | E50: =E35*E48 -> 4.8 | F50: =F35*F48 -> 5.187 | G50: =G35*G48 -> 0.816 | H50: =H35*H48 -> 1.68 | I50: =I35*I48 -> 0 | J50: =J35*J48 -> 10.8684 | K50: =K35*K48 -> 22.16673 | ... BR50: =BR35*BR48 -> 0 | BS50: =SUM(D50:BQ50) -> 198.36617 | BT50: =BS50/$C$10 -> 198.36617
B51: Израсходовано на сумму (за кг) | D51: =D35*D48 -> 7.272 | E51: =E35*E48 -> 4.8 | F51: =F35*F48 -> 5.187 | G51: =G35*G48 -> 0.816 | H51: =H35*H48 -> 1.68 | I51: =I35*I48 -> 0 | J51: =J35*J48 -> 10.8684 | K51: =K35*K48 -> 22.16673 | ... BR51: =BR35*BR48 -> 0 | BS51: =SUM(D51:BQ51) -> 198.36617 | BT51: =BS51/$C$10 -> 198.36617
B52: P/S: Итого к выдаче Яйцо- указано в шт. | D52: =D69+D87+D103+D119 -> 7.272 | E52: =E69+E87+E103+E119 -> 4.8 | F52: =F69+F87+F103+F119 -> 5.187 | G52: =G69+G87+G103+G119 -> 0.4896 | H52: =H69+H87+H103+H119 -> 2.016 | I52: =I69+I87+I103+I119 -> 0 | J52: =J69+J87+J103+J119 -> 10.8684 | K52: =K69+K87+K103+K119 -> 22.16673 | ... BR52: =BR69+BR87+BR103+BR119 -> 0 | BS52: =SUM(D52:BQ52) -> 483.91123
B53: Цена за яйцо, указана за 1 шт. | BS53: =BS52/56 -> 8.6412719 | BT53: =BT68+BT86+BT102+BT118 -> 483.91123
J55: 44 | K55: детей в количестве | S55: на 18.03.2019
...

Sheet СВО 3-7 лет 
A1: Утверждаю
A2: Заведующий МКДОУ Ташаринский детский сад "Лесовичок" | H2: Меню - требование на выдачу продуктов питания
A3: _________________ Чугуева Т.В.
A4: подпись | H4: Учреждение МКДОУ "Ташаринский детский сад"Лесовичок"
H5: Ответственное лицо Романашенко Г.М.
B7: СВО | C7: детей в количестве | E7: 1 | F7: человек (3-7 лет) на | K7: =' 3-7 лет (день 7)'!K7 -> 46293
B8: Наименование продуктов | C8: Кол-во человек | D8: =[1]Цены!A1 -> Хлеб пшеничный | E8: =[1]Цены!B1 -> Хлеб ржано-пшеничный | F8: =[1]Цены!C1 -> Сахар | G8: =[1]Цены!D1 -> Чай | H8: =[1]Цены!E1 -> Какао | I8: =[1]Цены!F1 -> Кофейный напиток | J8: =[1]Цены!G1 -> Молоко 2,5% | K8: =[1]Цены!H1 -> Масло сливочное | ... AE8: =[1]Цены!AB1 -> Ягода свежемороженная | AF8: =' 3-7 лет (день 7)'!AF8:AF9 -> Апельсин | AG8: =' 3-7 лет (день 7)'!AG8:AG9 -> Банан | AH8: =' 3-7 лет (день 7)'!AH8:AH9 -> Лимон | AI8: =' 3-7 лет (день 7)'!AI8:AI9 -> Яблоко | AJ8: =[1]Цены!AD1 -> Кисель | AK8: =[1]Цены!AE1 -> Сок | AL8: =[1]Цены!AF1 -> Макаронные изделия | AM8: =[1]Цены!AG1 -> Мука | AN8: =[1]Цены!AH1 -> Дрожжи | AO8: =[1]Цены!AI1 -> Печенье | AP8: =[1]Цены!AJ1 -> Пряники | AQ8: =[1]Цены!AK1 -> Вафли | ... BQ8: =[1]Цены!BK1 -> Соль | BR8: Лимонная кислота | BS8: Итого расход за день | BT8: ИТОГО на 1 Чел
B9: Меню
A10: Завтрак | B10: =' 3-7 лет (день 7)'!B10 -> Каша пшеничная молочная | C10: =$E$7 -> 1 | F10: 0.005 | K10: 0.003 | M10: 0.0165 | AZ10: 0.02 | BQ10: 0.0005
B11: =' 3-7 лет (день 7)'!B11 -> Бутерброд с джемом | D11: 0.03 | Q11: 0.008
B12: =' 3-7 лет (день 7)'!B12 -> Какао с молоком | F12: 0.011 | H12: 0.0012 | J12: 0.096
A15: Второй завтрак | B15: Яблоко | C15: =E7 -> 1 | AI15: 0.114
B16: Банан
A17: Обед | B17: =' 3-7 лет (день 7)'!B17 -> Суп "Волна" | C17: =E7 -> 1 | K17: 0.003 | X17: 0.5 | BD17: 0.035 | BJ17: 0.188 | BK17: 0.017 | BL17: 0.012 | BP17: 0.002 | BQ17: 0.002
B18: =' 3-7 лет (день 7)'!B18 -> Голубцы ленивые | X18: 0.1 | BC18: 0.0042 | BE18: 0.027 | BF18: 0.021 | BL18: 0.005 | BM18: 0.055 | BP18: 0.002 | BQ18: 0.002
B19: =' 3-7 лет (день 7)'!B19 -> Соус сметанный | K19: 0.001 | L19: 0.015 | AM19: 0.001
B20: =' 3-7 лет (день 7)'!B20 -> Макароны отварные | K20: 0.005 | AL20: 0.035 | BQ20: 0.0005
B21: =' 3-7 лет (день 7)'!B21 -> Хлеб пшеничный | D21: 0.03
B22: =' 3-7 лет (день 7)'!B22 -> Хлеб ржано-пшеничный | E22: 0.05
B23: =' 3-7 лет (день 7)'!B23 -> Компот из кураги | F23: 0.012 | AA23: 0.01 | BR23: 5e-05
A24: Полдник | B24: =' 3-7 лет (день 7)'!B24 -> Напиток из шиповника | C24: =$E$7 -> 1 | F24: 0.015 | AC24: 0.012
B25: =' 3-7 лет (день 7)'!B25 -> Ватрушка с повидлом | F25: 0.002 | K25: 0.002 | X25: 0.05 | AM25: 0.04 | AN25: 0.0022857 | AS25: 0.02 | BP25: 0.001
B26: =' 3-7 лет (день 7)'!B26 -> Яблоко
A29: Ужин | B29: =' 3-7 лет (день 7)'!B29 -> Картофельное пюре | C29: =$E$7 -> 1 | J29: 0.024 | K29: 0.005 | BJ29: 0.192 | BQ29: 0.001
B30: =' 3-7 лет (день 7)'!B30 -> Огурчик свежий | W30: 0.035
B31: =' 3-7 лет (день 7)'!B31 -> Чай с лимоном | F31: 0.012 | G31: 0.0006 | AH31: 0.005
B32: =' 3-7 лет (день 7)'!B32 -> Хлеб пшеничный | D32: 0.02
B34: Итого на 1 чел | D34: =SUM(D10:D33) -> 0.08 | E34: =SUM(E10:E33) -> 0.05 | F34: =SUM(F10:F33) -> 0.057 | G34: =SUM(G10:G33) -> 0.0006 | H34: =SUM(H10:H33) -> 0.0012 | I34: =SUM(I10:I33) -> 0 | J34: =SUM(J10:J33) -> 0.12 | K34: =SUM(K10:K33) -> 0.019 | ... BR34: =SUM(BR10:BR33) -> 5e-05
B35: К выдаче, ГРАММ (на всех) | D35: =ROUND(PRODUCT(D34,$E$7),3) -> 0.08 | E35: =ROUND(PRODUCT(E34,$E$7),3) -> 0.05 | F35: =ROUND(PRODUCT(F34,$E$7),3) -> 0.057 | G35: =ROUND(PRODUCT(G34,$E$7),3) -> 0.001 | H35: =ROUND(PRODUCT(H34,$E$7),3) -> 0.001 | I35: =ROUND(PRODUCT(I34,$E$7),3) -> 0 | J35: =ROUND(PRODUCT(J34,$E$7),3) -> 0.12 | K35: =ROUND(PRODUCT(K34,$E$7),3) -> 0.019 | ... BR35: =ROUND(PRODUCT(BR34,$E$7),3) -> 0
D37: Ответственный калькулятор | H37: _________________ | K37: С.В.Залевская
D38: исполнитель | F38: должность | H38: подпись
F40: Повар | H40: ___________________ | K40: =' 3-7 лет (день 7)'!K41 -> 0
H41: подпись
B48: ЦЕНА ЗА КИЛОГРАММ (покупная) | C48: руб | D48: 90.9 | E48: 96 | F48: 91 | G48: 816 | H48: 1680 | I48: 1050 | J48: 90.57 | K48: 1166.67 | L48: 255.2 | M48: 833 | N48: 126.38 | O48: 387.53 | P48: 663.16 | Q48: 526.67 | R48: 1295 | U48: 1012 | V48: 470.67 | W48: 348 | X48: 9.4 | Y48: 266.5 | Z48: 367 | AA48: 524 | AB48: 330 | AC48: 299 | AD48: 148 | AE48: 842 | AG48: 180 | AH48: 359 | AI48: 160 | AJ48: 309.1 | AK48: 94 | AL48: 73 | AM48: 51.6 | AN48: 250 | AO48: 272 | AQ48: 425 | AR48: 800 | AS48: 294.25 | AT48: 95 | AU48: 87.33 | AV48: 73.33 | AW48: 80 | AX48: 89.29 | AY48: 63.75 | AZ48: 104.62 | BA48: 81.33 | BB48: 71.67 | BC48: 152.67 | BD48: 378 | BE48: 574 | BF48: 696 | BG48: 324 | BH48: 604 | BJ48: 38 | BK48: 38 | BL48: 33 | BM48: 43 | BN48: 43 | BO48: 306.32 | BP48: 190 | BQ48: 26
B49: ЦЕНА ЗА ГРАММ (покупная) | C49: руб | D49: =D48/1000 -> 0.0909 | E49: =E48/1000 -> 0.096 | F49: =F48/1000 -> 0.091 | G49: =G48/1000 -> 0.816 | H49: =H48/1000 -> 1.68 | I49: =I48/1000 -> 1.05 | J49: =J48/1000 -> 0.09057 | K49: =K48/1000 -> 1.16667 | ... BR49: =BR48/1000 -> 0
B50: Израсходовано на сумму (за граммы) | D50: =D35*D48 -> 7.272 | E50: =E35*E48 -> 4.8 | F50: =F35*F48 -> 5.187 | G50: =G35*G48 -> 0.816 | H50: =H35*H48 -> 1.68 | I50: =I35*I48 -> 0 | J50: =J35*J48 -> 10.8684 | K50: =K35*K48 -> 22.16673 | ... BR50: =BR35*BR48 -> 0 | BS50: =SUM(D50:BQ50) -> 198.36617 | BT50: =BS50/$C$10 -> 198.36617
B51: Израсходовано на сумму (за кг) | D51: =D35*D48 -> 7.272 | E51: =E35*E48 -> 4.8 | F51: =F35*F48 -> 5.187 | G51: =G35*G48 -> 0.816 | H51: =H35*H48 -> 1.68 | I51: =I35*I48 -> 0 | J51: =J35*J48 -> 10.8684 | K51: =K35*K48 -> 22.16673 | ... BR51: =BR35*BR48 -> 0 | BS51: =SUM(D51:BQ51) -> 198.36617 | BT51: =BS51/$C$10 -> 198.36617
B52: P/S: Итого к выдаче Яйцо- указано в шт. | D52: =D69+D87+D103+D119 -> 7.272 | E52: =E69+E87+E103+E119 -> 4.8 | F52: =F69+F87+F103+F119 -> 5.187 | G52: =G69+G87+G103+G119 -> 0.4896 | H52: =H69+H87+H103+H119 -> 2.016 | I52: =I69+I87+I103+I119 -> 0 | J52: =J69+J87+J103+J119 -> 10.8684 | K52: =K69+K87+K103+K119 -> 22.16673 | ... BR52: =BR69+BR87+BR103+BR119 -> 0 | BS52: =SUM(D52:BQ52) -> 483.91123
B53: Цена за яйцо, указана за 1 шт. | BS53: =BS52/56 -> 8.6412719 | BT53: =BT68+BT86+BT102+BT118 -> 483.91123
J55: 44 | K55: детей в количестве | S55: на 18.03.2019
...

Sheet  3-7 лет (день 7)
A1: Утверждаю
A2: Заведующий МКДОУ Ташаринский детский сад "Лесовичок" | H2: Меню - требование на выдачу продуктов питания
A3: _________________ Чугуева Т.В.
A4: подпись | H4: Учреждение МКДОУ "Ташаринский детский сад"Лесовичок"
H5: Ответственное лицо Романашенко Г.М.
C7: детей в количестве | E7: 1 | F7: человек (3-7 лет) на | K7: 46293
B8: Наименование продуктов | C8: Кол-во человек | D8: =[1]Цены!A1 -> Хлеб пшеничный | E8: =[1]Цены!B1 -> Хлеб ржано-пшеничный | F8: =[1]Цены!C1 -> Сахар | G8: =[1]Цены!D1 -> Чай | H8: =[1]Цены!E1 -> Какао | I8: =[1]Цены!F1 -> Кофейный напиток | J8: =[1]Цены!G1 -> Молоко 2,5% | K8: =[1]Цены!H1 -> Масло сливочное | ... AE8: =[1]Цены!AB1 -> Ягода свежемороженная | AF8: Апельсин | AG8: Банан | AH8: =[1]Цены!AC1 -> Лимон | AI8: Яблоко | AJ8: =[1]Цены!AD1 -> Кисель | AK8: =[1]Цены!AE1 -> Сок | AL8: =[1]Цены!AF1 -> Макаронные изделия | AM8: =[1]Цены!AG1 -> Мука | AN8: =[1]Цены!AH1 -> Дрожжи | AO8: =[1]Цены!AI1 -> Печенье | AP8: =[1]Цены!AJ1 -> Пряники | AQ8: =[1]Цены!AK1 -> Вафли | ... BQ8: =[1]Цены!BK1 -> Соль | BR8: Лимонная кислота | BS8: Итого расход за день | BT8: ИТОГО на 1 Чел
B9: Меню
A10: Завтрак | B10: Каша пшеничная молочная | C10: =$E$7 -> 1 | F10: 0.005 | K10: 0.003 | M10: 0.0165 | AZ10: 0.02 | BQ10: 0.0005
B11: Бутерброд с джемом | D11: 0.03 | Q11: 0.008
B12: Какао с молоком | F12: 0.011 | H12: 0.0012 | J12: 0.096
A15: Второй завтрак | B15: Яблоко | C15: =E7 -> 1 | AI15: 0.114
B16: Банан
A17: Обед | B17: Суп "Волна" | C17: =E7 -> 1 | K17: 0.003 | X17: 0.5 | BD17: 0.035 | BJ17: 0.188 | BK17: 0.017 | BL17: 0.012 | BP17: 0.002 | BQ17: 0.002
B18: Голубцы ленивые | X18: 0.1 | BC18: 0.0042 | BE18: 0.027 | BF18: 0.021 | BL18: 0.005 | BM18: 0.055 | BP18: 0.002 | BQ18: 0.002
B19: Соус сметанный | K19: 0.001 | L19: 0.015 | AM19: 0.001
B20: Макароны отварные | K20: 0.005 | AL20: 0.035 | BQ20: 0.0005
B21: Хлеб пшеничный | D21: 0.03
B22: Хлеб ржано-пшеничный | E22: 0.05
B23: Компот из кураги | F23: 0.012 | AA23: 0.01 | BR23: 5e-05
A24: Полдник | B24: Напиток из шиповника | C24: =$E$7 -> 1 | F24: 0.015 | AC24: 0.012
B25: Ватрушка с повидлом | F25: 0.002 | K25: 0.002 | X25: 0.05 | AM25: 0.04 | AN25: 0.0022857 | AS25: 0.02 | BP25: 0.001
B26: Яблоко
A29: Ужин | B29: Картофельное пюре | C29: =$E$7 -> 1 | J29: 0.024 | K29: 0.005 | BJ29: 0.192 | BQ29: 0.001
B30: Огурчик свежий | W30: 0.035
B31: Чай с лимоном | F31: 0.012 | G31: 0.0006 | AH31: 0.005
B32: Хлеб пшеничный | D32: 0.02
B34: Итого на 1 чел | D34: =SUM(D10:D33) -> 0.08 | E34: =SUM(E10:E33) -> 0.05 | F34: =SUM(F10:F33) -> 0.057 | G34: =SUM(G10:G33) -> 0.0006 | H34: =SUM(H10:H33) -> 0.0012 | I34: =SUM(I10:I33) -> 0 | J34: =SUM(J10:J33) -> 0.12 | K34: =SUM(K10:K33) -> 0.019 | ... BR34: =SUM(BR10:BR33) -> 5e-05
B35: К выдаче, ГРАММ (на всех) | D35: =ROUND(PRODUCT(D34,$E$7),3) -> 0.08 | E35: =ROUND(PRODUCT(E34,$E$7),3) -> 0.05 | F35: =ROUND(PRODUCT(F34,$E$7),3) -> 0.057 | G35: =ROUND(PRODUCT(G34,$E$7),3) -> 0.001 | H35: =ROUND(PRODUCT(H34,$E$7),3) -> 0.001 | I35: =ROUND(PRODUCT(I34,$E$7),3) -> 0 | J35: =ROUND(PRODUCT(J34,$E$7),3) -> 0.12 | K35: =ROUND(PRODUCT(K34,$E$7),3) -> 0.019 | ... BR35: =ROUND(PRODUCT(BR34,$E$7),3) -> 0
D36: =D35+' 1,5-2 года (день 7)'!D35+'СВО 3-7 лет '!D35+'ОВЗ 3-7 лет '!D35 -> 0.3 | E36: =E35+' 1,5-2 года (день 7)'!E35+'СВО 3-7 лет '!E35+'ОВЗ 3-7 лет '!E35 -> 0.19 | F36: =F35+' 1,5-2 года (день 7)'!F35+'СВО 3-7 лет '!F35+'ОВЗ 3-7 лет '!F35 -> 0.215 | G36: =G35+' 1,5-2 года (день 7)'!G35+'СВО 3-7 лет '!G35+'ОВЗ 3-7 лет '!G35 -> 0.004 | H36: =H35+' 1,5-2 года (день 7)'!H35+'СВО 3-7 лет '!H35+'ОВЗ 3-7 лет '!H35 -> 0.004 | I36: =I35+' 1,5-2 года (день 7)'!I35+'СВО 3-7 лет '!I35+'ОВЗ 3-7 лет '!I35 -> 0 | J36: =J35+' 1,5-2 года (день 7)'!J35+'СВО 3-7 лет '!J35+'ОВЗ 3-7 лет '!J35 -> 0.461 | K36: =K35+' 1,5-2 года (день 7)'!K35+'СВО 3-7 лет '!K35+'ОВЗ 3-7 лет '!K35 -> 0.072 | ... BR36: =BR35+' 1,5-2 года (день 7)'!BR35+'СВО 3-7 лет '!BR35+'ОВЗ 3-7 лет '!BR35 -> 0
D38: Ответственный калькулятор | H38: _________________ | K38: С.В.Залевская
D39: исполнитель | F39: должность | H39: подпись
F41: Повар | H41: ___________________
H42: подпись
B49: ЦЕНА ЗА КИЛОГРАММ (покупная) | C49: руб | D49: 90.9 | E49: 96 | F49: 91 | G49: 816 | H49: 1680 | I49: 1050 | J49: 90.57 | K49: 1166.67 | L49: 255.2 | M49: 833 | N49: 126.38 | O49: 387.53 | P49: 663.16 | Q49: 526.67 | R49: 1295 | U49: 1012 | V49: 470.67 | W49: 348 | X49: 9.4 | Y49: 266.5 | Z49: 367 | AA49: 524 | AB49: 330 | AC49: 299 | AD49: 148 | AE49: 842 | AG49: 180 | AH49: 359 | AI49: 160 | AJ49: 309.1 | AK49: 94 | AL49: 73 | AM49: 51.6 | AN49: 250 | AO49: 272 | AQ49: 425 | AR49: 800 | AS49: 294.25 | AT49: 95 | AU49: 87.33 | AV49: 73.33 | AW49: 80 | AX49: 89.29 | AY49: 63.75 | AZ49: 104.62 | BA49: 81.33 | BB49: 71.67 | BC49: 152.67 | BD49: 378 | BE49: 574 | BF49: 696 | BG49: 324 | BH49: 604 | BJ49: 38 | BK49: 38 | BL49: 33 | BM49: 43 | BN49: 43 | BO49: 306.32 | BP49: 190 | BQ49: 26
B50: ЦЕНА ЗА ГРАММ (покупная) | C50: руб | D50: =D49/1000 -> 0.0909 | E50: =E49/1000 -> 0.096 | F50: =F49/1000 -> 0.091 | G50: =G49/1000 -> 0.816 | H50: =H49/1000 -> 1.68 | I50: =I49/1000 -> 1.05 | J50: =J49/1000 -> 0.09057 | K50: =K49/1000 -> 1.16667 | ... BR50: =BR49/1000 -> 0
B51: Израсходовано на сумму (за граммы) | D51: =D35*D49 -> 7.272 | E51: =E35*E49 -> 4.8 | F51: =F35*F49 -> 5.187 | G51: =G35*G49 -> 0.816 | H51: =H35*H49 -> 1.68 | I51: =I35*I49 -> 0 | J51: =J35*J49 -> 10.8684 | K51: =K35*K49 -> 22.16673 | ... BR51: =BR35*BR49 -> 0 | BS51: =SUM(D51:BQ51) -> 198.36617 | BT51: =BS51/$C$10 -> 198.36617
B52: Израсходовано на сумму (за кг) | D52: =D35*D49 -> 7.272 | E52: =E35*E49 -> 4.8 | F52: =F35*F49 -> 5.187 | G52: =G35*G49 -> 0.816 | H52: =H35*H49 -> 1.68 | I52: =I35*I49 -> 0 | J52: =J35*J49 -> 10.8684 | K52: =K35*K49 -> 22.16673 | ... BR52: =BR35*BR49 -> 0 | BS52: =SUM(D52:BQ52) -> 198.36617 | BT52: =BS52/$C$10 -> 198.36617
B53: P/S: Итого к выдаче Яйцо- указано в шт. | D53: =D70+D88+D104+D120 -> 7.272 | E53: =E70+E88+E104+E120 -> 4.8 | F53: =F70+F88+F104+F120 -> 5.187 | G53: =G70+G88+G104+G120 -> 0.4896 | H53: =H70+H88+H104+H120 -> 2.016 | I53: =I70+I88+I104+I120 -> 0 | J53: =J70+J88+J104+J120 -> 10.8684 | K53: =K70+K88+K104+K120 -> 22.16673 | ... BR53: =BR70+BR88+BR104+BR120 -> 0 | BS53: =SUM(D53:BQ53) -> 483.91123
B54: Цена за яйцо, указана за 1 шт. | BS54: =BS53/56 -> 8.6412719 | BT54: =BT69+BT87+BT103+BT119 -> 483.91123
...

Sheet День 7 до 3 лет
J1: Утверждаю
J2: Заведующий МК ДОУ
J3: Ташаринский детский сад "Лесовичок"
J4: ______________________Т.В. Чугуева
E5: Меню на | G5: =' 3-7 лет (день 7)'!K7 -> 46293
A6: Прием пищи | B6: Наименование блюда | C6: Выход блюда | D6: Белки, г | E6: Жиры, г | F6: Углеводы, г | G6: Эн. Цен (ккал) | H6: Ca | I6: Fe | J6: B1 | K6: B2 | L6: C | M6: № рецептуры
A7: День 7 | B7: Дети с 1,5 - 3 лет
A8: Завтрак | B8: Каша пшеничная молочная | C8: 150 | D8: 5.26 | E8: 6.07 | F8: 21.29 | G8: 159.75 | H8: 139.01 | I8: 0.57 | J8: 0.11 | K8: 0.02 | L8: 1.46 | M8: 91
B9: Бутерброд с джемом | C9: 30/8 | D9: 2.32 | E9: 0.24 | F9: 20.08 | G9: 92 | H9: 6.96 | I9: 0.41 | J9: 0.03 | K9: 0.02 | L9: 0.01 | M9: 2
B10: Какао с молоком | C10: 150 | D10: 1.25 | E10: 1.33 | F10: 10.08 | G10: 50 | H10: 83.33 | I10: 0.01 | J10: 0.02 | K10: 0.01 | L10: 0.54 | M10: 248
A13: Второй завтрак | B13: Яблоки | C13: 95 | D13: 0.3 | E13: 0.3 | F13: 7.35 | G13: 33 | H13: 12 | I13: 1.65 | J13: 0.02 | K13: 0.01 | L13: 7.5
A14: Обед | B14: ='[2]1-3 года (день 1 )'!B16 -> Банан | C14: 45 | D14: 1.18 | E14: 3.81 | F14: 2.93 | G14: 50.25 | H14: 9.23 | I14: 0.3 | J14: 0.04 | K14: 0.03 | L14: 2.4
B15: Банан | C15: 95 | D15: 0.67 | E15: 0.14 | F15: 17.25 | G15: 73 | H15: 25.8 | I15: 0.26 | J15: 0.02 | K15: 0.02 | L15: 44.86
A16: Обед | B16: Суп "Волна" | C16: 170 | D16: 6.53 | E16: 7.35 | F16: 13.98 | G16: 167.21 | H16: 31.22 | I16: 0.72 | J16: 0.17 | K16: 0.24 | L16: 10.11 | M16: 39
B17: Голубцы ленивые | C17: 50 | D17: 4.11 | E17: 3.18 | F17: 2.99 | G17: 56.88 | H17: 16.93 | I17: 0.43 | J17: 0.02 | K17: 0.03 | L17: 6.23 | M17: 151
B18: Соус сметанный | C18: 20 | D18: 0.3 | E18: 3.37 | F18: 1.08 | G18: 30 | H18: 8.35 | I18: 0.03 | J18: 0 | K18: 0.07 | L18: 0.04 | M18: 226
B19: Макароны отварные с маслом | C19: 125 | D19: 4.5 | E19: 3.48 | F19: 21.8 | G19: 136 | H19: 4 | I19: 0.91 | J19: 0.04 | K19: 0.02 | L19: 0 | M19: 205
B20: Хлеб пшеничный | C20: 20 | D20: 1.57 | E20: 0.2 | F20: 9.65 | G20: 48 | H20: 4.6 | I20: 0.4 | J20: 0.03 | K20: 0.005 | L20: 0
B21: Хлеб ржаной | C21: 40 | D21: 2.64 | E21: 0.48 | F21: 13.36 | G21: 69.6 | H21: 14 | I21: 1.56 | J21: 0.072 | K21: 0.032 | L21: 0
B22: Компот из кураги | C22: 150 | D22: 0.52 | E22: 0 | F22: 15.59 | G22: 60.86 | H22: 16.18 | I22: 1.23 | J22: 0.01 | K22: 0.02 | L22: 0.4 | M22: 250
A24: Полдник | B24: Напиток из шиповника | C24: 150 | D24: 0.18 | E24: 0.08 | F24: 13.75 | G24: 75 | H24: 3.38 | I24: 0.17 | J24: 0.01 | K24: 0 | L24: 11 | M24: 256
B25: Ватрушка с повидлом | C25: 60 | D25: 4.54 | E25: 4.07 | F25: 25.3 | G25: 157.12 | H25: 32.56 | I25: 0.76 | J25: 0.1 | K25: 0.04 | L25: 0.22 | M25: 417
B26: =' 3-7 лет (день 7)'!B26 -> Яблоко | C26: 75 | D26: 0.3 | E26: 0.3 | F26: 7.35 | G26: 33 | H26: 12 | I26: 1.65 | J26: 0.02 | K26: 0.01 | L26: 7.5
A27: Ужин | B27: Картофельное пюре | C27: 120 | D27: 2.44 | E27: 4.19 | F27: 14.45 | G27: 113.6 | H27: 36.94 | I27: 0.85 | J27: 0.11 | K27: 0.08 | L27: 14.36 | M27: 206
B28: =' 3-7 лет (день 7)'!B30 -> Огурчик свежий | C28: 45 | D28: 0.36 | E28: 0.05 | F28: 1.13 | G28: 6.3 | H28: 10.35 | I28: 0.27 | J28: 0.02 | K28: 0.02 | L28: 4.5 | M28: 70
B29: Хлеб пшеничный | C29: 30 | D29: 2.355 | E29: 0.3 | F29: 14.475 | G29: 72 | H29: 6.9 | I29: 0.6 | J29: 0.045 | K29: 0.0075 | L29: 0
B30: Чай с лимоном | C30: 150/9/4 | D30: 0.04 | E30: 0 | F30: 9.1 | G30: 35 | H30: 1.87 | I30: 0.08 | J30: 0 | K30: 0 | L30: 0 | M30: 200, 264
B31: ВСЕГО за день | D31: =SUM(D8:D27) -> 38.61 | E31: =SUM(E8:E27) -> 38.59 | F31: =SUM(F8:F27) -> 201.03 | G31: =SUM(G8:G27) -> 1405.27 | H31: =SUM(H8:H27) -> 456.49 | I31: =SUM(I8:I27) -> 11.91 | J31: =SUM(J8:J27) -> 0.822 | K31: =SUM(K8:K27) -> 0.657 | L31: =SUM(L8:L27) -> 106.63
A33: Ответственный за питание _________________________ С.В.Залевская

Sheet День 7 от 3 лет
J1: Утверждаю
J2: Заведующий МК ДОУ
J3: Ташаринский детский сад "Лесовичок"
J4: _____________________ Т.В. Чугуева
E5: Меню на | G5: =' 3-7 лет (день 7)'!K7 -> 46293
A6: Прием пищи | B6: Наименование блюда | C6: Выход блюда | D6: Белки, г | E6: Жиры, г | F6: Углеводы, г | G6: Эн. Цен (ккал) | H6: Ca | I6: Fe | J6: B1 | K6: B2 | L6: C | M6: № рецептуры
A7: День 7 | B7: Дети с 3 - 7 лет
A8: Завтрак | B8: Каша пшеничная молочная | C8: 200 | D8: 6.44 | E8: 7.53 | F8: 25.38 | G8: 192 | H8: 186.58 | I8: 0.95 | J8: 0.11 | K8: 0.05 | L8: 1.95 | M8: 91
B9: Бутерброд с джемом | C9: 30/8 | D9: 2.32 | E9: 0.24 | F9: 20.08 | G9: 92 | H9: 6.96 | I9: 0.41 | J9: 0.03 | K9: 0.02 | L9: 0.01 | M9: 2
B10: Какао с молоком | C10: 180 | D10: 1.5 | E10: 1.6 | F10: 12.1 | G10: 60 | H10: 100 | I10: 0.02 | J10: 0.02 | K10: 0.01 | L10: 0.65 | M10: 248
A13: Второй завтрак | B13: Яблоки | C13: 100 | D13: 0.4 | E13: 0.4 | F13: 9.8 | G13: 44 | H13: 16 | I13: 2.2 | J13: 0.03 | K13: 0.02 | L13: 10
B14: Банан | C14: 100 | D14: 0.9 | E14: 0.2 | F14: 23.07 | G14: 98 | H14: 34.5 | I14: 0.35 | J14: 0.04 | K14: 0.03 | L14: 60
A15: Обед | B15: Суп "Волна" | C15: 200 | D15: 5.3 | E15: 7.2 | F15: 18.2 | G15: 202.3 | H15: 39.4 | I15: 0.9 | J15: 0.22 | K15: 0.3 | L15: 12.76 | M15: 39
B16: Голубцы ленивые | C16: 70 | D16: 5.75 | E16: 4.45 | F16: 4.19 | G16: 79.63 | H16: 23.7 | I16: 0.6 | J16: 0.03 | K16: 0.04 | L16: 8.72 | M16: 151
B17: Соус сметанный | C17: 30 | D17: 0.45 | E17: 5.06 | F17: 1.62 | G17: 45 | H17: 12.53 | I17: 0.05 | J17: 0 | K17: 0.1 | L17: 0.06 | M17: 226
B18: Макароны отварные с маслом | C18: 155 | D18: 5.68 | E18: 4.36 | F18: 27.25 | G18: 171 | H18: 5 | I18: 1.14 | J18: 0.06 | K18: 0.03 | L18: 0 | M18: 205
B19: Хлеб пшеничный | C19: 20 | D19: 1.57 | E19: 0.2 | F19: 9.65 | G19: 48 | H19: 4.6 | I19: 0.4 | J19: 0.03 | K19: 0.005 | L19: 0
B20: Хлеб ржаной | C20: 50 | D20: 3.3 | E20: 0.6 | F20: 16.7 | G20: 87 | H20: 17.5 | I20: 1.95 | J20: 0.09 | K20: 0.04 | L20: 0
B21: Компот из кураги | C21: 200 | D21: 0.68 | E21: 0 | F21: 20.57 | G21: 80.24 | H21: 21.04 | I21: 1.6 | J21: 0.013 | K21: 0.026 | L21: 0.52 | M21: 250
A23: Полдник | B23: Напиток из шиповника | C23: 200 | D23: 0.24 | E23: 0.1 | F23: 18.33 | G23: 100 | H23: 4.5 | I23: 0.23 | J23: 0.01 | K23: 0 | L23: 15 | M23: 256
B24: Ватрушка с повидлом | C24: 70 | D24: 5.3 | E24: 4.75 | F24: 29.5 | G24: 183.3 | H24: 37.99 | I24: 0.87 | J24: 0.11 | K24: 0.04 | L24: 0.26 | M24: 417
B25: Яблоко | C25: 100 | D25: 0.4 | E25: 0.4 | F25: 9.8 | G25: 44 | H25: 16 | I25: 2.2 | J25: 0.03 | K25: 0.02 | L25: 10
A26: Ужин | B26: Картофельное пюре | C26: 150 | D26: 3.05 | E26: 5.24 | F26: 18.06 | G26: 142 | H26: 46.18 | I26: 1.06 | J26: 0.14 | K26: 0.1 | L26: 17.95 | M26: 206
B27: =' 3-7 лет (день 7)'!B30 -> Огурчик свежий | C27: 60 | D27: 0.48 | E27: 0.06 | F27: 1.5 | G27: 8.4 | H27: 13.8 | I27: 0.36 | J27: 0.02 | K27: 0.02 | L27: 6 | M27: 70
B28: Хлеб пшеничный | C28: 30 | D28: 2.355 | E28: 0.3 | F28: 14.475 | G28: 72 | H28: 6.9 | I28: 0.6 | J28: 0.045 | K28: 0.0075 | L28: 0
B29: Чай с лимоном | C29: 180/12/5 | D29: 0.04 | E29: 0 | F29: 12.13 | G29: 47 | H29: 2.35 | I29: 0.09 | J29: 0 | K29: 0 | L29: 2 | M29: 200, 264
B30: ВСЕГО за день | D30: =SUM(D8:D29) -> 46.155 | E30: =SUM(E8:E29) -> 42.69 | F30: =SUM(F8:F29) -> 292.405 | G30: =SUM(G8:G29) -> 1795.87 | H30: =SUM(H8:H29) -> 595.53 | I30: =SUM(I8:I29) -> 15.98 | J30: =SUM(J8:J29) -> 1.028 | K30: =SUM(K8:K29) -> 0.8585 | L30: =SUM(L8:L29) -> 145.88
A32: Ответственный за питание _________________________ С.В.Залевская

Sheet БГП  
A1: =' 3-7 лет (день 7)'!K7 -> 46293
A2: Час изготовления блюда | B2: Время снятия бракеража | C2: Наименование блюда, кулинарного изделия | D2: Результаты органолептической оценки и степени готовности блюда, кулинарного изделия | E2: Разрешение к реализации блюда, кулинарного изделия | F2: Подписи членов бракеражной комиссии | G2: Примечание
A5: Завтрак 7:00-8:30 | B5: 0.36111111 | C5: =' 3-7 лет (день 7)'!B10 -> Каша пшеничная молочная | D5: отлично | E5: разрешено
C6: =' 3-7 лет (день 7)'!B11 -> Бутерброд с джемом | D6: отлично | E6: разрешено
C7: =' 3-7 лет (день 7)'!B12 -> Какао с молоком | D7: отлично | E7: разрешено
A8: Второй завтрак 10:00-10:20 | B8: 0.4375 | C8: Яблоко | D8: отлично | E8: разрешено
A10: Обед 9:00-11:30 | B10: 0.48611111 | C10: =' 3-7 лет (день 7)'!B17 -> Суп "Волна" | D10: отлично | E10: разрешено
C11: =' 3-7 лет (день 7)'!B18 -> Голубцы ленивые | D11: отлично | E11: разрешено
C12: =' 3-7 лет (день 7)'!B19 -> Соус сметанный | D12: отлично | E12: разрешено
C13: =' 3-7 лет (день 7)'!B20 -> Макароны отварные | D13: отлично | E13: разрешено
C14: =' 3-7 лет (день 7)'!B21 -> Хлеб пшеничный | D14: отлично | E14: разрешено
C15: =' 3-7 лет (день 7)'!B22 -> Хлеб ржано-пшеничный | D15: отлично | E15: разрешено
C16: =' 3-7 лет (день 7)'!B23 -> Компот из кураги | D16: отлично | E16: разрешено
A18: Полдник 13:00-15:00 | B18: 0.63888889 | C18: =' 3-7 лет (день 7)'!B24 -> Напиток из шиповника | D18: отлично | E18: разрешено
C19: =' 3-7 лет (день 7)'!B25 -> Ватрушка с повидлом | D19: отлично | E19: разрешено
A20: Ужин 15:00-16:30 | B20: 0.69444444 | C20: =' 3-7 лет (день 7)'!B29 -> Картофельное пюре | D20: отлично | E20: разрешено
C21: =' 3-7 лет (день 7)'!B30 -> Огурчик свежий | D21: отлично | E21: разрешено
C22: =' 3-7 лет (день 7)'!B31 -> Чай с лимоном | D22: отлично | E22: разрешено
C23: =' 3-7 лет (день 7)'!B32 -> Хлеб пшеничный | D23: отлично | E23: разрешено
