Workbook

Sheet  1,5-2 года (день 7)
A1: Утверждаю
A2: Заведующий МКДОУ Ташаринский детский сад "Лесовичок" | H2: Меню - требование на выдачу продуктов питания
A3: _________________ Чугуева Т.В.
A4: подпись | H4: Учреждение МКДОУ "Ташаринский детский сад"Лесовичок"
H5: Ответственное лицо Романашенко Г.М.
C7: детей в количестве | F7: 1 | G7: человек (1,5-2года) на | K7: =' 3-7 лет (день 7)'!K7 -> 46293
B8: Наименование продуктов | C8: Кол-во человек | D8: =[1]Цены!A1 -> Хлеб пшеничный | E8: =[1]Цены!B1 -> Хлеб ржано-пшеничный | F8: =[1]Цены!C1 -> Сахар | G8: =[1]Цены!D1 -> Чай | H8: =[1]Цены!E1 -> Какао | I8: =[1]Цены!F1 -> Кофейный напиток | J8: =[1]Цены!G1 -> Молоко 2,5% | K8: =[1]Цены!H1 -> Масло сливочное | ... AE8: =[1]Цены!AB1 -> Ягода свежемороженная | AF8: ='СВО 3-7 лет '!AF8:AF9 -> Апельсин | AG8: ='СВО 3-7 лет '!AG8:AG9 -> Банан | AH8: ='СВО 3-7 лет '!AH8:AH9 -> Лимон | AI8: ='СВО 3-7 лет '!AI8:AI9 -> Яблоко | AJ8: =[1]Цены!AD1 -> Кисель | AK8: =[1]Цены!AE1 -> Сок | AL8: =[1]Цены!AF1 -> Макаронные изделия | AM8: =[1]Цены!AG1 -> Мука | AN8: =[1]Цены!AH1 -> Дрожжи | AO8: =[1]Цены!AI1 -> Печенье | AP8: =[1]Цены!AJ1 -> Пряники | AQ8: =[1]Цены!AK1 -> Вафли | ... BQ8: =[1]Цены!BK1 -> Соль | BR8: Лимонная кислота | BS8: Итого расход за день | BT8: ИТОГО на 1 Чел
B9: Меню
A10: Завтрак | B10: =' 3-7 лет (день 7)'!B10 -> Каша пшеничная молочная | C10: =$F$7 -> 1 | F10: 0.004 | K10: 0.002 | M10: 0.0124 | AZ10: 0.015 | BQ10: 0.0005
B11: =' 3-7 лет (день 7)'!B11 -> Бутерброд с джемом | D11: 0.02 | Q11: 0.005
B12: =' 3-7 лет (день 7)'!B12 -> Какао с молоком | F12: 0.009 | H12: 0.001 | J12: 0.08
A15: Второй завтрак | B15: Яблоко | C15: =F7 -> 1 | AI15: 0.108
B16: Банан
A17: Обед | B17: =' 3-7 лет (день 7)'!B17 -> Суп "Волна" | C17: =F7 -> 1 | K17: 0.002 | X17: 0.33333333 | BD17: 0.027 | BJ17: 0.133 | BK17: 0.014 | BL17: 0.01 | BP17: 0.001 | BQ17: 0.001
B18: =' 3-7 лет (день 7)'!B18 -> Голубцы ленивые | X18: 0.076923077 | BC18: 0.004 | BE18: 0.025 | BF18: 0.015 | BL18: 0.004 | BM18: 0.04 | BP18: 0.001 | BQ18: 0.001
B19: =' 3-7 лет (день 7)'!B19 -> Соус сметанный | K19: 0.001 | L19: 0.01 | AM19: 0.001
B20: =' 3-7 лет (день 7)'!B20 -> Макароны отварные | K20: 0.004 | AL20: 0.03 | BQ20: 0.0005
B21: =' 3-7 лет (день 7)'!B21 -> Хлеб пшеничный | D21: 0.02
B22: =' 3-7 лет (день 7)'!B22 -> Хлеб ржано-пшеничный | E22: 0.04
B23: =' 3-7 лет (день 7)'!B23 -> Компот из кураги | F23: 0.009 | AA23: 0.01 | BR23: 3.5e-05
A24: Полдник | B24: =' 3-7 лет (день 7)'!B24 -> Напиток из шиповника | C24: =$F$7 -> 1 | F24: 0.011 | AC24: 0.008
B25: =' 3-7 лет (день 7)'!B25 -> Ватрушка с повидлом | F25: 0.0017 | K25: 0.002 | X25: 0.041666 | AM25: 0.04 | AN25: 0.0012 | AS25: 0.01 | BP25: 0.0009
B26: =' 3-7 лет (день 7)'!B26 -> Яблоко
A29: Ужин | B29: =' 3-7 лет (день 7)'!B29 -> Картофельное пюре | C29: =$F$7 -> 1 | J29: 0.021 | K29: 0.004 | BJ29: 0.147 | BQ29: 0.001
B30: =' 3-7 лет (день 7)'!B30 -> Огурчик свежий | W30: 0.03
B31: =' 3-7 лет (день 7)'!B31 -> Чай с лимоном | F31: 0.009 | G31: 0.0005 | AH31: 0.005
B32: =' 3-7 лет (день 7)'!B32 -> Хлеб пшеничный | D32: 0.02
B34: Итого на 1 чел | D34: =SUM(D10:D33) -> 0.06 | E34: =SUM(E10:E33) -> 0.04 | F34: =SUM(F10:F33) -> 0.0437 | G34: =SUM(G10:G33) -> 0.0005 | H34: =SUM(H10:H33) -> 0.001 | I34: =SUM(I10:I33) -> 0 | J34: =SUM(J10:J33) -> 0.101 | K34: =SUM(K10:K33) -> 0.015 | ... BR34: =SUM(BR10:BR33) -> 3.5e-05
B35: Итого к выдаче, ГРАММ (на всех) | D35: =ROUND(PRODUCT(D34,$F$7),3) -> 0.06 | E35: =ROUND(PRODUCT(E34,$F$7),3) -> 0.04 | F35: =ROUND(PRODUCT(F34,$F$7),3) -> 0.044 | G35: =ROUND(PRODUCT(G34,$F$7),3) -> 0.001 | H35: =ROUND(PRODUCT(H34,$F$7),3) -> 0.001 | I35: =ROUND(PRODUCT(I34,$F$7),3) -> 0 | J35: =ROUND(PRODUCT(J34,$F$7),3) -> 0.101 | K35: =ROUND(PRODUCT(K34,$F$7),3) -> 0.015 | ... BR35: =ROUND(PRODUCT(BR34,$F$7),3) -> 0
D37: Ответственный калькулятор | H37: _________________ | K37: С.В.Залевская
D38: исполнитель | F38: должность | H38: подпись
F40: Повар | H40: ___________________ | K40: =' 3-7 лет (день 7)'!K41 -> 0
H41: подпись
B48: ЦЕНА ЗА КИЛОГРАММ (покупная) | C48: руб | D48: 90.9 | E48: 96 | F48: 91 | G48: 816 | H48: 1680 | I48: 1050 | J48: 90.57 | K48: 1166.67 | L48: 255.2 | M48: 833 | N48: 126.38 | O48: 387.53 | P48: 663.16 | Q48: 526.67 | R48: 1295 | U48: 1012 | V48: 470.67 | W48: 348 | X48: 9.4 | Y48: 266.5 | Z48: 367 | AA48: 524 | AB48: 330 | AC48: 299 | AD48: 148 | AE48: 842 | AG48: 180 | AH48: 359 | AI48: 160 | AJ48: 309.1 | AK48: 94 | AL48: 73 | AM48: 51.6 | AN48: 250 | AO48: 272 | AQ48: 425 | AR48: 800 | AS48: 294.25 | AT48: 95 | AU48: 87.33 | AV48: 73.33 | AW48: 80 | AX48: 89.29 | AY48: 63.75 | AZ48: 104.62 | BA48: 81.33 | BB48: 71.67 | BC48: 152.67 | BD48: 378 | BE48: 574 | BF48: 696 | BG48: 324 | BH48: 604 | BJ48: 38 | BK48: 38 | BL48: 33 | BM48: 43 | BN48: 43 | BO48: 306.32 | BP48: 190 | BQ48: 26
B49: ЦЕНА ЗА ГРАММ (покупная) | C49: руб | D49: =D48/1000 -> 0.0909 | E49: =E48/1000 -> 0.096 | F49: =F48/1000 -> 0.091 | G49: =G48/1000 -> 0.816 | H49: =H48/1000 -> 1.68 | I49: =I48/1000 -> 1.05 | J49: =J48/1000 -> 0.09057 | K49: =K48/1000 -> 1.16667 | ... BR49: =BR48/1000 -> 0
B50: Израсходовано на сумму (за граммы) | D50: =D35*D48 -> 5.454 | E50: =E35*E48 -> 3.84 | F50: =F35*F48 -> 4.004 | G50: =G35*G48 -> 0.816 | H50: =H35*H48 -> 1.68 | I50: =I35*I48 -> 0 | J50: =J35*J48 -> 9.14757 | K50: =K35*K48 -> 17.50005 | ... BR50: =BR35*BR48 -> 0 | BS50: =SUM(D50:BQ50) -> 157.72085 | BT50: =BS50/$C$10 -> 157.72085
B51: Израсходовано на сумму (за кг) | D51: =D35*D48 -> 5.454 | E51: =E35*E48 -> 3.84 | F51: =F35*F48 -> 4.004 | G51: =G35*G48 -> 0.816 | H51: =H35*H48 -> 1.68 | I51: =I35*I48 -> 0 | J51: =J35*J48 -> 9.14757 | K51: =K35*K48 -> 17.50005 | ... BR51: =BR35*BR48 -> 0 | BS51: =SUM(D51:BQ51) -> 157.72085 | BT51: =BS51/$C$10 -> 157.72085
B52: P/S: Итого к выдаче Яйцо- указано в шт. | D52: =D69+D87+D103+D119 -> 5.454 | E52: =E69+E87+E103+E119 -> 3.84 | F52: =F69+F87+F103+F119 -> 3.9767 | G52: =G69+G87+G103+G119 -> 0.408 | H52: =H69+H87+H103+H119 -> 1.68 | I52: =I69+I87+I103+I119 -> 0 | J52: =J69+J87+J103+J119 -> 9.14757 | K52: =K69+K87+K103+K119 -> 17.50005 | ... BR52: =BR69+BR87+BR103+BR119 -> 0
B53: Цена за яйцо, указана за 1 шт. | BT53: =BT69+BT87+BT103+BT119 -> 164.32095
J55: 10 | K55: детей в количестве | S55: на 18.03.2019
B56: Наименование продуктов | C56: Кол-во человек | D56: =D8 -> Хлеб пшеничный | E56: =E8 -> Хлеб ржано-пшеничный | F56: =F8 -> Сахар | G56: =G8 -> Чай | H56: =H8 -> Какао | I56: =I8 -> Кофейный напиток | J56: =J8 -> Молоко 2,5% | K56: =K8 -> Масло сливочное | ... V56: =V8 -> Огурцы консервирован. | X56: =X8 -> Яйцо | Y56: =Y8 -> Икра кабачковая | Z56: =Z8 -> Изюм | AA56: =AA8 -> Курага | AB56: =AB8 -> Чернослив | AC56: =AC8 -> Шиповник | AD56: =AD8 -> Сухофрукты | AE56: =AE8 -> Ягода свежемороженная | ... BR56: =BR8 -> Лимонная кислота | BS56: Итого расход за день | BT56: ИТОГО на 1 Чел
B57: Меню
A58: Завтрак | B58: Каша пшеничная молочная | C58: =$F$7 -> 1 | D58: =D10 -> 0 | E58: =E10 -> 0 | F58: =F10 -> 0.004 | G58: =G10 -> 0 | H58: =H10 -> 0 | I58: =I10 -> 0 | J58: =J10 -> 0 | K58: =K10 -> 0.002 | ... BR58: =BR10 -> 0
B59: Бутерброд с маслом | D59: =D11 -> 0.02 | E59: =E11 -> 0 | F59: =F11 -> 0 | G59: =G11 -> 0 | H59: =H11 -> 0 | I59: =I11 -> 0 | J59: =J11 -> 0 | K59: =K11 -> 0 | ... BR59: =BR11 -> 0
B60: Какао с молоком | D60: =D12 -> 0 | E60: =E12 -> 0 | F60: =F12 -> 0.009 | G60: =G12 -> 0 | H60: =H12 -> 0.001 | I60: =I12 -> 0 | J60: =J12 -> 0.08 | K60: =K12 -> 0 | ... BR60: =BR12 -> 0
D61: =D13 -> 0 | E61: =E13 -> 0 | F61: =F13 -> 0 | G61: =G13 -> 0 | H61: =H13 -> 0 | I61: =I13 -> 0 | J61: =J13 -> 0 | K61: =K13 -> 0 | ... BR61: =BR13 -> 0
D62: =D14 -> 0 | E62: =E14 -> 0 | F62: =F14 -> 0 | G62: =G14 -> 0 | H62: =H14 -> 0 | I62: =I14 -> 0 | J62: =J14 -> 0 | K62: =K14 -> 0 | ... BR62: =BR14 -> 0
B63: Итого на 1 чел | D63: =SUM(D58:D62) -> 0.02 | E63: =SUM(E58:E62) -> 0 | F63: =SUM(F58:F62) -> 0.013 | G63: =SUM(G58:G62) -> 0 | H63: =SUM(H58:H62) -> 0.001 | I63: =SUM(I58:I62) -> 0 | J63: =SUM(J58:J62) -> 0.08 | K63: =SUM(K58:K62) -> 0.002 | ... BR63: =SUM(BR58:BR62) -> 0
B64: Итого к выдаче, ГРАММ (на всех) | D64: =PRODUCT(D63,$F$7) -> 0.02 | E64: =PRODUCT(E63,$F$7) -> 0 | F64: =PRODUCT(F63,$F$7) -> 0.013 | G64: =PRODUCT(G63,$F$7) -> 0 | H64: =PRODUCT(H63,$F$7) -> 0.001 | I64: =PRODUCT(I63,$F$7) -> 0 | J64: =PRODUCT(J63,$F$7) -> 0.08 | K64: =PRODUCT(K63,$F$7) -> 0.002 | ... BR64: =PRODUCT(BR63,$F$7) -> 0
B66: ЦЕНА ЗА КИЛОГРАММ (покупная) | C66: руб | D66: =D48 -> 90.9 | E66: =E48 -> 96 | F66: =F48 -> 91 | G66: =G48 -> 816 | H66: =H48 -> 1680 | I66: =I48 -> 1050 | J66: =J48 -> 90.57 | K66: =K48 -> 1166.67 | ... AE66: =AE48 -> 842 | AH66: =AH48 -> 359 | AJ66: =AJ48 -> 309.1 | AK66: =AK48 -> 94 | AL66: =AL48 -> 73 | AM66: =AM48 -> 51.6 | AN66: =AN48 -> 250 | AO66: =AO48 -> 272 | AP66: =AP48 -> 0 | AQ66: =AQ48 -> 425 | ... BR66: =BR48 -> 0
B67: ЦЕНА ЗА ГРАММ (покупная) | C67: руб | D67: =D66/1000 -> 0.0909 | E67: =E66/1000 -> 0.096 | F67: =F66/1000 -> 0.091 | G67: =G66/1000 -> 0.816 | H67: =H66/1000 -> 1.68 | I67: =I66/1000 -> 1.05 | J67: =J66/1000 -> 0.09057 | K67: =K66/1000 -> 1.16667 | ... BR67: =BR66/1000 -> 0
B68: Израсходовано на сумму (за граммы) | D68: =D64*D66 -> 1.818 | E68: =E64*E66 -> 0 | F68: =F64*F66 -> 1.183 | G68: =G64*G66 -> 0 | H68: =H64*H66 -> 1.68 | I68: =I64*I66 -> 0 | J68: =J64*J66 -> 7.2456 | K68: =K64*K66 -> 2.33334 | ... BR68: =BR64*BR66 -> 0 | BS68: =SUM(D68:BQ68) -> 28.80479 | BT68: =BS68/$C$10 -> 28.80479
B69: Израсходовано на сумму (за кг) | D69: =D64*D66 -> 1.818 | E69: =E64*E66 -> 0 | F69: =F64*F66 -> 1.183 | G69: =G64*G66 -> 0 | H69: =H64*H66 -> 1.68 | I69: =I64*I66 -> 0 | J69: =J64*J66 -> 7.2456 | K69: =K64*K66 -> 2.33334 | ... BR69: =BR64*BR66 -> 0 | BS69: =SUM(D69:BQ69) -> 28.80479 | BT69: =BS69/$C$10 -> 28.80479
J71: 10 | K71: детей в количестве | S71: на 18.03.2019
B72: Наименование продуктов | C72: Кол-во человек | D72: =D56 -> Хлеб пшеничный | E72: =E56 -> Хлеб ржано-пшеничный | F72: =F56 -> Сахар | G72: =G56 -> Чай | H72: =H56 -> Какао | I72: =I56 -> Кофейный напиток | J72: =J56 -> Молоко 2,5% | K72: =K56 -> Масло сливочное | ... V72: =V56 -> Огурцы консервирован. | X72: =X56 -> Яйцо | Y72: =Y56 -> Икра кабачковая | Z72: =Z56 -> Изюм | AA72: =AA56 -> Курага | AB72: =AB56 -> Чернослив | AC72: =AC56 -> Шиповник | AD72: =AD56 -> Сухофрукты | AE72: =AE56 -> Ягода свежемороженная | ... BR72: =BR56 -> Лимонная кислота | BS72: Итого расход за день | BT72: ИТОГО на 1 Чел
B73: Меню
B74: Суп "Волна" | D74: =D17 -> 0 | E74: =E17 -> 0 | F74: =F17 -> 0 | G74: =G17 -> 0 | H74: =H17 -> 0 | I74: =I17 -> 0 | J74: =J17 -> 0 | K74: =K17 -> 0.002 | ... BR74: =BR17 -> 0
B75: Голубцы ленивые | D75: =D18 -> 0 | E75: =E18 -> 0 | F75: =F18 -> 0 | G75: =G18 -> 0 | H75: =H18 -> 0 | I75: =I18 -> 0 | J75: =J18 -> 0 | K75: =K18 -> 0 | ... BR75: =BR18 -> 0
B76: Соус сметанный | D76: =D19 -> 0 | E76: =E19 -> 0 | F76: =F19 -> 0 | G76: =G19 -> 0 | H76: =H19 -> 0 | I76: =I19 -> 0 | J76: =J19 -> 0 | K76: =K19 -> 0.001 | ... BR76: =BR19 -> 0
B77: Макароны отварные | D77: =D20 -> 0 | E77: =E20 -> 0 | F77: =F20 -> 0 | G77: =G20 -> 0 | H77: =H20 -> 0 | I77: =I20 -> 0 | J77: =J20 -> 0 | K77: =K20 -> 0.004 | ... BR77: =BR20 -> 0
B78: Хлеб пшеничный | D78: =D21 -> 0.02 | E78: =E21 -> 0 | F78: =F21 -> 0 | G78: =G21 -> 0 | H78: =H21 -> 0 | I78: =I21 -> 0 | J78: =J21 -> 0 | K78: =K21 -> 0 | ... BR78: =BR21 -> 0
B79: Хлеб ржано-пшеничный | D79: =D22 -> 0 | E79: =E22 -> 0.04 | F79: =F22 -> 0 | G79: =G22 -> 0 | H79: =H22 -> 0 | I79: =I22 -> 0 | J79: =J22 -> 0 | K79: =K22 -> 0 | ... BR79: =BR22 -> 0
B80: Компот из кураги | D80: =D23 -> 0 | E80: =E23 -> 0 | F80: =F23 -> 0.009 | G80: =G23 -> 0 | H80: =H23 -> 0 | I80: =I23 -> 0 | J80: =J23 -> 0 | K80: =K23 -> 0 | ... BR80: =BR23 -> 3.5e-05
B81: Итого на 1 чел | D81: =SUM(D74:D80) -> 0.02 | E81: =SUM(E74:E80) -> 0.04 | F81: =SUM(F74:F80) -> 0.009 | G81: =SUM(G74:G80) -> 0 | H81: =SUM(H74:H80) -> 0 | I81: =SUM(I74:I80) -> 0 | J81: =SUM(J74:J80) -> 0 | K81: =SUM(K74:K80) -> 0.007 | ... BR81: =SUM(BR74:BR80) -> 3.5e-05
B82: Итого к выдаче, ГРАММ (на всех) | D82: =PRODUCT(D81,$F$7) -> 0.02 | E82: =PRODUCT(E81,$F$7) -> 0.04 | F82: =PRODUCT(F81,$F$7) -> 0.009 | G82: =PRODUCT(G81,$F$7) -> 0 | H82: =PRODUCT(H81,$F$7) -> 0 | I82: =PRODUCT(I81,$F$7) -> 0 | J82: =PRODUCT(J81,$F$7) -> 0 | K82: =PRODUCT(K81,$F$7) -> 0.007 | ... W82: =PRODUCT(W81,$F$7) -> 0 | X82: 2 | Y82: =PRODUCT(Y81,$F$7) -> 0 | Z82: =PRODUCT(Z81,$F$7) -> 0 | AA82: =PRODUCT(AA81,$F$7) -> 0.01 | AB82: =PRODUCT(AB81,$F$7) -> 0 | AC82: =PRODUCT(AC81,$F$7) -> 0 | AD82: =PRODUCT(AD81,$F$7) -> 0 | AE82: =PRODUCT(AE81,$F$7) -> 0 | AF82: =PRODUCT(AF81,$F$7) -> 0 | ... BR82: =PRODUCT(BR81,$F$7) -> 3.5e-05
B84: ЦЕНА ЗА КИЛОГРАММ (покупная) | C84: руб | D84: =D66 -> 90.9 | E84: =E66 -> 96 | F84: =F66 -> 91 | G84: =G66 -> 816 | H84: =H66 -> 1680 | I84: =I66 -> 1050 | J84: =J66 -> 90.57 | K84: =K66 -> 1166.67 | ... AE84: =AE66 -> 842 | AH84: =AH66 -> 359 | AJ84: =AJ66 -> 309.1 | AK84: =AK66 -> 94 | AL84: =AL66 -> 73 | AM84: =AM66 -> 51.6 | AN84: =AN66 -> 250 | AO84: =AO66 -> 272 | AP84: =AP66 -> 0 | AQ84: =AQ66 -> 425 | ... BR84: =BR66 -> 0
B85: ЦЕНА ЗА ГРАММ (покупная) | C85: руб | D85: =D84/1000 -> 0.0909 | E85: =E84/1000 -> 0.096 | F85: =F84/1000 -> 0.091 | G85: =G84/1000 -> 0.816 | H85: =H84/1000 -> 1.68 | I85: =I84/1000 -> 1.05 | J85: =J84/1000 -> 0.09057 | K85: =K84/1000 -> 1.16667 | ... BR85: =BR84/1000 -> 0
B86: Израсходовано на сумму (за граммы) | D86: =D82*D84 -> 1.818 | E86: =E82*E84 -> 3.84 | F86: =F82*F84 -> 0.819 | G86: =G82*G84 -> 0 | H86: =H82*H84 -> 0 | I86: =I82*I84 -> 0 | J86: =J82*J84 -> 0 | K86: =K82*K84 -> 8.16669 | ... BR86: =BR82*BR84 -> 0 | BS86: =SUM(D86:BQ86) -> 87.29697 | BT86: =BS86/$C$10 -> 87.29697
B87: Израсходовано на сумму (за кг) | D87: =D82*D84 -> 1.818 | E87: =E82*E84 -> 3.84 | F87: =F82*F84 -> 0.819 | G87: =G82*G84 -> 0 | H87: =H82*H84 -> 0 | I87: =I82*I84 -> 0 | J87: =J82*J84 -> 0 | K87: =K82*K84 -> 8.16669 | ... BR87: =BR82*BR84 -> 0 | BS87: =SUM(D87:BQ87) -> 87.29697 | BT87: =BS87/$C$10 -> 87.29697
J89: 10 | K89: детей в количестве | S89: на 18.03.2019
B90: Наименование продуктов | C90: Кол-во человек | D90: =D72 -> Хлеб пшеничный | E90: =E72 -> Хлеб ржано-пшеничный | F90: =F72 -> Сахар | G90: =G72 -> Чай | H90: =H72 -> Какао | I90: =I72 -> Кофейный напиток | J90: =J72 -> Молоко 2,5% | K90: =K72 -> Масло сливочное | ... V90: =V72 -> Огурцы консервирован. | X90: =X72 -> Яйцо | Y90: =Y72 -> Икра кабачковая | Z90: =Z72 -> Изюм | AA90: =AA72 -> Курага | AB90: =AB72 -> Чернослив | AC90: =AC72 -> Шиповник | AD90: =AD72 -> Сухофрукты | AE90: =AE72 -> Ягода свежемороженная | ... BR90: =BR72 -> Лимонная кислота | BS90: Итого расход за день | BT90: ИТОГО на 1 Чел
B91: Меню
A92: Полдник | B92: Напиток из шиповника | C92: =$F$7 -> 1 | D92: =D24 -> 0 | E92: =E24 -> 0 | F92: =F24 -> 0.011 | G92: =G24 -> 0 | H92: =H24 -> 0 | I92: =I24 -> 0 | J92: =J24 -> 0 | K92: =K24 -> 0 | ... BR92: =BR24 -> 0
B93: Ватрушка с повидлом | D93: =D25 -> 0 | E93: =E25 -> 0 | F93: =F25 -> 0.0017 | G93: =G25 -> 0 | H93: =H25 -> 0 | I93: =I25 -> 0 | J93: =J25 -> 0 | K93: =K25 -> 0.002 | ... BR93: =BR25 -> 0
D94: =D26 -> 0 | E94: =E26 -> 0 | F94: =F26 -> 0 | G94: =G26 -> 0 | H94: =H26 -> 0 | I94: =I26 -> 0 | J94: =J26 -> 0 | K94: =K26 -> 0 | ... BR94: =BR26 -> 0
D95: =D27 -> 0 | E95: =E27 -> 0 | F95: =F27 -> 0 | G95: =G27 -> 0 | H95: =H27 -> 0 | I95: =I27 -> 0 | J95: =J27 -> 0 | K95: =K27 -> 0 | ... BR95: =BR27 -> 0
D96: =D28 -> 0 | E96: =E28 -> 0 | F96: =F28 -> 0 | G96: =G28 -> 0 | H96: =H28 -> 0 | I96: =I28 -> 0 | J96: =J28 -> 0 | K96: =K28 -> 0 | ... BR96: =BR28 -> 0
B97: Итого на 1 чел | D97: =SUM(D92:D96) -> 0 | E97: =SUM(E92:E96) -> 0 | F97: =SUM(F92:F96) -> 0.0127 | G97: =SUM(G92:G96) -> 0 | H97: =SUM(H92:H96) -> 0 | I97: =SUM(I92:I96) -> 0 | J97: =SUM(J92:J96) -> 0 | K97: =SUM(K92:K96) -> 0.002 | ... BR97: =SUM(BR92:BR96) -> 0
B98: Итого к выдаче, ГРАММ (на всех) | D98: =PRODUCT(D97,$F$7) -> 0 | E98: =PRODUCT(E97,$F$7) -> 0 | F98: =PRODUCT(F97,$F$7) -> 0.0127 | G98: =PRODUCT(G97,$F$7) -> 0 | H98: =PRODUCT(H97,$F$7) -> 0 | I98: =PRODUCT(I97,$F$7) -> 0 | J98: =PRODUCT(J97,$F$7) -> 0 | K98: =PRODUCT(K97,$F$7) -> 0.002 | ... W98: =PRODUCT(W97,$F$7) -> 0 | X98: 1 | Y98: =PRODUCT(Y97,$F$7) -> 0 | Z98: =PRODUCT(Z97,$F$7) -> 0 | AA98: =PRODUCT(AA97,$F$7) -> 0 | AB98: =PRODUCT(AB97,$F$7) -> 0 | AC98: =PRODUCT(AC97,$F$7) -> 0.008 | AD98: =PRODUCT(AD97,$F$7) -> 0 | AE98: =PRODUCT(AE97,$F$7) -> 0 | AF98: =PRODUCT(AF97,$F$7) -> 0 | ... BR98: =PRODUCT(BR97,$F$7) -> 0
B100: ЦЕНА ЗА КИЛОГРАММ (покупная) | C100: руб | D100: =D84 -> 90.9 | E100: =E84 -> 96 | F100: =F84 -> 91 | G100: =G84 -> 816 | H100: =H84 -> 1680 | I100: =I84 -> 1050 | J100: =J84 -> 90.57 | K100: =K84 -> 1166.67 | ... AE100: =AE84 -> 842 | AH100: =AH84 -> 359 | AJ100: =AJ84 -> 309.1 | AK100: =AK84 -> 94 | AL100: =AL84 -> 73 | AM100: =AM84 -> 51.6 | AN100: =AN84 -> 250 | AO100: =AO84 -> 272 | AP100: =AP84 -> 0 | AQ100: =AQ84 -> 425 | ... BR100: =BR84 -> 0
B101: ЦЕНА ЗА ГРАММ (покупная) | C101: руб | D101: =D100/1000 -> 0.0909 | E101: =E100/1000 -> 0.096 | F101: =F100/1000 -> 0.091 | G101: =G100/1000 -> 0.816 | H101: =H100/1000 -> 1.68 | I101: =I100/1000 -> 1.05 | J101: =J100/1000 -> 0.09057 | K101: =K100/1000 -> 1.16667 | ... BR101: =BR100/1000 -> 0
B102: Израсходовано на сумму (за граммы) | D102: =D98*D100 -> 0 | E102: =E98*E100 -> 0 | F102: =F98*F100 -> 1.1557 | G102: =G98*G100 -> 0 | H102: =H98*H100 -> 0 | I102: =I98*I100 -> 0 | J102: =J98*J100 -> 0 | K102: =K98*K100 -> 2.33334 | ... BR102: =BR98*BR100 -> 0 | BS102: =SUM(D102:BQ102) -> 20.75854 | BT102: =BS102/$C$10 -> 20.75854
B103: Израсходовано на сумму (за кг) | D103: =D98*D100 -> 0 | E103: =E98*E100 -> 0 | F103: =F98*F100 -> 1.1557 | G103: =G98*G100 -> 0 | H103: =H98*H100 -> 0 | I103: =I98*I100 -> 0 | J103: =J98*J100 -> 0 | K103: =K98*K100 -> 2.33334 | ... BR103: =BR98*BR100 -> 0 | BS103: =SUM(D103:BQ103) -> 20.75854 | BT103: =BS103/$C$10 -> 20.75854
J105: 10 | K105: детей в количестве | S105: на 18.03.2019
B106: Наименование продуктов | C106: Кол-во человек | D106: =D90 -> Хлеб пшеничный | E106: =E90 -> Хлеб ржано-пшеничный | F106: =F90 -> Сахар | G106: =G90 -> Чай | H106: =H90 -> Какао | I106: =I90 -> Кофейный напиток | J106: =J90 -> Молоко 2,5% | K106: =K90 -> Масло сливочное | ... V106: =V90 -> Огурцы консервирован. | X106: =X90 -> Яйцо | Y106: =Y90 -> Икра кабачковая | Z106: =Z90 -> Изюм | AA106: =AA90 -> Курага | AB106: =AB90 -> Чернослив | AC106: =AC90 -> Шиповник | AD106: =AD90 -> Сухофрукты | AE106: =AE90 -> Ягода свежемороженная | ... BR106: =BR90 -> Лимонная кислота | BS106: Итого расход за день | BT106: ИТОГО на 1 Чел
B107: Меню
A108: Ужин | B108: Омлет с зеленым горошком | C108: =$F$7 -> 1 | D108: =D29 -> 0 | E108: =E29 -> 0 | F108: =F29 -> 0 | G108: =G29 -> 0 | H108: =H29 -> 0 | I108: =I29 -> 0 | J108: =J29 -> 0.021 | K108: =K29 -> 0.004 | ... BR108: =BR29 -> 0
B109: Хлеб пшеничный | D109: =D30 -> 0 | E109: =E30 -> 0 | F109: =F30 -> 0 | G109: =G30 -> 0 | H109: =H30 -> 0 | I109: =I30 -> 0 | J109: =J30 -> 0 | K109: =K30 -> 0 | ... BR109: =BR30 -> 0
B110: Чай с сахаром | D110: =D31 -> 0 | E110: =E31 -> 0 | F110: =F31 -> 0.009 | G110: =G31 -> 0.0005 | H110: =H31 -> 0 | I110: =I31 -> 0 | J110: =J31 -> 0 | K110: =K31 -> 0 | ... BR110: =BR31 -> 0
D111: =D32 -> 0.02 | E111: =E32 -> 0 | F111: =F32 -> 0 | G111: =G32 -> 0 | H111: =H32 -> 0 | I111: =I32 -> 0 | J111: =J32 -> 0 | K111: =K32 -> 0 | ... BR111: =BR32 -> 0
D112: =D33 -> 0 | E112: =E33 -> 0 | F112: =F33 -> 0 | G112: =G33 -> 0 | H112: =H33 -> 0 | I112: =I33 -> 0 | J112: =J33 -> 0 | K112: =K33 -> 0 | ... BR112: =BR33 -> 0
B113: Итого на 1 чел | D113: =SUM(D108:D112) -> 0.02 | E113: =SUM(E108:E112) -> 0 | F113: =SUM(F108:F112) -> 0.009 | G113: =SUM(G108:G112) -> 0.0005 | H113: =SUM(H108:H112) -> 0 | I113: =SUM(I108:I112) -> 0 | J113: =SUM(J108:J112) -> 0.021 | K113: =SUM(K108:K112) -> 0.004 | ... BR113: =SUM(BR108:BR112) -> 0
B114: Итого к выдаче, ГРАММ (на всех) | D114: =PRODUCT(D113,$F$7) -> 0.02 | E114: =PRODUCT(E113,$F$7) -> 0 | F114: =PRODUCT(F113,$F$7) -> 0.009 | G114: =PRODUCT(G113,$F$7) -> 0.0005 | H114: =PRODUCT(H113,$F$7) -> 0 | I114: =PRODUCT(I113,$F$7) -> 0 | J114: =PRODUCT(J113,$F$7) -> 0.021 | K114: =PRODUCT(K113,$F$7) -> 0.004 | ... BR114: =PRODUCT(BR113,$F$7) -> 0
B116: ЦЕНА ЗА КИЛОГРАММ (покупная) | C116: руб | D116: =D100 -> 90.9 | E116: =E100 -> 96 | F116: =F100 -> 91 | G116: =G100 -> 816 | H116: =H100 -> 1680 | I116: =I100 -> 1050 | J116: =J100 -> 90.57 | K116: =K100 -> 1166.67 | ... AE116: =AE100 -> 842 | AH116: =AH100 -> 359 | AJ116: =AJ100 -> 309.1 | AK116: =AK100 -> 94 | AL116: =AL100 -> 73 | AM116: =AM100 -> 51.6 | AN116: =AN100 -> 250 | AO116: =AO100 -> 272 | AP116: =AP100 -> 0 | AQ116: =AQ100 -> 425 | ... BR116: =BR100 -> 0
B117: ЦЕНА ЗА ГРАММ (покупная) | C117: руб | D117: =D116/1000 -> 0.0909 | E117: =E116/1000 -> 0.096 | F117: =F116/1000 -> 0.091 | G117: =G116/1000 -> 0.816 | H117: =H116/1000 -> 1.68 | I117: =I116/1000 -> 1.05 | J117: =J116/1000 -> 0.09057 | K117: =K116/1000 -> 1.16667 | ... BR117: =BR116/1000 -> 0
B118: Израсходовано на сумму (за граммы) | D118: =D114*D116 -> 1.818 | E118: =E114*E116 -> 0 | F118: =F114*F116 -> 0.819 | G118: =G114*G116 -> 0.408 | H118: =H114*H116 -> 0 | I118: =I114*I116 -> 0 | J118: =J114*J116 -> 1.90197 | K118: =K114*K116 -> 4.66668 | ... BR118: =BR114*BR116 -> 0 | BS118: =SUM(D118:BQ118) -> 27.46065 | BT118: =BS118/$C$10 -> 27.46065
B119: Израсходовано на сумму (за кг) | D119: =D114*D116 -> 1.818 | E119: =E114*E116 -> 0 | F119: =F114*F116 -> 0.819 | G119: =G114*G116 -> 0.408 | H119: =H114*H116 -> 0 | I119: =I114*I116 -> 0 | J119: =J114*J116 -> 1.90197 | K119: =K114*K116 -> 4.66668 | ... BR119: =BR114*BR116 -> 0 | BS119: =SUM(D119:BQ119) -> 27.46065 | BT119: =BS119/$C$10 -> 27.46065

Sheet ОВЗ 3-7 лет  
A1: Утверждаю
A2: Заведующий МКДОУ Ташаринский детский сад "Лесовичок" | H2: Меню - требование на выдачу продуктов питания
A3: _________________ Чугуева Т.В.
A4: подпись | H4: Учреждение МКДОУ "Ташаринский детский сад"Лесовичок"
H5: Ответственное лицо Романашенко Г.М.
B7: ОВЗ | C7: детей в количестве | E7: 1 | F7: человек (3-7 лет) на | K7: =' 3-7 лет (день 7)'!K7 -> 46293
B8: Наименование продуктов | C8: Кол-во человек | D8: =[1]Цены!A1 -> Хлеб пшеничный | E8: =[1]Цены!B1 -> Хлеб ржано-пшеничный | F8: =[1]Цены!C1 -> Сахар | G8: =[1]Цены!D1 -> Чай | H8: =[1]Цены!E1 -> Какао | I8: =[1]Цены!F1 -> Кофейный напиток | J8: =[1]Цены!G1 -> Молоко 2,5% | K8: =[1]Цены!H1 -> Масло сливочное | ... AE8: =[1]Цены!AB1 -> Ягода свежемороженная | AF8: =' 3-7 лет (день 7)'!AF8:AF9 -> Апельсин | AG8: =' 3-7 лет (день 7)'!AG8:AG9 -> Банан | AH8: =' 3-7 лет (день 7)'!AH8:AH9 -> Лимон | AI8: =' 3-7 лет (день 7)'!AI8:AI9 -> Яблоко | AJ8: =[1]Цены!AD1 -> Кисель | AK8: =[1]Цены!AE1 -> Сок | AL8: =[1]Цены!AF1 -> Макаронные изделия | AM8: =[1]Цены!AG1 -> Мука | AN8: =[1]Цены!AH1 -> Дрожжи | AO8: =[1]Цены!AI1 -> Печенье | AP8: =[1]Цены!AJ1 -> Пряники | AQ8: =[1]Цены!AK1 -> Вафли | ... BQ8: =[1]Цены!BK1 -> Соль | BR8: Лимонная кислота | BS8: Итого расход за день | BT8: ИТОГО на 1 Чел
B9: Меню
A10: Завтрак | B10: =' 3-7 лет (день 7)'!B10 -> Каша пшеничная молочная | C10: =$E$7 -> 1 | F10: 0.005 | K10: 0.003 | M10: 0.0165 | AZ10: 0.02 | BQ10: 0.0005
B11: =' 3-7 лет (день 7)'!B11 -> Бутерброд с джемом | D11: 0.03 | Q11: 0.008
B12: =' 3-7 лет (день 7)'!B12 -> Какао с молоком | F12: 0.011 | H12: 0.0012 | J12: 0.096
A15: Второй завтрак | B15: Яблоко | C15: =E7 -> 1 | AI15: 0.114
B16: Банан
A17: Обед | B17: =' 3-7 лет (день 7)'!B17 -> Суп "Волна" | C17: =E7 -> 1 | K17: 0.003 | X17: 0.5 | BD17: 0.035 | BJ17: 0.188 | BK17: 0.017 | BL17: 0.012 | BP17: 0.002 | BQ17: 0.002
B18: =' 3-7 лет (день 7)'!B18 -> Голубцы ленивые | X18: 0.1 | BC18: 0.0042 | BE18: 0.027 | BF18: 0.021 | BL18: 0.005 | BM18: 0.055 | BP18: 0.002 | BQ18: 0.002
B19: =' 3-7 лет (день 7)'!B19 -> Соус сметанный | K19: 0.001 | L19: 0.015 | AM19: 0.001
B20: =' 3-7 лет (день 7)'!B20 -> Макароны отварные | K20: 0.005 | AL20: 0.035 | BQ20: 0.0005
B21: =' 3-7 лет (день 7)'!B21 -> Хлеб пшеничный | D21: 0.03
B22: =' 3-7 лет (день 7)'!B22 -> Хлеб ржано-пшеничный | E22: 0.05
B23: =' 3-7 лет (день 7)'!B23 -> Компот из кураги | F23: 0.012 | AA23: 0.01 | BR23: 5e-05
A24: Полдник | B24: =' 3-7 лет (день 7)'!B24 -> Напиток из шиповника | C24: =$E$7 -> 1 | F24: 0.015 | AC24: 0.012
B25: =' 3-7 лет (день 7)'!B25 -> Ватрушка с повидлом | F25: 0.002 | K25: 0.002 | X25: 0.05 | AM25: 0.04 | AN25: 0.0022857 | AS25: 0.02 | BP25: 0.001
B26: =' 3-7 лет (день 7)'!B26 -> Яблоко
A29: Ужин | B29: =' 3-7 лет (день 7)'!B29 -> Картофельное пюре | C29: =$E$7 -> 1 | J29: 0.024 | K29: 0.005 | BJ29: 0.192 | BQ29: 0.001
B30: =' 3-7 лет (день 7)'!B30 -> Огурчик свежий | W30: 0.035
B31: =' 3-7 лет (день 7)'!B31 -> Чай с лимоном | F31: 0.012 | G31: 0.0006 | AH31: 0.005
B32: =' 3-7 лет (день 7)'!B32 -> Хлеб пшеничный | D32: 0.02
B34: Итого на 1 чел | D34: =SUM(D10:D33) -> 0.08 | E34: =SUM(E10:E33) -> 0.05 | F34: =SUM(F10:F33) -> 0.057 | G34: =SUM(G10:G33) -> 0.0006 | H34: =SUM(H10:H33) -> 0.0012 | I34: =SUM(I10:I33) -> 0 | J34: =SUM(J10:J33) -> 0.12 | K34: =SUM(K10:K33) -> 0.019 | ... BR34: =SUM(BR10:BR33) -> 5e-05
B35: К выдаче, ГРАММ (на всех) | D35: =ROUND(PRODUCT(D34,$E$7),3) -> 0.08 | E35: =ROUND(PRODUCT(E34,$E$7),3) -> 0.05 | F35: =ROUND(PRODUCT(F34,$E$7),3) -> 0.057 | G35: =ROUND(PRODUCT(G34,$E$7),3) -> 0.001 | H35: =ROUND(PRODUCT(H34,$E$7),3) -> 0.001 | I35: =ROUND(PRODUCT(I34,$E$7),3) -> 0 | J35: =ROUND(PRODUCT(J34,$E$7),3) -> 0.12 | K35: =ROUND(PRODUCT(K34,$E$7),3) -> 0.019 | ... BR35: =ROUND(PRODUCT(BR34,$E$7),3) -> 0
D37: Ответственный калькулятор | H37: _________________ | K37: С.В.Залевская
D38: исполнитель | F38: должность | H38: подпись
F40: Повар | H40: ___________________ | K40: =' 3-7 лет (день 7)'!K41 -> 0
H41: подпись
B48: ЦЕНА ЗА КИЛОГРАММ (покупная) | C48: руб | D48: 90.9 | E48: 96 | F48: 91 | G48: 816 | H48: 1680 | I48: 1050 | J48: 90.57 | K48: 1166.67 | L48: 255.2 | M48: 833 | N48: 126.38 | O48: 387.53 | P48: 663.16 | Q48: 526.67 | R48: 1295 | U48: 1012 | V48: 470.67 | W48: 348 | X48: 9.4 | Y48: 266.5 | Z48: 367 | AA48: 524 | AB48: 330 | AC48: 299 | AD48: 148 | AE48: 842 | AG48: 180 | AH48: 359 | AI48: 160 | AJ48: 309.1 | AK48: 94 | AL48: 73 | AM48: 51.6 | AN48: 250 | AO48: 272 | AQ48: 425 | AR48: 800 | AS48: 294.25 | AT48: 95 | AU48: 87.33 | AV48: 73.33 | AW48: 80 | AX48: 89.29 | AY48: 63.75 | AZ48: 104.62 | BA48: 81.33 | BB48: 71.67 | BC48: 152.67 | BD48: 378 | BE48: 574 | BF48: 696 | BG48: 324 | BH48: 604 | BJ48: 38 | BK48: 38 | BL48: 33 | BM48: 43 | BN48: 43 | BO48: 306.32 | BP48: 190 | BQ48: 26
B49: ЦЕНА ЗА ГРАММ (покупная) | C49: руб | D49: =D48/1000 -> 0.0909 | E49: =E48/1000 -> 0.096 | F49: =F48/1000 -> 0.091 | G49: =G48/1000 -> 0.816 | H49: =H48/1000 -> 1.68 | I49: =I48/1000 -> 1.05 | J49: =J48/1000 -> 0.09057 | K49: =K48/1000 -> 1.16667 | ... BR49: =BR48/1000 -> 0
B50: Израсходовано на сумму (за граммы) | D50: =D35*D48 -> 7.272 | E50: =E35*E48 -> 4.8 | F50: =F35*F48 -> 5.187 | G50: =G35*G48 -> 0.816 | H50: =H35*H48 -> 1.68 | I50: =I35*I48 -> 0 | J50: =J35*J48 -> 10.8684 | K50: =K35*K48 -> 22.16673 | ... BR50: =BR35*BR48 -> 0 | BS50: =SUM(D50:BQ50) -> 198.36617 | BT50: =BS50/$C$10 -> 198.36617
B51: Израсходовано на сумму (за кг) | D51: =D35*D48 -> 7.272 | E51: =E35*E48 -> 4.8 | F51: =F35*F48 -> 5.187 | G51: =G35*G48 -> 0.816 | H51: =H35*H48 -> 1.68 | I51: =I35*I48 -> 0 | J51: =J35*J48 -> 10.8684 | K51: =K35*K48 -> 22.16673 | ... BR51: =BR35*BR48 -> 0 | BS51: =SUM(D51:BQ51) -> 198.36617 | BT51: =BS51/$C$10 -> 198.36617
B52: P/S: Итого к выдаче Яйцо- указано в шт. | D52: =D69+D87+D103+D119 -> 7.272 | E52: =E69+E87+E103+E119 -> 4.8 | F52: =F69+F87+F103+F119 -> 5.187 | G52: =G69+G87+G103+G119 -> 0.4896 | H52: =H69+H87+H103+H119 -> 2.016 | I52: =I69+I87+I103+I119 -> 0 | J52: =J69+J87+J103+J119 -> 10.8684 | K52: =K69+K87+K103+K119 -> 22.16673 | ... BR52: =BR69+BR87+BR103+BR119 -> 0 | BS52: =SUM(D52:BQ52) -> 483.91123
B53: Цена за яйцо, указана за 1 шт. | BS53: =BS52/56 -> 8.6412719 | BT53: =BT68+BT86+BT102+BT118 -> 483.91123
J55: 44 | K55: детей в количестве | S55: на 18.03.2019
B56: Наименование продуктов | C56: Кол-во человек | D56: =D8 -> Хлеб пшеничный | E56: =E8 -> Хлеб ржано-пшеничный | F56: =F8 -> Сахар | G56: =G8 -> Чай | H56: =H8 -> Какао | I56: =I8 -> Кофейный напиток | J56: =J8 -> Молоко 2,5% | K56: =K8 -> Масло сливочное | ... V56: =V8 -> Огурцы консервирован. | X56: =X8 -> Яйцо | Y56: =Y8 -> Икра кабачковая | Z56: =Z8 -> Изюм | AA56: =AA8 -> Курага | AB56: =AB8 -> Чернослив | AC56: =AC8 -> Шиповник | AD56: =AD8 -> Сухофрукты | AE56: =AE8 -> Ягода свежемороженная | ... BR56: =BR8 -> Лимонная кислота | BS56: Итого расход за день | BT56: ИТОГО на 1 Чел
B57: Меню
A58: Завтрак | B58: =B10 -> Каша пшеничная молочная | C58: =$E$7 -> 1 | D58: =D10 -> 0 | E58: =E10 -> 0 | F58: =F10 -> 0.005 | G58: =G10 -> 0 | H58: =H10 -> 0 | I58: =I10 -> 0 | J58: =J10 -> 0 | K58: =K10 -> 0.003 | ... BR58: =BR10 -> 0
B59: =B11 -> Бутерброд с джемом | D59: =D11 -> 0.03 | E59: =E11 -> 0 | F59: =F11 -> 0 | G59: =G11 -> 0 | H59: =H11 -> 0 | I59: =I11 -> 0 | J59: =J11 -> 0 | K59: =K11 -> 0 | ... BR59: =BR11 -> 0
B60: =B12 -> Какао с молоком | D60: =D12 -> 0 | E60: =E12 -> 0 | F60: =F12 -> 0.011 | G60: =G12 -> 0 | H60: =H12 -> 0.0012 | I60: =I12 -> 0 | J60: =J12 -> 0.096 | K60: =K12 -> 0 | ... BR60: =BR12 -> 0
B61: =B13 -> 0 | D61: =D13 -> 0 | E61: =E13 -> 0 | F61: =F13 -> 0 | G61: =G13 -> 0 | H61: =H13 -> 0 | I61: =I13 -> 0 | J61: =J13 -> 0 | K61: =K13 -> 0 | ... BR61: =BR13 -> 0
B62: =B14 -> 0 | D62: =D14 -> 0 | E62: =E14 -> 0 | F62: =F14 -> 0 | G62: =G14 -> 0 | H62: =H14 -> 0 | I62: =I14 -> 0 | J62: =J14 -> 0 | K62: =K14 -> 0 | ... BR62: =BR14 -> 0
B63: Итого на 1 чел | D63: =SUM(D58:D62) -> 0.03 | E63: =SUM(E58:E62) -> 0 | F63: =SUM(F58:F62) -> 0.016 | G63: =SUM(G58:G62) -> 0 | H63: =SUM(H58:H62) -> 0.0012 | I63: =SUM(I58:I62) -> 0 | J63: =SUM(J58:J62) -> 0.096 | K63: =SUM(K58:K62) -> 0.003 | ... BR63: =SUM(BR58:BR62) -> 0
B64: Итого к выдаче, ГРАММ (на всех) | D64: =PRODUCT(D63,$E$7) -> 0.03 | E64: =PRODUCT(E63,$E$7) -> 0 | F64: =PRODUCT(F63,$E$7) -> 0.016 | G64: =PRODUCT(G63,$E$7) -> 0 | H64: =PRODUCT(H63,$E$7) -> 0.0012 | I64: =PRODUCT(I63,$E$7) -> 0 | J64: =PRODUCT(J63,$E$7) -> 0.096 | K64: =PRODUCT(K63,$E$7) -> 0.003 | ... BR64: =PRODUCT(BR63,$E$7) -> 0
B66: ЦЕНА ЗА КИЛОГРАММ (покупная) | C66: руб | D66: =D48 -> 90.9 | E66: =E48 -> 96 | F66: =F48 -> 91 | G66: =G48 -> 816 | H66: =H48 -> 1680 | I66: =I48 -> 1050 | J66: =J48 -> 90.57 | K66: =K48 -> 1166.67 | ... AE66: =AE48 -> 842 | AH66: =AH48 -> 359 | AJ66: =AJ48 -> 309.1 | AK66: =AK48 -> 94 | AL66: =AL48 -> 73 | AM66: =AM48 -> 51.6 | AN66: =AN48 -> 250 | AO66: =AO48 -> 272 | AP66: =AP48 -> 0 | AQ66: =AQ48 -> 425 | ... BR66: =BR48 -> 0
B67: ЦЕНА ЗА ГРАММ (покупная) | C67: руб | D67: =D66/1000 -> 0.0909 | E67: =E66/1000 -> 0.096 | F67: =F66/1000 -> 0.091 | G67: =G66/1000 -> 0.816 | H67: =H66/1000 -> 1.68 | I67: =I66/1000 -> 1.05 | J67: =J66/1000 -> 0.09057 | K67: =K66/1000 -> 1.16667 | ... BR67: =BR66/1000 -> 0
B68: Израсходовано на сумму (за граммы) | D68: =D64*D66 -> 2.727 | E68: =E64*E66 -> 0 | F68: =F64*F66 -> 1.456 | G68: =G64*G66 -> 0 | H68: =H64*H66 -> 2.016 | I68: =I64*I66 -> 0 | J68: =J64*J66 -> 8.69472 | K68: =K64*K66 -> 3.50001 | ... BR68: =BR64*BR66 -> 0 | BS68: =SUM(D68:BQ68) -> 38.45699 | BT68: =BS68/$C$10 -> 38.45699
B69: Израсходовано на сумму (за кг) | D69: =D64*D66 -> 2.727 | E69: =E64*E66 -> 0 | F69: =F64*F66 -> 1.456 | G69: =G64*G66 -> 0 | H69: =H64*H66 -> 2.016 | I69: =I64*I66 -> 0 | J69: =J64*J66 -> 8.69472 | K69: =K64*K66 -> 3.50001 | ... BR69: =BR64*BR66 -> 0 | BS69: =SUM(D69:BQ69) -> 38.45699 | BT69: =BS69/$C$10 -> 38.45699
J71: 44 | K71: детей в количестве | S71: на 18.03.2019
B72: Наименование продуктов | C72: Кол-во человек | D72: =D56 -> Хлеб пшеничный | E72: =E56 -> Хлеб ржано-пшеничный | F72: =F56 -> Сахар | G72: =G56 -> Чай | H72: =H56 -> Какао | I72: =I56 -> Кофейный напиток | J72: =J56 -> Молоко 2,5% | K72: =K56 -> Масло сливочное | ... V72: =V56 -> Огурцы консервирован. | X72: =X56 -> Яйцо | Y72: =Y56 -> Икра кабачковая | Z72: =Z56 -> Изюм | AA72: =AA56 -> Курага | AB72: =AB56 -> Чернослив | AC72: =AC56 -> Шиповник | AD72: =AD56 -> Сухофрукты | AE72: =AE56 -> Ягода свежемороженная | ... BR72: =BR56 -> Лимонная кислота | BS72: Итого расход за день | BT72: ИТОГО на 1 Чел
B73: Меню
B74: =B17 -> Суп "Волна" | D74: =D17 -> 0 | E74: =E17 -> 0 | F74: =F17 -> 0 | G74: =G17 -> 0 | H74: =H17 -> 0 | I74: =I17 -> 0 | J74: =J17 -> 0 | K74: =K17 -> 0.003 | ... BR74: =BR17 -> 0
B75: =B18 -> Голубцы ленивые | D75: =D18 -> 0 | E75: =E18 -> 0 | F75: =F18 -> 0 | G75: =G18 -> 0 | H75: =H18 -> 0 | I75: =I18 -> 0 | J75: =J18 -> 0 | K75: =K18 -> 0 | ... BR75: =BR18 -> 0
B76: =B19 -> Соус сметанный | D76: =D19 -> 0 | E76: =E19 -> 0 | F76: =F19 -> 0 | G76: =G19 -> 0 | H76: =H19 -> 0 | I76: =I19 -> 0 | J76: =J19 -> 0 | K76: =K19 -> 0.001 | ... BR76: =BR19 -> 0
B77: =B20 -> Макароны отварные | D77: =D20 -> 0 | E77: =E20 -> 0 | F77: =F20 -> 0 | G77: =G20 -> 0 | H77: =H20 -> 0 | I77: =I20 -> 0 | J77: =J20 -> 0 | K77: =K20 -> 0.005 | ... BR77: =BR20 -> 0
B78: =B21 -> Хлеб пшеничный | D78: =D21 -> 0.03 | E78: =E21 -> 0 | F78: =F21 -> 0 | G78: =G21 -> 0 | H78: =H21 -> 0 | I78: =I21 -> 0 | J78: =J21 -> 0 | K78: =K21 -> 0 | ... BR78: =BR21 -> 0
B79: =B22 -> Хлеб ржано-пшеничный | D79: =D22 -> 0 | E79: =E22 -> 0.05 | F79: =F22 -> 0 | G79: =G22 -> 0 | H79: =H22 -> 0 | I79: =I22 -> 0 | J79: =J22 -> 0 | K79: =K22 -> 0 | ... BR79: =BR22 -> 0
B80: =B23 -> Компот из кураги | D80: =D23 -> 0 | E80: =E23 -> 0 | F80: =F23 -> 0.012 | G80: =G23 -> 0 | H80: =H23 -> 0 | I80: =I23 -> 0 | J80: =J23 -> 0 | K80: =K23 -> 0 | ... BR80: =BR23 -> 5e-05
B81: Итого на 1 чел | D81: =SUM(D74:D80) -> 0.03 | E81: =SUM(E74:E80) -> 0.05 | F81: =SUM(F74:F80) -> 0.012 | G81: =SUM(G74:G80) -> 0 | H81: =SUM(H74:H80) -> 0 | I81: =SUM(I74:I80) -> 0 | J81: =SUM(J74:J80) -> 0 | K81: =SUM(K74:K80) -> 0.009 | ... BR81: =SUM(BR74:BR80) -> 5e-05
B82: Итого к выдаче, ГРАММ (на всех) | D82: =PRODUCT(D81,$E$7) -> 0.03 | E82: =PRODUCT(E81,$E$7) -> 0.05 | F82: =PRODUCT(F81,$E$7) -> 0.012 | G82: =PRODUCT(G81,$E$7) -> 0 | H82: =PRODUCT(H81,$E$7) -> 0 | I82: =PRODUCT(I81,$E$7) -> 0 | J82: =PRODUCT(J81,$E$7) -> 0 | K82: =PRODUCT(K81,$E$7) -> 0.009 | ... W82: =PRODUCT(W81,$E$7) -> 0 | X82: 30 | Y82: =PRODUCT(Y81,$E$7) -> 0 | Z82: =PRODUCT(Z81,$E$7) -> 0 | AA82: =PRODUCT(AA81,$E$7) -> 0.01 | AB82: =PRODUCT(AB81,$E$7) -> 0 | AC82: =PRODUCT(AC81,$E$7) -> 0 | AD82: =PRODUCT(AD81,$E$7) -> 0 | AE82: =PRODUCT(AE81,$E$7) -> 0 | AF82: =PRODUCT(AF81,$E$7) -> 0 | ... BR82: =PRODUCT(BR81,$E$7) -> 5e-05
B84: ЦЕНА ЗА КИЛОГРАММ (покупная) | C84: руб | D84: =D66 -> 90.9 | E84: =E66 -> 96 | F84: =F66 -> 91 | G84: =G66 -> 816 | H84: =H66 -> 1680 | I84: =I66 -> 1050 | J84: =J66 -> 90.57 | K84: =K66 -> 1166.67 | ... AE84: =AE66 -> 842 | AH84: =AH66 -> 359 | AJ84: =AJ66 -> 309.1 | AK84: =AK66 -> 94 | AL84: =AL66 -> 73 | AM84: =AM66 -> 51.6 | AN84: =AN66 -> 250 | AO84: =AO66 -> 272 | AP84: =AP66 -> 0 | AQ84: =AQ66 -> 425 | ... BR84: =BR66 -> 0
B85: ЦЕНА ЗА ГРАММ (покупная) | C85: руб | D85: =D84/1000 -> 0.0909 | E85: =E84/1000 -> 0.096 | F85: =F84/1000 -> 0.091 | G85: =G84/1000 -> 0.816 | H85: =H84/1000 -> 1.68 | I85: =I84/1000 -> 1.05 | J85: =J84/1000 -> 0.09057 | K85: =K84/1000 -> 1.16667 | ... BR85: =BR84/1000 -> 0
B86: Израсходовано на сумму (за граммы) | D86: =D82*D84 -> 2.727 | E86: =E82*E84 -> 4.8 | F86: =F82*F84 -> 1.092 | G86: =G82*G84 -> 0 | H86: =H82*H84 -> 0 | I86: =I82*I84 -> 0 | J86: =J82*J84 -> 0 | K86: =K82*K84 -> 10.50003 | ... BR86: =BR82*BR84 -> 0 | BS86: =SUM(D86:BQ86) -> 368.37184 | BT86: =BS86/$C$10 -> 368.37184
B87: Израсходовано на сумму (за кг) | D87: =D82*D84 -> 2.727 | E87: =E82*E84 -> 4.8 | F87: =F82*F84 -> 1.092 | G87: =G82*G84 -> 0 | H87: =H82*H84 -> 0 | I87: =I82*I84 -> 0 | J87: =J82*J84 -> 0 | K87: =K82*K84 -> 10.50003 | ... BR87: =BR82*BR84 -> 0 | BS87: =SUM(D87:BQ87) -> 368.37184 | BT87: =BS87/$C$10 -> 368.37184
J89: 44 | K89: детей в количестве | S89: на 18.03.2019
B90: Наименование продуктов | C90: Кол-во человек | D90: =D72 -> Хлеб пшеничный | E90: =E72 -> Хлеб ржано-пшеничный | F90: =F72 -> Сахар | G90: =G72 -> Чай | H90: =H72 -> Какао | I90: =I72 -> Кофейный напиток | J90: =J72 -> Молоко 2,5% | K90: =K72 -> Масло сливочное | ... V90: =V72 -> Огурцы консервирован. | X90: =X72 -> Яйцо | Y90: =Y72 -> Икра кабачковая | Z90: =Z72 -> Изюм | AA90: =AA72 -> Курага | AB90: =AB72 -> Чернослив | AC90: =AC72 -> Шиповник | AD90: =AD72 -> Сухофрукты | AE90: =AE72 -> Ягода свежемороженная | ... BR90: =BR72 -> Лимонная кислота | BS90: Итого расход за день | BT90: ИТОГО на 1 Чел
B91: Меню
A92: Полдник | B92: =B24 -> Напиток из шиповника | C92: =$E$7 -> 1 | D92: =D24 -> 0 | E92: =E24 -> 0 | F92: =F24 -> 0.015 | G92: =G24 -> 0 | H92: =H24 -> 0 | I92: =I24 -> 0 | J92: =J24 -> 0 | K92: =K24 -> 0 | ... BR92: =BR24 -> 0
B93: =B25 -> Ватрушка с повидлом | D93: =D25 -> 0 | E93: =E25 -> 0 | F93: =F25 -> 0.002 | G93: =G25 -> 0 | H93: =H25 -> 0 | I93: =I25 -> 0 | J93: =J25 -> 0 | K93: =K25 -> 0.002 | ... BR93: =BR25 -> 0
B94: =B26 -> Яблоко | D94: =D26 -> 0 | E94: =E26 -> 0 | F94: =F26 -> 0 | G94: =G26 -> 0 | H94: =H26 -> 0 | I94: =I26 -> 0 | J94: =J26 -> 0 | K94: =K26 -> 0 | ... BR94: =BR26 -> 0
B95: =B27 -> 0 | D95: =D27 -> 0 | E95: =E27 -> 0 | F95: =F27 -> 0 | G95: =G27 -> 0 | H95: =H27 -> 0 | I95: =I27 -> 0 | J95: =J27 -> 0 | K95: =K27 -> 0 | ... BR95: =BR27 -> 0
B96: =B28 -> 0 | D96: =D28 -> 0 | E96: =E28 -> 0 | F96: =F28 -> 0 | G96: =G28 -> 0 | H96: =H28 -> 0 | I96: =I28 -> 0 | J96: =J28 -> 0 | K96: =K28 -> 0 | ... BR96: =BR28 -> 0
B97: Итого на 1 чел | D97: =SUM(D92:D96) -> 0 | E97: =SUM(E92:E96) -> 0 | F97: =SUM(F92:F96) -> 0.017 | G97: =SUM(G92:G96) -> 0 | H97: =SUM(H92:H96) -> 0 | I97: =SUM(I92:I96) -> 0 | J97: =SUM(J92:J96) -> 0 | K97: =SUM(K92:K96) -> 0.002 | ... BR97: =SUM(BR92:BR96) -> 0
B98: Итого к выдаче, ГРАММ (на всех) | D98: =PRODUCT(D97,$E$7) -> 0 | E98: =PRODUCT(E97,$E$7) -> 0 | F98: =PRODUCT(F97,$E$7) -> 0.017 | G98: =PRODUCT(G97,$E$7) -> 0 | H98: =PRODUCT(H97,$E$7) -> 0 | I98: =PRODUCT(I97,$E$7) -> 0 | J98: =PRODUCT(J97,$E$7) -> 0 | K98: =PRODUCT(K97,$E$7) -> 0.002 | ... W98: =PRODUCT(W97,$E$7) -> 0 | X98: 3 | Y98: =PRODUCT(Y97,$E$7) -> 0 | Z98: =PRODUCT(Z97,$E$7) -> 0 | AA98: =PRODUCT(AA97,$E$7) -> 0 | AB98: =PRODUCT(AB97,$E$7) -> 0 | AC98: =PRODUCT(AC97,$E$7) -> 0.012 | AD98: =PRODUCT(AD97,$E$7) -> 0 | AE98: =PRODUCT(AE97,$E$7) -> 0 | AF98: =PRODUCT(AF97,$E$7) -> 0 | ... BR98: =PRODUCT(BR97,$E$7) -> 0
B100: ЦЕНА ЗА КИЛОГРАММ (покупная) | C100: руб | D100: =D84 -> 90.9 | E100: =E84 -> 96 | F100: =F84 -> 91 | G100: =G84 -> 816 | H100: =H84 -> 1680 | I100: =I84 -> 1050 | J100: =J84 -> 90.57 | K100: =K84 -> 1166.67 | ... AE100: =AE84 -> 842 | AH100: =AH84 -> 359 | AJ100: =AJ84 -> 309.1 | AK100: =AK84 -> 94 | AL100: =AL84 -> 73 | AM100: =AM84 -> 51.6 | AN100: =AN84 -> 250 | AO100: =AO84 -> 272 | AP100: =AP84 -> 0 | AQ100: =AQ84 -> 425 | ... BR100: =BR84 -> 0
B101: ЦЕНА ЗА ГРАММ (покупная) | C101: руб | D101: =D100/1000 -> 0.0909 | E101: =E100/1000 -> 0.096 | F101: =F100/1000 -> 0.091 | G101: =G100/1000 -> 0.816 | H101: =H100/1000 -> 1.68 | I101: =I100/1000 -> 1.05 | J101: =J100/1000 -> 0.09057 | K101: =K100/1000 -> 1.16667 | ... BR101: =BR100/1000 -> 0
B102: Израсходовано на сумму (за граммы) | D102: =D98*D100 -> 0 | E102: =E98*E100 -> 0 | F102: =F98*F100 -> 1.547 | G102: =G98*G100 -> 0 | H102: =H98*H100 -> 0 | I102: =I98*I100 -> 0 | J102: =J98*J100 -> 0 | K102: =K98*K100 -> 2.33334 | ... BR102: =BR98*BR100 -> 0 | BS102: =SUM(D102:BQ102) -> 44.378765 | BT102: =BS102/$C$10 -> 44.378765
B103: Израсходовано на сумму (за кг) | D103: =D98*D100 -> 0 | E103: =E98*E100 -> 0 | F103: =F98*F100 -> 1.547 | G103: =G98*G100 -> 0 | H103: =H98*H100 -> 0 | I103: =I98*I100 -> 0 | J103: =J98*J100 -> 0 | K103: =K98*K100 -> 2.33334 | ... BR103: =BR98*BR100 -> 0 | BS103: =SUM(D103:BQ103) -> 44.378765 | BT103: =BS103/$C$10 -> 44.378765
J105: 44 | K105: детей в количестве | S105: на 18.03.2019
B106: Наименование продуктов | C106: Кол-во человек | D106: =D90 -> Хлеб пшеничный | E106: =E90 -> Хлеб ржано-пшеничный | F106: =F90 -> Сахар | G106: =G90 -> Чай | H106: =H90 -> Какао | I106: =I90 -> Кофейный напиток | J106: =J90 -> Молоко 2,5% | K106: =K90 -> Масло сливочное | ... V106: =V90 -> Огурцы консервирован. | X106: =X90 -> Яйцо | Y106: =Y90 -> Икра кабачковая | Z106: =Z90 -> Изюм | AA106: =AA90 -> Курага | AB106: =AB90 -> Чернослив | AC106: =AC90 -> Шиповник | AD106: =AD90 -> Сухофрукты | AE106: =AE90 -> Ягода свежемороженная | ... BR106: =BR90 -> Лимонная кислота | BS106: Итого расход за день | BT106: ИТОГО на 1 Чел
B107: Меню
A108: Ужин | B108: =B29 -> Картофельное пюре | C108: =$E$7 -> 1 | D108: =D29 -> 0 | E108: =E29 -> 0 | F108: =F29 -> 0 | G108: =G29 -> 0 | H108: =H29 -> 0 | I108: =I29 -> 0 | J108: =J29 -> 0.024 | K108: =K29 -> 0.005 | ... BR108: =BR29 -> 0
B109: =B30 -> Огурчик свежий | D109: =D30 -> 0 | E109: =E30 -> 0 | F109: =F30 -> 0 | G109: =G30 -> 0 | H109: =H30 -> 0 | I109: =I30 -> 0 | J109: =J30 -> 0 | K109: =K30 -> 0 | ... BR109: =BR30 -> 0
B110: =B31 -> Чай с лимоном | D110: =D31 -> 0 | E110: =E31 -> 0 | F110: =F31 -> 0.012 | G110: =G31 -> 0.0006 | H110: =H31 -> 0 | I110: =I31 -> 0 | J110: =J31 -> 0 | K110: =K31 -> 0 | ... BR110: =BR31 -> 0
B111: =B32 -> Хлеб пшеничный | D111: =D32 -> 0.02 | E111: =E32 -> 0 | F111: =F32 -> 0 | G111: =G32 -> 0 | H111: =H32 -> 0 | I111: =I32 -> 0 | J111: =J32 -> 0 | K111: =K32 -> 0 | ... BR111: =BR32 -> 0
B112: =B33 -> 0 | D112: =D33 -> 0 | E112: =E33 -> 0 | F112: =F33 -> 0 | G112: =G33 -> 0 | H112: =H33 -> 0 | I112: =I33 -> 0 | J112: =J33 -> 0 | K112: =K33 -> 0 | ... BR112: =BR33 -> 0
B113: Итого на 1 чел | D113: =SUM(D108:D112) -> 0.02 | E113: =SUM(E108:E112) -> 0 | F113: =SUM(F108:F112) -> 0.012 | G113: =SUM(G108:G112) -> 0.0006 | H113: =SUM(H108:H112) -> 0 | I113: =SUM(I108:I112) -> 0 | J113: =SUM(J108:J112) -> 0.024 | K113: =SUM(K108:K112) -> 0.005 | ... BR113: =SUM(BR108:BR112) -> 0
B114: Итого к выдаче, ГРАММ (на всех) | D114: =PRODUCT(D113,$E$7) -> 0.02 | E114: =PRODUCT(E113,$E$7) -> 0 | F114: =PRODUCT(F113,$E$7) -> 0.012 | G114: =PRODUCT(G113,$E$7) -> 0.0006 | H114: =PRODUCT(H113,$E$7) -> 0 | I114: =PRODUCT(I113,$E$7) -> 0 | J114: =PRODUCT(J113,$E$7) -> 0.024 | K114: =PRODUCT(K113,$E$7) -> 0.005 | ... BR114: =PRODUCT(BR113,$E$7) -> 0
B116: ЦЕНА ЗА КИЛОГРАММ (покупная) | C116: руб | D116: =D100 -> 90.9 | E116: =E100 -> 96 | F116: =F100 -> 91 | G116: =G100 -> 816 | H116: =H100 -> 1680 | I116: =I100 -> 1050 | J116: =J100 -> 90.57 | K116: =K100 -> 1166.67 | ... AE116: =AE100 -> 842 | AH116: =AH100 -> 359 | AJ116: =AJ100 -> 309.1 | AK116: =AK100 -> 94 | AL116: =AL100 -> 73 | AM116: =AM100 -> 51.6 | AN116: =AN100 -> 250 | AO116: =AO100 -> 272 | AP116: =AP100 -> 0 | AQ116: =AQ100 -> 425 | ... BR116: =BR100 -> 0
B117: ЦЕНА ЗА ГРАММ (покупная) | C117: руб | D117: =D116/1000 -> 0.0909 | E117: =E116/1000 -> 0.096 | F117: =F116/1000 -> 0.091 | G117: =G116/1000 -> 0.816 | H117: =H116/1000 -> 1.68 | I117: =I116/1000 -> 1.05 | J117: =J116/1000 -> 0.09057 | K117: =K116/1000 -> 1.16667 | ... BR117: =BR116/1000 -> 0
B118: Израсходовано на сумму (за граммы) | D118: =D114*D116 -> 1.818 | E118: =E114*E116 -> 0 | F118: =F114*F116 -> 1.092 | G118: =G114*G116 -> 0.4896 | H118: =H114*H116 -> 0 | I118: =I114*I116 -> 0 | J118: =J114*J116 -> 2.17368 | K118: =K114*K116 -> 5.83335 | ... BR118: =BR114*BR116 -> 0 | BS118: =SUM(D118:BQ118) -> 32.70363 | BT118: =BS118/$C$10 -> 32.70363
B119: Израсходовано на сумму (за кг) | D119: =D114*D116 -> 1.818 | E119: =E114*E116 -> 0 | F119: =F114*F116 -> 1.092 | G119: =G114*G116 -> 0.4896 | H119: =H114*H116 -> 0 | I119: =I114*I116 -> 0 | J119: =J114*J116 -> 2.17368 | K119: =K114*K116 -> 5.83335 | ... BR119: =BR114*BR116 -> 0 | BS119: =SUM(D119:BQ119) -> 32.70363 | BT119: =BS119/$C$10 -> 32.70363

Sheet СВО 3-7 лет 
A1: Утверждаю
A2: Заведующий МКДОУ Ташаринский детский сад "Лесовичок" | H2: Меню - требование на выдачу продуктов питания
A3: _________________ Чугуева Т.В.
A4: подпись | H4: Учреждение МКДОУ "Ташаринский детский сад"Лесовичок"
H5: Ответственное лицо Романашенко Г.М.
B7: СВО | C7: детей в количестве | E7: 1 | F7: человек (3-7 лет) на | K7: =' 3-7 лет (день 7)'!K7 -> 46293
B8: Наименование продуктов | C8: Кол-во человек | D8: =[1]Цены!A1 -> Хлеб пшеничный | E8: =[1]Цены!B1 -> Хлеб ржано-пшеничный | F8: =[1]Цены!C1 -> Сахар | G8: =[1]Цены!D1 -> Чай | H8: =[1]Цены!E1 -> Какао | I8: =[1]Цены!F1 -> Кофейный напиток | J8: =[1]Цены!G1 -> Молоко 2,5% | K8: =[1]Цены!H1 -> Масло сливочное | ... AE8: =[1]Цены!AB1 -> Ягода свежемороженная | AF8: =' 3-7 лет (день 7)'!AF8:AF9 -> Апельсин | AG8: =' 3-7 лет (день 7)'!AG8:AG9 -> Банан | AH8: =' 3-7 лет (день 7)'!AH8:AH9 -> Лимон | AI8: =' 3-7 лет (день 7)'!AI8:AI9 -> Яблоко | AJ8: =[1]Цены!AD1 -> Кисель | AK8: =[1]Цены!AE1 -> Сок | AL8: =[1]Цены!AF1 -> Макаронные изделия | AM8: =[1]Цены!AG1 -> Мука | AN8: =[1]Цены!AH1 -> Дрожжи | AO8: =[1]Цены!AI1 -> Печенье | AP8: =[1]Цены!AJ1 -> Пряники | AQ8: =[1]Цены!AK1 -> Вафли | ... BQ8: =[1]Цены!BK1 -> Соль | BR8: Лимонная кислота | BS8: Итого расход за день | BT8: ИТОГО на 1 Чел
B9: Меню
A10: Завтрак | B10: =' 3-7 лет (день 7)'!B10 -> Каша пшеничная молочная | C10: =$E$7 -> 1 | F10: 0.005 | K10: 0.003 | M10: 0.0165 | AZ10: 0.02 | BQ10: 0.0005
B11: =' 3-7 лет (день 7)'!B11 -> Бутерброд с джемом | D11: 0.03 | Q11: 0.008
B12: =' 3-7 лет (день 7)'!B12 -> Какао с молоком | F12: 0.011 | H12: 0.0012 | J12: 0.096
A15: Второй завтрак | B15: Яблоко | C15: =E7 -> 1 | AI15: 0.114
B16: Банан
A17: Обед | B17: =' 3-7 лет (день 7)'!B17 -> Суп "Волна" | C17: =E7 -> 1 | K17: 0.003 | X17: 0.5 | BD17: 0.035 | BJ17: 0.188 | BK17: 0.017 | BL17: 0.012 | BP17: 0.002 | BQ17: 0.002
B18: =' 3-7 лет (день 7)'!B18 -> Голубцы ленивые | X18: 0.1 | BC18: 0.0042 | BE18: 0.027 | BF18: 0.021 | BL18: 0.005 | BM18: 0.055 | BP18: 0.002 | BQ18: 0.002
B19: =' 3-7 лет (день 7)'!B19 -> Соус сметанный | K19: 0.001 | L19: 0.015 | AM19: 0.001
B20: =' 3-7 лет (день 7)'!B20 -> Макароны отварные | K20: 0.005 | AL20: 0.035 | BQ20: 0.0005
B21: =' 3-7 лет (день 7)'!B21 -> Хлеб пшеничный | D21: 0.03
B22: =' 3-7 лет (день 7)'!B22 -> Хлеб ржано-пшеничный | E22: 0.05
B23: =' 3-7 лет (день 7)'!B23 -> Компот из кураги | F23: 0.012 | AA23: 0.01 | BR23: 5e-05
A24: Полдник | B24: =' 3-7 лет (день 7)'!B24 -> Напиток из шиповника | C24: =$E$7 -> 1 | F24: 0.015 | AC24: 0.012
B25: =' 3-7 лет (день 7)'!B25 -> Ватрушка с повидлом | F25: 0.002 | K25: 0.002 | X25: 0.05 | AM25: 0.04 | AN25: 0.0022857 | AS25: 0.02 | BP25: 0.001
B26: =' 3-7 лет (день 7)'!B26 -> Яблоко
A29: Ужин | B29: =' 3-7 лет (день 7)'!B29 -> Картофельное пюре | C29: =$E$7 -> 1 | J29: 0.024 | K29: 0.005 | BJ29: 0.192 | BQ29: 0.001
B30: =' 3-7 лет (день 7)'!B30 -> Огурчик свежий | W30: 0.035
B31: =' 3-7 лет (день 7)'!B31 -> Чай с лимоном | F31: 0.012 | G31: 0.0006 | AH31: 0.005
B32: =' 3-7 лет (день 7)'!B32 -> Хлеб пшеничный | D32: 0.02
B34: Итого на 1 чел | D34: =SUM(D10:D33) -> 0.08 | E34: =SUM(E10:E33) -> 0.05 | F34: =SUM(F10:F33) -> 0.057 | G34: =SUM(G10:G33) -> 0.0006 | H34: =SUM(H10:H33) -> 0.0012 | I34: =SUM(I10:I33) -> 0 | J34: =SUM(J10:J33) -> 0.12 | K34: =SUM(K10:K33) -> 0.019 | ... BR34: =SUM(BR10:BR33) -> 5e-05
B35: К выдаче, ГРАММ (на всех) | D35: =ROUND(PRODUCT(D34,$E$7),3) -> 0.08 | E35: =ROUND(PRODUCT(E34,$E$7),3) -> 0.05 | F35: =ROUND(PRODUCT(F34,$E$7),3) -> 0.057 | G35: =ROUND(PRODUCT(G34,$E$7),3) -> 0.001 | H35: =ROUND(PRODUCT(H34,$E$7),3) -> 0.001 | I35: =ROUND(PRODUCT(I34,$E$7),3) -> 0 | J35: =ROUND(PRODUCT(J34,$E$7),3) -> 0.12 | K35: =ROUND(PRODUCT(K34,$E$7),3) -> 0.019 | ... BR35: =ROUND(PRODUCT(BR34,$E$7),3) -> 0
D37: Ответственный калькулятор | H37: _________________ | K37: С.В.Залевская
D38: исполнитель | F38: должность | H38: подпись
F40: Повар | H40: ___________________ | K40: =' 3-7 лет (день 7)'!K41 -> 0
H41: подпись
B48: ЦЕНА ЗА КИЛОГРАММ (покупная) | C48: руб | D48: 90.9 | E48: 96 | F48: 91 | G48: 816 | H48: 1680 | I48: 1050 | J48: 90.57 | K48: 1166.67 | L48: 255.2 | M48: 833 | N48: 126.38 | O48: 387.53 | P48: 663.16 | Q48: 526.67 | R48: 1295 | U48: 1012 | V48: 470.67 | W48: 348 | X48: 9.4 | Y48: 266.5 | Z48: 367 | AA48: 524 | AB48: 330 | AC48: 299 | AD48: 148 | AE48: 842 | AG48: 180 | AH48: 359 | AI48: 160 | AJ48: 309.1 | AK48: 94 | AL48: 73 | AM48: 51.6 | AN48: 250 | AO48: 272 | AQ48: 425 | AR48: 800 | AS48: 294.25 | AT48: 95 | AU48: 87.33 | AV48: 73.33 | AW48: 80 | AX48: 89.29 | AY48: 63.75 | AZ48: 104.62 | BA48: 81.33 | BB48: 71.67 | BC48: 152.67 | BD48: 378 | BE48: 574 | BF48: 696 | BG48: 324 | BH48: 604 | BJ48: 38 | BK48: 38 | BL48: 33 | BM48: 43 | BN48: 43 | BO48: 306.32 | BP48: 190 | BQ48: 26
B49: ЦЕНА ЗА ГРАММ (покупная) | C49: руб | D49: =D48/1000 -> 0.0909 | E49: =E48/1000 -> 0.096 | F49: =F48/1000 -> 0.091 | G49: =G48/1000 -> 0.816 | H49: =H48/1000 -> 1.68 | I49: =I48/1000 -> 1.05 | J49: =J48/1000 -> 0.09057 | K49: =K48/1000 -> 1.16667 | ... BR49: =BR48/1000 -> 0
B50: Израсходовано на сумму (за граммы) | D50: =D35*D48 -> 7.272 | E50: =E35*E48 -> 4.8 | F50: =F35*F48 -> 5.187 | G50: =G35*G48 -> 0.816 | H50: =H35*H48 -> 1.68 | I50: =I35*I48 -> 0 | J50: =J35*J48 -> 10.8684 | K50: =K35*K48 -> 22.16673 | ... BR50: =BR35*BR48 -> 0 | BS50: =SUM(D50:BQ50) -> 198.36617 | BT50: =BS50/$C$10 -> 198.36617
B51: Израсходовано на сумму (за кг) | D51: =D35*D48 -> 7.272 | E51: =E35*E48 -> 4.8 | F51: =F35*F48 -> 5.187 | G51: =G35*G48 -> 0.816 | H51: =H35*H48 -> 1.68 | I51: =I35*I48 -> 0 | J51: =J35*J48 -> 10.8684 | K51: =K35*K48 -> 22.16673 | ... BR51: =BR35*BR48 -> 0 | BS51: =SUM(D51:BQ51) -> 198.36617 | BT51: =BS51/$C$10 -> 198.36617
B52: P/S: Итого к выдаче Яйцо- указано в шт. | D52: =D69+D87+D103+D119 -> 7.272 | E52: =E69+E87+E103+E119 -> 4.8 | F52: =F69+F87+F103+F119 -> 5.187 | G52: =G69+G87+G103+G119 -> 0.4896 | H52: =H69+H87+H103+H119 -> 2.016 | I52: =I69+I87+I103+I119 -> 0 | J52: =J69+J87+J103+J119 -> 10.8684 | K52: =K69+K87+K103+K119 -> 22.16673 | ... BR52: =BR69+BR87+BR103+BR119 -> 0 | BS52: =SUM(D52:BQ52) -> 483.91123
B53: Цена за яйцо, указана за 1 шт. | BS53: =BS52/56 -> 8.6412719 | BT53: =BT68+BT86+BT102+BT118 -> 483.91123
J55: 44 | K55: детей в количестве | S55: на 18.03.2019
B56: Наименование продуктов | C56: Кол-во человек | D56: =D8 -> Хлеб пшеничный | E56: =E8 -> Хлеб ржано-пшеничный | F56: =F8 -> Сахар | G56: =G8 -> Чай | H56: =H8 -> Какао | I56: =I8 -> Кофейный напиток | J56: =J8 -> Молоко 2,5% | K56: =K8 -> Масло сливочное | ... V56: =V8 -> Огурцы консервирован. | X56: =X8 -> Яйцо | Y56: =Y8 -> Икра кабачковая | Z56: =Z8 -> Изюм | AA56: =AA8 -> Курага | AB56: =AB8 -> Чернослив | AC56: =AC8 -> Шиповник | AD56: =AD8 -> Сухофрукты | AE56: =AE8 -> Ягода свежемороженная | ... BR56: =BR8 -> Лимонная кислота | BS56: Итого расход за день | BT56: ИТОГО на 1 Чел
B57: Меню
A58: Завтрак | B58: =B10 -> Каша пшеничная молочная | C58: =$E$7 -> 1 | D58: =D10 -> 0 | E58: =E10 -> 0 | F58: =F10 -> 0.005 | G58: =G10 -> 0 | H58: =H10 -> 0 | I58: =I10 -> 0 | J58: =J10 -> 0 | K58: =K10 -> 0.003 | ... BR58: =BR10 -> 0
B59: =B11 -> Бутерброд с джемом | D59: =D11 -> 0.03 | E59: =E11 -> 0 | F59: =F11 -> 0 | G59: =G11 -> 0 | H59: =H11 -> 0 | I59: =I11 -> 0 | J59: =J11 -> 0 | K59: =K11 -> 0 | ... BR59: =BR11 -> 0
B60: =B12 -> Какао с молоком | D60: =D12 -> 0 | E60: =E12 -> 0 | F60: =F12 -> 0.011 | G60: =G12 -> 0 | H60: =H12 -> 0.0012 | I60: =I12 -> 0 | J60: =J12 -> 0.096 | K60: =K12 -> 0 | ... BR60: =BR12 -> 0
B61: =B13 -> 0 | D61: =D13 -> 0 | E61: =E13 -> 0 | F61: =F13 -> 0 | G61: =G13 -> 0 | H61: =H13 -> 0 | I61: =I13 -> 0 | J61: =J13 -> 0 | K61: =K13 -> 0 | ... BR61: =BR13 -> 0
B62: =B14 -> 0 | D62: =D14 -> 0 | E62: =E14 -> 0 | F62: =F14 -> 0 | G62: =G14 -> 0 | H62: =H14 -> 0 | I62: =I14 -> 0 | J62: =J14 -> 0 | K62: =K14 -> 0 | ... BR62: =BR14 -> 0
B63: Итого на 1 чел | D63: =SUM(D58:D62) -> 0.03 | E63: =SUM(E58:E62) -> 0 | F63: =SUM(F58:F62) -> 0.016 | G63: =SUM(G58:G62) -> 0 | H63: =SUM(H58:H62) -> 0.0012 | I63: =SUM(I58:I62) -> 0 | J63: =SUM(J58:J62) -> 0.096 | K63: =SUM(K58:K62) -> 0.003 | ... BR63: =SUM(BR58:BR62) -> 0
B64: Итого к выдаче, ГРАММ (на всех) | D64: =PRODUCT(D63,$E$7) -> 0.03 | E64: =PRODUCT(E63,$E$7) -> 0 | F64: =PRODUCT(F63,$E$7) -> 0.016 | G64: =PRODUCT(G63,$E$7) -> 0 | H64: =PRODUCT(H63,$E$7) -> 0.0012 | I64: =PRODUCT(I63,$E$7) -> 0 | J64: =PRODUCT(J63,$E$7) -> 0.096 | K64: =PRODUCT(K63,$E$7) -> 0.003 | ... BR64: =PRODUCT(BR63,$E$7) -> 0
B66: ЦЕНА ЗА КИЛОГРАММ (покупная) | C66: руб | D66: =D48 -> 90.9 | E66: =E48 -> 96 | F66: =F48 -> 91 | G66: =G48 -> 816 | H66: =H48 -> 1680 | I66: =I48 -> 1050 | J66: =J48 -> 90.57 | K66: =K48 -> 1166.67 | ... AE66: =AE48 -> 842 | AH66: =AH48 -> 359 | AJ66: =AJ48 -> 309.1 | AK66: =AK48 -> 94 | AL66: =AL48 -> 73 | AM66: =AM48 -> 51.6 | AN66: =AN48 -> 250 | AO66: =AO48 -> 272 | AP66: =AP48 -> 0 | AQ66: =AQ48 -> 425 | ... BR66: =BR48 -> 0
B67: ЦЕНА ЗА ГРАММ (покупная) | C67: руб | D67: =D66/1000 -> 0.0909 | E67: =E66/1000 -> 0.096 | F67: =F66/1000 -> 0.091 | G67: =G66/1000 -> 0.816 | H67: =H66/1000 -> 1.68 | I67: =I66/1000 -> 1.05 | J67: =J66/1000 -> 0.09057 | K67: =K66/1000 -> 1.16667 | ... BR67: =BR66/1000 -> 0
B68: Израсходовано на сумму (за граммы) | D68: =D64*D66 -> 2.727 | E68: =E64*E66 -> 0 | F68: =F64*F66 -> 1.456 | G68: =G64*G66 -> 0 | H68: =H64*H66 -> 2.016 | I68: =I64*I66 -> 0 | J68: =J64*J66 -> 8.69472 | K68: =K64*K66 -> 3.50001 | ... BR68: =BR64*BR66 -> 0 | BS68: =SUM(D68:BQ68) -> 38.45699 | BT68: =BS68/$C$10 -> 38.45699
B69: Израсходовано на сумму (за кг) | D69: =D64*D66 -> 2.727 | E69: =E64*E66 -> 0 | F69: =F64*F66 -> 1.456 | G69: =G64*G66 -> 0 | H69: =H64*H66 -> 2.016 | I69: =I64*I66 -> 0 | J69: =J64*J66 -> 8.69472 | K69: =K64*K66 -> 3.50001 | ... BR69: =BR64*BR66 -> 0 | BS69: =SUM(D69:BQ69) -> 38.45699 | BT69: =BS69/$C$10 -> 38.45699
J71: 44 | K71: детей в количестве | S71: на 18.03.2019
B72: Наименование продуктов | C72: Кол-во человек | D72: =D56 -> Хлеб пшеничный | E72: =E56 -> Хлеб ржано-пшеничный | F72: =F56 -> Сахар | G72: =G56 -> Чай | H72: =H56 -> Какао | I72: =I56 -> Кофейный напиток | J72: =J56 -> Молоко 2,5% | K72: =K56 -> Масло сливочное | ... V72: =V56 -> Огурцы консервирован. | X72: =X56 -> Яйцо | Y72: =Y56 -> Икра кабачковая | Z72: =Z56 -> Изюм | AA72: =AA56 -> Курага | AB72: =AB56 -> Чернослив | AC72: =AC56 -> Шиповник | AD72: =AD56 -> Сухофрукты | AE72: =AE56 -> Ягода свежемороженная | ... BR72: =BR56 -> Лимонная кислота | BS72: Итого расход за день | BT72: ИТОГО на 1 Чел
B73: Меню
B74: =B17 -> Суп "Волна" | D74: =D17 -> 0 | E74: =E17 -> 0 | F74: =F17 -> 0 | G74: =G17 -> 0 | H74: =H17 -> 0 | I74: =I17 -> 0 | J74: =J17 -> 0 | K74: =K17 -> 0.003 | ... BR74: =BR17 -> 0
B75: =B18 -> Голубцы ленивые | D75: =D18 -> 0 | E75: =E18 -> 0 | F75: =F18 -> 0 | G75: =G18 -> 0 | H75: =H18 -> 0 | I75: =I18 -> 0 | J75: =J18 -> 0 | K75: =K18 -> 0 | ... BR75: =BR18 -> 0
B76: =B19 -> Соус сметанный | D76: =D19 -> 0 | E76: =E19 -> 0 | F76: =F19 -> 0 | G76: =G19 -> 0 | H76: =H19 -> 0 | I76: =I19 -> 0 | J76: =J19 -> 0 | K76: =K19 -> 0.001 | ... BR76: =BR19 -> 0
B77: =B20 -> Макароны отварные | D77: =D20 -> 0 | E77: =E20 -> 0 | F77: =F20 -> 0 | G77: =G20 -> 0 | H77: =H20 -> 0 | I77: =I20 -> 0 | J77: =J20 -> 0 | K77: =K20 -> 0.005 | ... BR77: =BR20 -> 0
B78: =B21 -> Хлеб пшеничный | D78: =D21 -> 0.03 | E78: =E21 -> 0 | F78: =F21 -> 0 | G78: =G21 -> 0 | H78: =H21 -> 0 | I78: =I21 -> 0 | J78: =J21 -> 0 | K78: =K21 -> 0 | ... BR78: =BR21 -> 0
B79: =B22 -> Хлеб ржано-пшеничный | D79: =D22 -> 0 | E79: =E22 -> 0.05 | F79: =F22 -> 0 | G79: =G22 -> 0 | H79: =H22 -> 0 | I79: =I22 -> 0 | J79: =J22 -> 0 | K79: =K22 -> 0 | ... BR79: =BR22 -> 0
B80: =B23 -> Компот из кураги | D80: =D23 -> 0 | E80: =E23 -> 0 | F80: =F23 -> 0.012 | G80: =G23 -> 0 | H80: =H23 -> 0 | I80: =I23 -> 0 | J80: =J23 -> 0 | K80: =K23 -> 0 | ... BR80: =BR23 -> 5e-05
B81: Итого на 1 чел | D81: =SUM(D74:D80) -> 0.03 | E81: =SUM(E74:E80) -> 0.05 | F81: =SUM(F74:F80) -> 0.012 | G81: =SUM(G74:G80) -> 0 | H81: =SUM(H74:H80) -> 0 | I81: =SUM(I74:I80) -> 0 | J81: =SUM(J74:J80) -> 0 | K81: =SUM(K74:K80) -> 0.009 | ... BR81: =SUM(BR74:BR80) -> 5e-05
B82: Итого к выдаче, ГРАММ (на всех) | D82: =PRODUCT(D81,$E$7) -> 0.03 | E82: =PRODUCT(E81,$E$7) -> 0.05 | F82: =PRODUCT(F81,$E$7) -> 0.012 | G82: =PRODUCT(G81,$E$7) -> 0 | H82: =PRODUCT(H81,$E$7) -> 0 | I82: =PRODUCT(I81,$E$7) -> 0 | J82: =PRODUCT(J81,$E$7) -> 0 | K82: =PRODUCT(K81,$E$7) -> 0.009 | ... W82: =PRODUCT(W81,$E$7) -> 0 | X82: 30 | Y82: =PRODUCT(Y81,$E$7) -> 0 | Z82: =PRODUCT(Z81,$E$7) -> 0 | AA82: =PRODUCT(AA81,$E$7) -> 0.01 | AB82: =PRODUCT(AB81,$E$7) -> 0 | AC82: =PRODUCT(AC81,$E$7) -> 0 | AD82: =PRODUCT(AD81,$E$7) -> 0 | AE82: =PRODUCT(AE81,$E$7) -> 0 | AF82: =PRODUCT(AF81,$E$7) -> 0 | ... BR82: =PRODUCT(BR81,$E$7) -> 5e-05
B84: ЦЕНА ЗА КИЛОГРАММ (покупная) | C84: руб | D84: =D66 -> 90.9 | E84: =E66 -> 96 | F84: =F66 -> 91 | G84: =G66 -> 816 | H84: =H66 -> 1680 | I84: =I66 -> 1050 | J84: =J66 -> 90.57 | K84: =K66 -> 1166.67 | ... AE84: =AE66 -> 842 | AH84: =AH66 -> 359 | AJ84: =AJ66 -> 309.1 | AK84: =AK66 -> 94 | AL84: =AL66 -> 73 | AM84: =AM66 -> 51.6 | AN84: =AN66 -> 250 | AO84: =AO66 -> 272 | AP84: =AP66 -> 0 | AQ84: =AQ66 -> 425 | ... BR84: =BR66 -> 0
B85: ЦЕНА ЗА ГРАММ (покупная) | C85: руб | D85: =D84/1000 -> 0.0909 | E85: =E84/1000 -> 0.096 | F85: =F84/1000 -> 0.091 | G85: =G84/1000 -> 0.816 | H85: =H84/1000 -> 1.68 | I85: =I84/1000 -> 1.05 | J85: =J84/1000 -> 0.09057 | K85: =K84/1000 -> 1.16667 | ... BR85: =BR84/1000 -> 0
B86: Израсходовано на сумму (за граммы) | D86: =D82*D84 -> 2.727 | E86: =E82*E84 -> 4.8 | F86: =F82*F84 -> 1.092 | G86: =G82*G84 -> 0 | H86: =H82*H84 -> 0 | I86: =I82*I84 -> 0 | J86: =J82*J84 -> 0 | K86: =K82*K84 -> 10.50003 | ... BR86: =BR82*BR84 -> 0 | BS86: =SUM(D86:BQ86) -> 368.37184 | BT86: =BS86/$C$10 -> 368.37184
B87: Израсходовано на сумму (за кг) | D87: =D82*D84 -> 2.727 | E87: =E82*E84 -> 4.8 | F87: =F82*F84 -> 1.092 | G87: =G82*G84 -> 0 | H87: =H82*H84 -> 0 | I87: =I82*I84 -> 0 | J87: =J82*J84 -> 0 | K87: =K82*K84 -> 10.50003 | ... BR87: =BR82*BR84 -> 0 | BS87: =SUM(D87:BQ87) -> 368.37184 | BT87: =BS87/$C$10 -> 368.37184
J89: 44 | K89: детей в количестве | S89: на 18.03.2019
B90: Наименование продуктов | C90: Кол-во человек | D90: =D72 -> Хлеб пшеничный | E90: =E72 -> Хлеб ржано-пшеничный | F90: =F72 -> Сахар | G90: =G72 -> Чай | H90: =H72 -> Какао | I90: =I72 -> Кофейный напиток | J90: =J72 -> Молоко 2,5% | K90: =K72 -> Масло сливочное | ... V90: =V72 -> Огурцы консервирован. | X90: =X72 -> Яйцо | Y90: =Y72 -> Икра кабачковая | Z90: =Z72 -> Изюм | AA90: =AA72 -> Курага | AB90: =AB72 -> Чернослив | AC90: =AC72 -> Шиповник | AD90: =AD72 -> Сухофрукты | AE90: =AE72 -> Ягода свежемороженная | ... BR90: =BR72 -> Лимонная кислота | BS90: Итого расход за день | BT90: ИТОГО на 1 Чел
B91: Меню
A92: Полдник | B92: =B24 -> Напиток из шиповника | C92: =$E$7 -> 1 | D92: =D24 -> 0 | E92: =E24 -> 0 | F92: =F24 -> 0.015 | G92: =G24 -> 0 | H92: =H24 -> 0 | I92: =I24 -> 0 | J92: =J24 -> 0 | K92: =K24 -> 0 | ... BR92: =BR24 -> 0
B93: =B25 -> Ватрушка с повидлом | D93: =D25 -> 0 | E93: =E25 -> 0 | F93: =F25 -> 0.002 | G93: =G25 -> 0 | H93: =H25 -> 0 | I93: =I25 -> 0 | J93: =J25 -> 0 | K93: =K25 -> 0.002 | ... BR93: =BR25 -> 0
B94: =B26 -> Яблоко | D94: =D26 -> 0 | E94: =E26 -> 0 | F94: =F26 -> 0 | G94: =G26 -> 0 | H94: =H26 -> 0 | I94: =I26 -> 0 | J94: =J26 -> 0 | K94: =K26 -> 0 | ... BR94: =BR26 -> 0
B95: =B27 -> 0 | D95: =D27 -> 0 | E95: =E27 -> 0 | F95: =F27 -> 0 | G95: =G27 -> 0 | H95: =H27 -> 0 | I95: =I27 -> 0 | J95: =J27 -> 0 | K95: =K27 -> 0 | ... BR95: =BR27 -> 0
B96: =B28 -> 0 | D96: =D28 -> 0 | E96: =E28 -> 0 | F96: =F28 -> 0 | G96: =G28 -> 0 | H96: =H28 -> 0 | I96: =I28 -> 0 | J96: =J28 -> 0 | K96: =K28 -> 0 | ... BR96: =BR28 -> 0
B97: Итого на 1 чел | D97: =SUM(D92:D96) -> 0 | E97: =SUM(E92:E96) -> 0 | F97: =SUM(F92:F96) -> 0.017 | G97: =SUM(G92:G96) -> 0 | H97: =SUM(H92:H96) -> 0 | I97: =SUM(I92:I96) -> 0 | J97: =SUM(J92:J96) -> 0 | K97: =SUM(K92:K96) -> 0.002 | ... BR97: =SUM(BR92:BR96) -> 0
B98: Итого к выдаче, ГРАММ (на всех) | D98: =PRODUCT(D97,$E$7) -> 0 | E98: =PRODUCT(E97,$E$7) -> 0 | F98: =PRODUCT(F97,$E$7) -> 0.017 | G98: =PRODUCT(G97,$E$7) -> 0 | H98: =PRODUCT(H97,$E$7) -> 0 | I98: =PRODUCT(I97,$E$7) -> 0 | J98: =PRODUCT(J97,$E$7) -> 0 | K98: =PRODUCT(K97,$E$7) -> 0.002 | ... W98: =PRODUCT(W97,$E$7) -> 0 | X98: 3 | Y98: =PRODUCT(Y97,$E$7) -> 0 | Z98: =PRODUCT(Z97,$E$7) -> 0 | AA98: =PRODUCT(AA97,$E$7) -> 0 | AB98: =PRODUCT(AB97,$E$7) -> 0 | AC98: =PRODUCT(AC97,$E$7) -> 0.012 | AD98: =PRODUCT(AD97,$E$7) -> 0 | AE98: =PRODUCT(AE97,$E$7) -> 0 | AF98: =PRODUCT(AF97,$E$7) -> 0 | ... BR98: =PRODUCT(BR97,$E$7) -> 0
B100: ЦЕНА ЗА КИЛОГРАММ (покупная) | C100: руб | D100: =D84 -> 90.9 | E100: =E84 -> 96 | F100: =F84 -> 91 | G100: =G84 -> 816 | H100: =H84 -> 1680 | I100: =I84 -> 1050 | J100: =J84 -> 90.57 | K100: =K84 -> 1166.67 | ... AE100: =AE84 -> 842 | AH100: =AH84 -> 359 | AJ100: =AJ84 -> 309.1 | AK100: =AK84 -> 94 | AL100: =AL84 -> 73 | AM100: =AM84 -> 51.6 | AN100: =AN84 -> 250 | AO100: =AO84 -> 272 | AP100: =AP84 -> 0 | AQ100: =AQ84 -> 425 | ... BR100: =BR84 -> 0
B101: ЦЕНА ЗА ГРАММ (покупная) | C101: руб | D101: =D100/1000 -> 0.0909 | E101: =E100/1000 -> 0.096 | F101: =F100/1000 -> 0.091 | G101: =G100/1000 -> 0.816 | H101: =H100/1000 -> 1.68 | I101: =I100/1000 -> 1.05 | J101: =J100/1000 -> 0.09057 | K101: =K100/1000 -> 1.16667 | ... BR101: =BR100/1000 -> 0
B102: Израсходовано на сумму (за граммы) | D102: =D98*D100 -> 0 | E102: =E98*E100 -> 0 | F102: =F98*F100 -> 1.547 | G102: =G98*G100 -> 0 | H102: =H98*H100 -> 0 | I102: =I98*I100 -> 0 | J102: =J98*J100 -> 0 | K102: =K98*K100 -> 2.33334 | ... BR102: =BR98*BR100 -> 0 | BS102: =SUM(D102:BQ102) -> 44.378765 | BT102: =BS102/$C$10 -> 44.378765
B103: Израсходовано на сумму (за кг) | D103: =D98*D100 -> 0 | E103: =E98*E100 -> 0 | F103: =F98*F100 -> 1.547 | G103: =G98*G100 -> 0 | H103: =H98*H100 -> 0 | I103: =I98*I100 -> 0 | J103: =J98*J100 -> 0 | K103: =K98*K100 -> 2.33334 | ... BR103: =BR98*BR100 -> 0 | BS103: =SUM(D103:BQ103) -> 44.378765 | BT103: =BS103/$C$10 -> 44.378765
J105: 44 | K105: детей в количестве | S105: на 18.03.2019
B106: Наименование продуктов | C106: Кол-во человек | D106: =D90 -> Хлеб пшеничный | E106: =E90 -> Хлеб ржано-пшеничный | F106: =F90 -> Сахар | G106: =G90 -> Чай | H106: =H90 -> Какао | I106: =I90 -> Кофейный напиток | J106: =J90 -> Молоко 2,5% | K106: =K90 -> Масло сливочное | ... V106: =V90 -> Огурцы консервирован. | X106: =X90 -> Яйцо | Y106: =Y90 -> Икра кабачковая | Z106: =Z90 -> Изюм | AA106: =AA90 -> Курага | AB106: =AB90 -> Чернослив | AC106: =AC90 -> Шиповник | AD106: =AD90 -> Сухофрукты | AE106: =AE90 -> Ягода свежемороженная | ... BR106: =BR90 -> Лимонная кислота | BS106: Итого расход за день | BT106: ИТОГО на 1 Чел
B107: Меню
A108: Ужин | B108: =B29 -> Картофельное пюре | C108: =$E$7 -> 1 | D108: =D29 -> 0 | E108: =E29 -> 0 | F108: =F29 -> 0 | G108: =G29 -> 0 | H108: =H29 -> 0 | I108: =I29 -> 0 | J108: =J29 -> 0.024 | K108: =K29 -> 0.005 | ... BR108: =BR29 -> 0
B109: =B30 -> Огурчик свежий | D109: =D30 -> 0 | E109: =E30 -> 0 | F109: =F30 -> 0 | G109: =G30 -> 0 | H109: =H30 -> 0 | I109: =I30 -> 0 | J109: =J30 -> 0 | K109: =K30 -> 0 | ... BR109: =BR30 -> 0
B110: =B31 -> Чай с лимоном | D110: =D31 -> 0 | E110: =E31 -> 0 | F110: =F31 -> 0.012 | G110: =G31 -> 0.0006 | H110: =H31 -> 0 | I110: =I31 -> 0 | J110: =J31 -> 0 | K110: =K31 -> 0 | ... BR110: =BR31 -> 0
B111: =B32 -> Хлеб пшеничный | D111: =D32 -> 0.02 | E111: =E32 -> 0 | F111: =F32 -> 0 | G111: =G32 -> 0 | H111: =H32 -> 0 | I111: =I32 -> 0 | J111: =J32 -> 0 | K111: =K32 -> 0 | ... BR111: =BR32 -> 0
B112: =B33 -> 0 | D112: =D33 -> 0 | E112: =E33 -> 0 | F112: =F33 -> 0 | G112: =G33 -> 0 | H112: =H33 -> 0 | I112: =I33 -> 0 | J112: =J33 -> 0 | K112: =K33 -> 0 | ... BR112: =BR33 -> 0
B113: Итого на 1 чел | D113: =SUM(D108:D112) -> 0.02 | E113: =SUM(E108:E112) -> 0 | F113: =SUM(F108:F112) -> 0.012 | G113: =SUM(G108:G112) -> 0.0006 | H113: =SUM(H108:H112) -> 0 | I113: =SUM(I108:I112) -> 0 | J113: =SUM(J108:J112) -> 0.024 | K113: =SUM(K108:K112) -> 0.005 | ... BR113: =SUM(BR108:BR112) -> 0
B114: Итого к выдаче, ГРАММ (на всех) | D114: =PRODUCT(D113,$E$7) -> 0.02 | E114: =PRODUCT(E113,$E$7) -> 0 | F114: =PRODUCT(F113,$E$7) -> 0.012 | G114: =PRODUCT(G113,$E$7) -> 0.0006 | H114: =PRODUCT(H113,$E$7) -> 0 | I114: =PRODUCT(I113,$E$7) -> 0 | J114: =PRODUCT(J113,$E$7) -> 0.024 | K114: =PRODUCT(K113,$E$7) -> 0.005 | ... BR114: =PRODUCT(BR113,$E$7) -> 0
B116: ЦЕНА ЗА КИЛОГРАММ (покупная) | C116: руб | D116: =D100 -> 90.9 | E116: =E100 -> 96 | F116: =F100 -> 91 | G116: =G100 -> 816 | H116: =H100 -> 1680 | I116: =I100 -> 1050 | J116: =J100 -> 90.57 | K116: =K100 -> 1166.67 | ... AE116: =AE100 -> 842 | AH116: =AH100 -> 359 | AJ116: =AJ100 -> 309.1 | AK116: =AK100 -> 94 | AL116: =AL100 -> 73 | AM116: =AM100 -> 51.6 | AN116: =AN100 -> 250 | AO116: =AO100 -> 272 | AP116: =AP100 -> 0 | AQ116: =AQ100 -> 425 | ... BR116: =BR100 -> 0
B117: ЦЕНА ЗА ГРАММ (покупная) | C117: руб | D117: =D116/1000 -> 0.0909 | E117: =E116/1000 -> 0.096 | F117: =F116/1000 -> 0.091 | G117: =G116/1000 -> 0.816 | H117: =H116/1000 -> 1.68 | I117: =I116/1000 -> 1.05 | J117: =J116/1000 -> 0.09057 | K117: =K116/1000 -> 1.16667 | ... BR117: =BR116/1000 -> 0
B118: Израсходовано на сумму (за граммы) | D118: =D114*D116 -> 1.818 | E118: =E114*E116 -> 0 | F118: =F114*F116 -> 1.092 | G118: =G114*G116 -> 0.4896 | H118: =H114*H116 -> 0 | I118: =I114*I116 -> 0 | J118: =J114*J116 -> 2.17368 | K118: =K114*K116 -> 5.83335 | ... BR118: =BR114*BR116 -> 0 | BS118: =SUM(D118:BQ118) -> 32.70363 | BT118: =BS118/$C$10 -> 32.70363
B119: Израсходовано на сумму (за кг) | D119: =D114*D116 -> 1.818 | E119: =E114*E116 -> 0 | F119: =F114*F116 -> 1.092 | G119: =G114*G116 -> 0.4896 | H119: =H114*H116 -> 0 | I119: =I114*I116 -> 0 | J119: =J114*J116 -> 2.17368 | K119: =K114*K116 -> 5.83335 | ... BR119: =BR114*BR116 -> 0 | BS119: =SUM(D119:BQ119) -> 32.70363 | BT119: =BS119/$C$10 -> 32.70363

Sheet  3-7 лет (день 7)
A1: Утверждаю
A2: Заведующий МКДОУ Ташаринский детский сад "Лесовичок" | H2: Меню - требование на выдачу продуктов питания
A3: _________________ Чугуева Т.В.
A4: подпись | H4: Учреждение МКДОУ "Ташаринский детский сад"Лесовичок"
H5: Ответственное лицо Романашенко Г.М.
C7: детей в количестве | E7: 1 | F7: человек (3-7 лет) на | K7: 46293
B8: Наименование продуктов | C8: Кол-во человек | D8: =[1]Цены!A1 -> Хлеб пшеничный | E8: =[1]Цены!B1 -> Хлеб ржано-пшеничный | F8: =[1]Цены!C1 -> Сахар | G8: =[1]Цены!D1 -> Чай | H8: =[1]Цены!E1 -> Какао | I8: =[1]Цены!F1 -> Кофейный напиток | J8: =[1]Цены!G1 -> Молоко 2,5% | K8: =[1]Цены!H1 -> Масло сливочное | ... AE8: =[1]Цены!AB1 -> Ягода свежемороженная | AF8: Апельсин | AG8: Банан | AH8: =[1]Цены!AC1 -> Лимон | AI8: Яблоко | AJ8: =[1]Цены!AD1 -> Кисель | AK8: =[1]Цены!AE1 -> Сок | AL8: =[1]Цены!AF1 -> Макаронные изделия | AM8: =[1]Цены!AG1 -> Мука | AN8: =[1]Цены!AH1 -> Дрожжи | AO8: =[1]Цены!AI1 -> Печенье | AP8: =[1]Цены!AJ1 -> Пряники | AQ8: =[1]Цены!AK1 -> Вафли | ... BQ8: =[1]Цены!BK1 -> Соль | BR8: Лимонная кислота | BS8: Итого расход за день | BT8: ИТОГО на 1 Чел
B9: Меню
A10: Завтрак | B10: Каша пшеничная молочная | C10: =$E$7 -> 1 | F10: 0.005 | K10: 0.003 | M10: 0.0165 | AZ10: 0.02 | BQ10: 0.0005
B11: Бутерброд с джемом | D11: 0.03 | Q11: 0.008
B12: Какао с молоком | F12: 0.011 | H12: 0.0012 | J12: 0.096
A15: Второй завтрак | B15: Яблоко | C15: =E7 -> 1 | AI15: 0.114
B16: Банан
A17: Обед | B17: Суп "Волна" | C17: =E7 -> 1 | K17: 0.003 | X17: 0.5 | BD17: 0.035 | BJ17: 0.188 | BK17: 0.017 | BL17: 0.012 | BP17: 0.002 | BQ17: 0.002
B18: Голубцы ленивые | X18: 0.1 | BC18: 0.0042 | BE18: 0.027 | BF18: 0.021 | BL18: 0.005 | BM18: 0.055 | BP18: 0.002 | BQ18: 0.002
B19: Соус сметанный | K19: 0.001 | L19: 0.015 | AM19: 0.001
B20: Макароны отварные | K20: 0.005 | AL20: 0.035 | BQ20: 0.0005
B21: Хлеб пшеничный | D21: 0.03
B22: Хлеб ржано-пшеничный | E22: 0.05
B23: Компот из кураги | F23: 0.012 | AA23: 0.01 | BR23: 5e-05
A24: Полдник | B24: Напиток из шиповника | C24: =$E$7 -> 1 | F24: 0.015 | AC24: 0.012
B25: Ватрушка с повидлом | F25: 0.002 | K25: 0.002 | X25: 0.05 | AM25: 0.04 | AN25: 0.0022857 | AS25: 0.02 | BP25: 0.001
B26: Яблоко
A29: Ужин | B29: Картофельное пюре | C29: =$E$7 -> 1 | J29: 0.024 | K29: 0.005 | BJ29: 0.192 | BQ29: 0.001
B30: Огурчик свежий | W30: 0.035
B31: Чай с лимоном | F31: 0.012 | G31: 0.0006 | AH31: 0.005
B32: Хлеб пшеничный | D32: 0.02
B34: Итого на 1 чел | D34: =SUM(D10:D33) -> 0.08 | E34: =SUM(E10:E33) -> 0.05 | F34: =SUM(F10:F33) -> 0.057 | G34: =SUM(G10:G33) -> 0.0006 | H34: =SUM(H10:H33) -> 0.0012 | I34: =SUM(I10:I33) -> 0 | J34: =SUM(J10:J33) -> 0.12 | K34: =SUM(K10:K33) -> 0.019 | ... BR34: =SUM(BR10:BR33) -> 5e-05
B35: К выдаче, ГРАММ (на всех) | D35: =ROUND(PRODUCT(D34,$E$7),3) -> 0.08 | E35: =ROUND(PRODUCT(E34,$E$7),3) -> 0.05 | F35: =ROUND(PRODUCT(F34,$E$7),3) -> 0.057 | G35: =ROUND(PRODUCT(G34,$E$7),3) -> 0.001 | H35: =ROUND(PRODUCT(H34,$E$7),3) -> 0.001 | I35: =ROUND(PRODUCT(I34,$E$7),3) -> 0 | J35: =ROUND(PRODUCT(J34,$E$7),3) -> 0.12 | K35: =ROUND(PRODUCT(K34,$E$7),3) -> 0.019 | ... BR35: =ROUND(PRODUCT(BR34,$E$7),3) -> 0
D36: =D35+' 1,5-2 года (день 7)'!D35+'СВО 3-7 лет '!D35+'ОВЗ 3-7 лет '!D35 -> 0.3 | E36: =E35+' 1,5-2 года (день 7)'!E35+'СВО 3-7 лет '!E35+'ОВЗ 3-7 лет '!E35 -> 0.19 | F36: =F35+' 1,5-2 года (день 7)'!F35+'СВО 3-7 лет '!F35+'ОВЗ 3-7 лет '!F35 -> 0.215 | G36: =G35+' 1,5-2 года (день 7)'!G35+'СВО 3-7 лет '!G35+'ОВЗ 3-7 лет '!G35 -> 0.004 | H36: =H35+' 1,5-2 года (день 7)'!H35+'СВО 3-7 лет '!H35+'ОВЗ 3-7 лет '!H35 -> 0.004 | I36: =I35+' 1,5-2 года (день 7)'!I35+'СВО 3-7 лет '!I35+'ОВЗ 3-7 лет '!I35 -> 0 | J36: =J35+' 1,5-2 года (день 7)'!J35+'СВО 3-7 лет '!J35+'ОВЗ 3-7 лет '!J35 -> 0.461 | K36: =K35+' 1,5-2 года (день 7)'!K35+'СВО 3-7 лет '!K35+'ОВЗ 3-7 лет '!K35 -> 0.072 | ... BR36: =BR35+' 1,5-2 года (день 7)'!BR35+'СВО 3-7 лет '!BR35+'ОВЗ 3-7 лет '!BR35 -> 0
D38: Ответственный калькулятор | H38: _________________ | K38: С.В.Залевская
D39: исполнитель | F39: должность | H39: подпись
F41: Повар | H41: ___________________
H42: подпись
B49: ЦЕНА ЗА КИЛОГРАММ (покупная) | C49: руб | D49: 90.9 | E49: 96 | F49: 91 | G49: 816 | H49: 1680 | I49: 1050 | J49: 90.57 | K49: 1166.67 | L49: 255.2 | M49: 833 | N49: 126.38 | O49: 387.53 | P49: 663.16 | Q49: 526.67 | R49: 1295 | U49: 1012 | V49: 470.67 | W49: 348 | X49: 9.4 | Y49: 266.5 | Z49: 367 | AA49: 524 | AB49: 330 | AC49: 299 | AD49: 148 | AE49: 842 | AG49: 180 | AH49: 359 | AI49: 160 | AJ49: 309.1 | AK49: 94 | AL49: 73 | AM49: 51.6 | AN49: 250 | AO49: 272 | AQ49: 425 | AR49: 800 | AS49: 294.25 | AT49: 95 | AU49: 87.33 | AV49: 73.33 | AW49: 80 | AX49: 89.29 | AY49: 63.75 | AZ49: 104.62 | BA49: 81.33 | BB49: 71.67 | BC49: 152.67 | BD49: 378 | BE49: 574 | BF49: 696 | BG49: 324 | BH49: 604 | BJ49: 38 | BK49: 38 | BL49: 33 | BM49: 43 | BN49: 43 | BO49: 306.32 | BP49: 190 | BQ49: 26
B50: ЦЕНА ЗА ГРАММ (покупная) | C50: руб | D50: =D49/1000 -> 0.0909 | E50: =E49/1000 -> 0.096 | F50: =F49/1000 -> 0.091 | G50: =G49/1000 -> 0.816 | H50: =H49/1000 -> 1.68 | I50: =I49/1000 -> 1.05 | J50: =J49/1000 -> 0.09057 | K50: =K49/1000 -> 1.16667 | ... BR50: =BR49/1000 -> 0
B51: Израсходовано на сумму (за граммы) | D51: =D35*D49 -> 7.272 | E51: =E35*E49 -> 4.8 | F51: =F35*F49 -> 5.187 | G51: =G35*G49 -> 0.816 | H51: =H35*H49 -> 1.68 | I51: =I35*I49 -> 0 | J51: =J35*J49 -> 10.8684 | K51: =K35*K49 -> 22.16673 | ... BR51: =BR35*BR49 -> 0 | BS51: =SUM(D51:BQ51) -> 198.36617 | BT51: =BS51/$C$10 -> 198.36617
B52: Израсходовано на сумму (за кг) | D52: =D35*D49 -> 7.272 | E52: =E35*E49 -> 4.8 | F52: =F35*F49 -> 5.187 | G52: =G35*G49 -> 0.816 | H52: =H35*H49 -> 1.68 | I52: =I35*I49 -> 0 | J52: =J35*J49 -> 10.8684 | K52: =K35*K49 -> 22.16673 | ... BR52: =BR35*BR49 -> 0 | BS52: =SUM(D52:BQ52) -> 198.36617 | BT52: =BS52/$C$10 -> 198.36617
B53: P/S: Итого к выдаче Яйцо- указано в шт. | D53: =D70+D88+D104+D120 -> 7.272 | E53: =E70+E88+E104+E120 -> 4.8 | F53: =F70+F88+F104+F120 -> 5.187 | G53: =G70+G88+G104+G120 -> 0.4896 | H53: =H70+H88+H104+H120 -> 2.016 | I53: =I70+I88+I104+I120 -> 0 | J53: =J70+J88+J104+J120 -> 10.8684 | K53: =K70+K88+K104+K120 -> 22.16673 | ... BR53: =BR70+BR88+BR104+BR120 -> 0 | BS53: =SUM(D53:BQ53) -> 483.91123
B54: Цена за яйцо, указана за 1 шт. | BS54: =BS53/56 -> 8.6412719 | BT54: =BT69+BT87+BT103+BT119 -> 483.91123
J56: 44 | K56: детей в количестве | S56: на 18.03.2019
B57: Наименование продуктов | C57: Кол-во человек | D57: =D8 -> Хлеб пшеничный | E57: =E8 -> Хлеб ржано-пшеничный | F57: =F8 -> Сахар | G57: =G8 -> Чай | H57: =H8 -> Какао | I57: =I8 -> Кофейный напиток | J57: =J8 -> Молоко 2,5% | K57: =K8 -> Масло сливочное | ... V57: =V8 -> Огурцы консервирован. | X57: =X8 -> Яйцо | Y57: =Y8 -> Икра кабачковая | Z57: =Z8 -> Изюм | AA57: =AA8 -> Курага | AB57: =AB8 -> Чернослив | AC57: =AC8 -> Шиповник | AD57: =AD8 -> Сухофрукты | AE57: =AE8 -> Ягода свежемороженная | ... BR57: =BR8 -> Лимонная кислота | BS57: Итого расход за день | BT57: ИТОГО на 1 Чел
B58: Меню
A59: Завтрак | B59: =B10 -> Каша пшеничная молочная | C59: =$E$7 -> 1 | D59: =D10 -> 0 | E59: =E10 -> 0 | F59: =F10 -> 0.005 | G59: =G10 -> 0 | H59: =H10 -> 0 | I59: =I10 -> 0 | J59: =J10 -> 0 | K59: =K10 -> 0.003 | ... BR59: =BR10 -> 0
B60: =B11 -> Бутерброд с джемом | D60: =D11 -> 0.03 | E60: =E11 -> 0 | F60: =F11 -> 0 | G60: =G11 -> 0 | H60: =H11 -> 0 | I60: =I11 -> 0 | J60: =J11 -> 0 | K60: =K11 -> 0 | ... BR60: =BR11 -> 0
B61: =B12 -> Какао с молоком | D61: =D12 -> 0 | E61: =E12 -> 0 | F61: =F12 -> 0.011 | G61: =G12 -> 0 | H61: =H12 -> 0.0012 | I61: =I12 -> 0 | J61: =J12 -> 0.096 | K61: =K12 -> 0 | ... BR61: =BR12 -> 0
B62: =B13 -> 0 | D62: =D13 -> 0 | E62: =E13 -> 0 | F62: =F13 -> 0 | G62: =G13 -> 0 | H62: =H13 -> 0 | I62: =I13 -> 0 | J62: =J13 -> 0 | K62: =K13 -> 0 | ... BR62: =BR13 -> 0
B63: =B14 -> 0 | D63: =D14 -> 0 | E63: =E14 -> 0 | F63: =F14 -> 0 | G63: =G14 -> 0 | H63: =H14 -> 0 | I63: =I14 -> 0 | J63: =J14 -> 0 | K63: =K14 -> 0 | ... BR63: =BR14 -> 0
B64: Итого на 1 чел | D64: =SUM(D59:D63) -> 0.03 | E64: =SUM(E59:E63) -> 0 | F64: =SUM(F59:F63) -> 0.016 | G64: =SUM(G59:G63) -> 0 | H64: =SUM(H59:H63) -> 0.0012 | I64: =SUM(I59:I63) -> 0 | J64: =SUM(J59:J63) -> 0.096 | K64: =SUM(K59:K63) -> 0.003 | ... BR64: =SUM(BR59:BR63) -> 0
B65: Итого к выдаче, ГРАММ (на всех) | D65: =PRODUCT(D64,$E$7) -> 0.03 | E65: =PRODUCT(E64,$E$7) -> 0 | F65: =PRODUCT(F64,$E$7) -> 0.016 | G65: =PRODUCT(G64,$E$7) -> 0 | H65: =PRODUCT(H64,$E$7) -> 0.0012 | I65: =PRODUCT(I64,$E$7) -> 0 | J65: =PRODUCT(J64,$E$7) -> 0.096 | K65: =PRODUCT(K64,$E$7) -> 0.003 | ... BR65: =PRODUCT(BR64,$E$7) -> 0
B67: ЦЕНА ЗА КИЛОГРАММ (покупная) | C67: руб | D67: =D49 -> 90.9 | E67: =E49 -> 96 | F67: =F49 -> 91 | G67: =G49 -> 816 | H67: =H49 -> 1680 | I67: =I49 -> 1050 | J67: =J49 -> 90.57 | K67: =K49 -> 1166.67 | ... AE67: =AE49 -> 842 | AH67: =AH49 -> 359 | AJ67: =AJ49 -> 309.1 | AK67: =AK49 -> 94 | AL67: =AL49 -> 73 | AM67: =AM49 -> 51.6 | AN67: =AN49 -> 250 | AO67: =AO49 -> 272 | AP67: =AP49 -> 0 | AQ67: =AQ49 -> 425 | ... BR67: =BR49 -> 0
B68: ЦЕНА ЗА ГРАММ (покупная) | C68: руб | D68: =D67/1000 -> 0.0909 | E68: =E67/1000 -> 0.096 | F68: =F67/1000 -> 0.091 | G68: =G67/1000 -> 0.816 | H68: =H67/1000 -> 1.68 | I68: =I67/1000 -> 1.05 | J68: =J67/1000 -> 0.09057 | K68: =K67/1000 -> 1.16667 | ... BR68: =BR67/1000 -> 0
B69: Израсходовано на сумму (за граммы) | D69: =D65*D67 -> 2.727 | E69: =E65*E67 -> 0 | F69: =F65*F67 -> 1.456 | G69: =G65*G67 -> 0 | H69: =H65*H67 -> 2.016 | I69: =I65*I67 -> 0 | J69: =J65*J67 -> 8.69472 | K69: =K65*K67 -> 3.50001 | ... BR69: =BR65*BR67 -> 0 | BS69: =SUM(D69:BQ69) -> 38.45699 | BT69: =BS69/$C$10 -> 38.45699
B70: Израсходовано на сумму (за кг) | D70: =D65*D67 -> 2.727 | E70: =E65*E67 -> 0 | F70: =F65*F67 -> 1.456 | G70: =G65*G67 -> 0 | H70: =H65*H67 -> 2.016 | I70: =I65*I67 -> 0 | J70: =J65*J67 -> 8.69472 | K70: =K65*K67 -> 3.50001 | ... BR70: =BR65*BR67 -> 0 | BS70: =SUM(D70:BQ70) -> 38.45699 | BT70: =BS70/$C$10 -> 38.45699
J72: 44 | K72: детей в количестве | S72: на 18.03.2019
B73: Наименование продуктов | C73: Кол-во человек | D73: =D57 -> Хлеб пшеничный | E73: =E57 -> Хлеб ржано-пшеничный | F73: =F57 -> Сахар | G73: =G57 -> Чай | H73: =H57 -> Какао | I73: =I57 -> Кофейный напиток | J73: =J57 -> Молоко 2,5% | K73: =K57 -> Масло сливочное | ... V73: =V57 -> Огурцы консервирован. | X73: =X57 -> Яйцо | Y73: =Y57 -> Икра кабачковая | Z73: =Z57 -> Изюм | AA73: =AA57 -> Курага | AB73: =AB57 -> Чернослив | AC73: =AC57 -> Шиповник | AD73: =AD57 -> Сухофрукты | AE73: =AE57 -> Ягода свежемороженная | ... BR73: =BR57 -> Лимонная кислота | BS73: Итого расход за день | BT73: ИТОГО на 1 Чел
B74: Меню
B75: =B17 -> Суп "Волна" | D75: =D17 -> 0 | E75: =E17 -> 0 | F75: =F17 -> 0 | G75: =G17 -> 0 | H75: =H17 -> 0 | I75: =I17 -> 0 | J75: =J17 -> 0 | K75: =K17 -> 0.003 | ... BR75: =BR17 -> 0
B76: =B18 -> Голубцы ленивые | D76: =D18 -> 0 | E76: =E18 -> 0 | F76: =F18 -> 0 | G76: =G18 -> 0 | H76: =H18 -> 0 | I76: =I18 -> 0 | J76: =J18 -> 0 | K76: =K18 -> 0 | ... BR76: =BR18 -> 0
B77: =B19 -> Соус сметанный | D77: =D19 -> 0 | E77: =E19 -> 0 | F77: =F19 -> 0 | G77: =G19 -> 0 | H77: =H19 -> 0 | I77: =I19 -> 0 | J77: =J19 -> 0 | K77: =K19 -> 0.001 | ... BR77: =BR19 -> 0
B78: =B20 -> Макароны отварные | D78: =D20 -> 0 | E78: =E20 -> 0 | F78: =F20 -> 0 | G78: =G20 -> 0 | H78: =H20 -> 0 | I78: =I20 -> 0 | J78: =J20 -> 0 | K78: =K20 -> 0.005 | ... BR78: =BR20 -> 0
B79: =B21 -> Хлеб пшеничный | D79: =D21 -> 0.03 | E79: =E21 -> 0 | F79: =F21 -> 0 | G79: =G21 -> 0 | H79: =H21 -> 0 | I79: =I21 -> 0 | J79: =J21 -> 0 | K79: =K21 -> 0 | ... BR79: =BR21 -> 0
B80: =B22 -> Хлеб ржано-пшеничный | D80: =D22 -> 0 | E80: =E22 -> 0.05 | F80: =F22 -> 0 | G80: =G22 -> 0 | H80: =H22 -> 0 | I80: =I22 -> 0 | J80: =J22 -> 0 | K80: =K22 -> 0 | ... BR80: =BR22 -> 0
B81: =B23 -> Компот из кураги | D81: =D23 -> 0 | E81: =E23 -> 0 | F81: =F23 -> 0.012 | G81: =G23 -> 0 | H81: =H23 -> 0 | I81: =I23 -> 0 | J81: =J23 -> 0 | K81: =K23 -> 0 | ... BR81: =BR23 -> 5e-05
B82: Итого на 1 чел | D82: =SUM(D75:D81) -> 0.03 | E82: =SUM(E75:E81) -> 0.05 | F82: =SUM(F75:F81) -> 0.012 | G82: =SUM(G75:G81) -> 0 | H82: =SUM(H75:H81) -> 0 | I82: =SUM(I75:I81) -> 0 | J82: =SUM(J75:J81) -> 0 | K82: =SUM(K75:K81) -> 0.009 | ... BR82: =SUM(BR75:BR81) -> 5e-05
B83: Итого к выдаче, ГРАММ (на всех) | D83: =PRODUCT(D82,$E$7) -> 0.03 | E83: =PRODUCT(E82,$E$7) -> 0.05 | F83: =PRODUCT(F82,$E$7) -> 0.012 | G83: =PRODUCT(G82,$E$7) -> 0 | H83: =PRODUCT(H82,$E$7) -> 0 | I83: =PRODUCT(I82,$E$7) -> 0 | J83: =PRODUCT(J82,$E$7) -> 0 | K83: =PRODUCT(K82,$E$7) -> 0.009 | ... W83: =PRODUCT(W82,$E$7) -> 0 | X83: 30 | Y83: =PRODUCT(Y82,$E$7) -> 0 | Z83: =PRODUCT(Z82,$E$7) -> 0 | AA83: =PRODUCT(AA82,$E$7) -> 0.01 | AB83: =PRODUCT(AB82,$E$7) -> 0 | AC83: =PRODUCT(AC82,$E$7) -> 0 | AD83: =PRODUCT(AD82,$E$7) -> 0 | AE83: =PRODUCT(AE82,$E$7) -> 0 | AF83: =PRODUCT(AF82,$E$7) -> 0 | ... BR83: =PRODUCT(BR82,$E$7) -> 5e-05
B85: ЦЕНА ЗА КИЛОГРАММ (покупная) | C85: руб | D85: =D67 -> 90.9 | E85: =E67 -> 96 | F85: =F67 -> 91 | G85: =G67 -> 816 | H85: =H67 -> 1680 | I85: =I67 -> 1050 | J85: =J67 -> 90.57 | K85: =K67 -> 1166.67 | ... AE85: =AE67 -> 842 | AH85: =AH67 -> 359 | AJ85: =AJ67 -> 309.1 | AK85: =AK67 -> 94 | AL85: =AL67 -> 73 | AM85: =AM67 -> 51.6 | AN85: =AN67 -> 250 | AO85: =AO67 -> 272 | AP85: =AP67 -> 0 | AQ85: =AQ67 -> 425 | ... BR85: =BR67 -> 0
B86: ЦЕНА ЗА ГРАММ (покупная) | C86: руб | D86: =D85/1000 -> 0.0909 | E86: =E85/1000 -> 0.096 | F86: =F85/1000 -> 0.091 | G86: =G85/1000 -> 0.816 | H86: =H85/1000 -> 1.68 | I86: =I85/1000 -> 1.05 | J86: =J85/1000 -> 0.09057 | K86: =K85/1000 -> 1.16667 | ... BR86: =BR85/1000 -> 0
B87: Израсходовано на сумму (за граммы) | D87: =D83*D85 -> 2.727 | E87: =E83*E85 -> 4.8 | F87: =F83*F85 -> 1.092 | G87: =G83*G85 -> 0 | H87: =H83*H85 -> 0 | I87: =I83*I85 -> 0 | J87: =J83*J85 -> 0 | K87: =K83*K85 -> 10.50003 | ... BR87: =BR83*BR85 -> 0 | BS87: =SUM(D87:BQ87) -> 368.37184 | BT87: =BS87/$C$10 -> 368.37184
B88: Израсходовано на сумму (за кг) | D88: =D83*D85 -> 2.727 | E88: =E83*E85 -> 4.8 | F88: =F83*F85 -> 1.092 | G88: =G83*G85 -> 0 | H88: =H83*H85 -> 0 | I88: =I83*I85 -> 0 | J88: =J83*J85 -> 0 | K88: =K83*K85 -> 10.50003 | ... BR88: =BR83*BR85 -> 0 | BS88: =SUM(D88:BQ88) -> 368.37184 | BT88: =BS88/$C$10 -> 368.37184
J90: 44 | K90: детей в количестве | S90: на 18.03.2019
B91: Наименование продуктов | C91: Кол-во человек | D91: =D73 -> Хлеб пшеничный | E91: =E73 -> Хлеб ржано-пшеничный | F91: =F73 -> Сахар | G91: =G73 -> Чай | H91: =H73 -> Какао | I91: =I73 -> Кофейный напиток | J91: =J73 -> Молоко 2,5% | K91: =K73 -> Масло сливочное | ... V91: =V73 -> Огурцы консервирован. | X91: =X73 -> Яйцо | Y91: =Y73 -> Икра кабачковая | Z91: =Z73 -> Изюм | AA91: =AA73 -> Курага | AB91: =AB73 -> Чернослив | AC91: =AC73 -> Шиповник | AD91: =AD73 -> Сухофрукты | AE91: =AE73 -> Ягода свежемороженная | ... BR91: =BR73 -> Лимонная кислота | BS91: Итого расход за день | BT91: ИТОГО на 1 Чел
B92: Меню
A93: Полдник | B93: =B24 -> Напиток из шиповника | C93: =$E$7 -> 1 | D93: =D24 -> 0 | E93: =E24 -> 0 | F93: =F24 -> 0.015 | G93: =G24 -> 0 | H93: =H24 -> 0 | I93: =I24 -> 0 | J93: =J24 -> 0 | K93: =K24 -> 0 | ... BR93: =BR24 -> 0
B94: =B25 -> Ватрушка с повидлом | D94: =D25 -> 0 | E94: =E25 -> 0 | F94: =F25 -> 0.002 | G94: =G25 -> 0 | H94: =H25 -> 0 | I94: =I25 -> 0 | J94: =J25 -> 0 | K94: =K25 -> 0.002 | ... BR94: =BR25 -> 0
B95: =B26 -> Яблоко | D95: =D26 -> 0 | E95: =E26 -> 0 | F95: =F26 -> 0 | G95: =G26 -> 0 | H95: =H26 -> 0 | I95: =I26 -> 0 | J95: =J26 -> 0 | K95: =K26 -> 0 | ... BR95: =BR26 -> 0
B96: =B27 -> 0 | D96: =D27 -> 0 | E96: =E27 -> 0 | F96: =F27 -> 0 | G96: =G27 -> 0 | H96: =H27 -> 0 | I96: =I27 -> 0 | J96: =J27 -> 0 | K96: =K27 -> 0 | ... BR96: =BR27 -> 0
B97: =B28 -> 0 | D97: =D28 -> 0 | E97: =E28 -> 0 | F97: =F28 -> 0 | G97: =G28 -> 0 | H97: =H28 -> 0 | I97: =I28 -> 0 | J97: =J28 -> 0 | K97: =K28 -> 0 | ... BR97: =BR28 -> 0
B98: Итого на 1 чел | D98: =SUM(D93:D97) -> 0 | E98: =SUM(E93:E97) -> 0 | F98: =SUM(F93:F97) -> 0.017 | G98: =SUM(G93:G97) -> 0 | H98: =SUM(H93:H97) -> 0 | I98: =SUM(I93:I97) -> 0 | J98: =SUM(J93:J97) -> 0 | K98: =SUM(K93:K97) -> 0.002 | ... BR98: =SUM(BR93:BR97) -> 0
B99: Итого к выдаче, ГРАММ (на всех) | D99: =PRODUCT(D98,$E$7) -> 0 | E99: =PRODUCT(E98,$E$7) -> 0 | F99: =PRODUCT(F98,$E$7) -> 0.017 | G99: =PRODUCT(G98,$E$7) -> 0 | H99: =PRODUCT(H98,$E$7) -> 0 | I99: =PRODUCT(I98,$E$7) -> 0 | J99: =PRODUCT(J98,$E$7) -> 0 | K99: =PRODUCT(K98,$E$7) -> 0.002 | ... W99: =PRODUCT(W98,$E$7) -> 0 | X99: 3 | Y99: =PRODUCT(Y98,$E$7) -> 0 | Z99: =PRODUCT(Z98,$E$7) -> 0 | AA99: =PRODUCT(AA98,$E$7) -> 0 | AB99: =PRODUCT(AB98,$E$7) -> 0 | AC99: =PRODUCT(AC98,$E$7) -> 0.012 | AD99: =PRODUCT(AD98,$E$7) -> 0 | AE99: =PRODUCT(AE98,$E$7) -> 0 | AF99: =PRODUCT(AF98,$E$7) -> 0 | ... BR99: =PRODUCT(BR98,$E$7) -> 0
B101: ЦЕНА ЗА КИЛОГРАММ (покупная) | C101: руб | D101: =D85 -> 90.9 | E101: =E85 -> 96 | F101: =F85 -> 91 | G101: =G85 -> 816 | H101: =H85 -> 1680 | I101: =I85 -> 1050 | J101: =J85 -> 90.57 | K101: =K85 -> 1166.67 | ... AE101: =AE85 -> 842 | AH101: =AH85 -> 359 | AJ101: =AJ85 -> 309.1 | AK101: =AK85 -> 94 | AL101: =AL85 -> 73 | AM101: =AM85 -> 51.6 | AN101: =AN85 -> 250 | AO101: =AO85 -> 272 | AP101: =AP85 -> 0 | AQ101: =AQ85 -> 425 | ... BR101: =BR85 -> 0
B102: ЦЕНА ЗА ГРАММ (покупная) | C102: руб | D102: =D101/1000 -> 0.0909 | E102: =E101/1000 -> 0.096 | F102: =F101/1000 -> 0.091 | G102: =G101/1000 -> 0.816 | H102: =H101/1000 -> 1.68 | I102: =I101/1000 -> 1.05 | J102: =J101/1000 -> 0.09057 | K102: =K101/1000 -> 1.16667 | ... BR102: =BR101/1000 -> 0
B103: Израсходовано на сумму (за граммы) | D103: =D99*D101 -> 0 | E103: =E99*E101 -> 0 | F103: =F99*F101 -> 1.547 | G103: =G99*G101 -> 0 | H103: =H99*H101 -> 0 | I103: =I99*I101 -> 0 | J103: =J99*J101 -> 0 | K103: =K99*K101 -> 2.33334 | ... BR103: =BR99*BR101 -> 0 | BS103: =SUM(D103:BQ103) -> 44.378765 | BT103: =BS103/$C$10 -> 44.378765
B104: Израсходовано на сумму (за кг) | D104: =D99*D101 -> 0 | E104: =E99*E101 -> 0 | F104: =F99*F101 -> 1.547 | G104: =G99*G101 -> 0 | H104: =H99*H101 -> 0 | I104: =I99*I101 -> 0 | J104: =J99*J101 -> 0 | K104: =K99*K101 -> 2.33334 | ... BR104: =BR99*BR101 -> 0 | BS104: =SUM(D104:BQ104) -> 44.378765 | BT104: =BS104/$C$10 -> 44.378765
J106: 44 | K106: детей в количестве | S106: на 18.03.2019
B107: Наименование продуктов | C107: Кол-во человек | D107: =D91 -> Хлеб пшеничный | E107: =E91 -> Хлеб ржано-пшеничный | F107: =F91 -> Сахар | G107: =G91 -> Чай | H107: =H91 -> Какао | I107: =I91 -> Кофейный напиток | J107: =J91 -> Молоко 2,5% | K107: =K91 -> Масло сливочное | ... V107: =V91 -> Огурцы консервирован. | X107: =X91 -> Яйцо | Y107: =Y91 -> Икра кабачковая | Z107: =Z91 -> Изюм | AA107: =AA91 -> Курага | AB107: =AB91 -> Чернослив | AC107: =AC91 -> Шиповник | AD107: =AD91 -> Сухофрукты | AE107: =AE91 -> Ягода свежемороженная | ... BR107: =BR91 -> Лимонная кислота | BS107: Итого расход за день | BT107: ИТОГО на 1 Чел
B108: Меню
A109: Ужин | B109: =B29 -> Картофельное пюре | C109: =$E$7 -> 1 | D109: =D29 -> 0 | E109: =E29 -> 0 | F109: =F29 -> 0 | G109: =G29 -> 0 | H109: =H29 -> 0 | I109: =I29 -> 0 | J109: =J29 -> 0.024 | K109: =K29 -> 0.005 | ... BR109: =BR29 -> 0
B110: =B30 -> Огурчик свежий | D110: =D30 -> 0 | E110: =E30 -> 0 | F110: =F30 -> 0 | G110: =G30 -> 0 | H110: =H30 -> 0 | I110: =I30 -> 0 | J110: =J30 -> 0 | K110: =K30 -> 0 | ... BR110: =BR30 -> 0
B111: =B31 -> Чай с лимоном | D111: =D31 -> 0 | E111: =E31 -> 0 | F111: =F31 -> 0.012 | G111: =G31 -> 0.0006 | H111: =H31 -> 0 | I111: =I31 -> 0 | J111: =J31 -> 0 | K111: =K31 -> 0 | ... BR111: =BR31 -> 0
B112: =B32 -> Хлеб пшеничный | D112: =D32 -> 0.02 | E112: =E32 -> 0 | F112: =F32 -> 0 | G112: =G32 -> 0 | H112: =H32 -> 0 | I112: =I32 -> 0 | J112: =J32 -> 0 | K112: =K32 -> 0 | ... BR112: =BR32 -> 0
B113: =B33 -> 0 | D113: =D33 -> 0 | E113: =E33 -> 0 | F113: =F33 -> 0 | G113: =G33 -> 0 | H113: =H33 -> 0 | I113: =I33 -> 0 | J113: =J33 -> 0 | K113: =K33 -> 0 | ... BR113: =BR33 -> 0
B114: Итого на 1 чел | D114: =SUM(D109:D113) -> 0.02 | E114: =SUM(E109:E113) -> 0 | F114: =SUM(F109:F113) -> 0.012 | G114: =SUM(G109:G113) -> 0.0006 | H114: =SUM(H109:H113) -> 0 | I114: =SUM(I109:I113) -> 0 | J114: =SUM(J109:J113) -> 0.024 | K114: =SUM(K109:K113) -> 0.005 | ... BR114: =SUM(BR109:BR113) -> 0
B115: Итого к выдаче, ГРАММ (на всех) | D115: =PRODUCT(D114,$E$7) -> 0.02 | E115: =PRODUCT(E114,$E$7) -> 0 | F115: =PRODUCT(F114,$E$7) -> 0.012 | G115: =PRODUCT(G114,$E$7) -> 0.0006 | H115: =PRODUCT(H114,$E$7) -> 0 | I115: =PRODUCT(I114,$E$7) -> 0 | J115: =PRODUCT(J114,$E$7) -> 0.024 | K115: =PRODUCT(K114,$E$7) -> 0.005 | ... BR115: =PRODUCT(BR114,$E$7) -> 0
B117: ЦЕНА ЗА КИЛОГРАММ (покупная) | C117: руб | D117: =D101 -> 90.9 | E117: =E101 -> 96 | F117: =F101 -> 91 | G117: =G101 -> 816 | H117: =H101 -> 1680 | I117: =I101 -> 1050 | J117: =J101 -> 90.57 | K117: =K101 -> 1166.67 | ... AE117: =AE101 -> 842 | AH117: =AH101 -> 359 | AJ117: =AJ101 -> 309.1 | AK117: =AK101 -> 94 | AL117: =AL101 -> 73 | AM117: =AM101 -> 51.6 | AN117: =AN101 -> 250 | AO117: =AO101 -> 272 | AP117: =AP101 -> 0 | AQ117: =AQ101 -> 425 | ... BR117: =BR101 -> 0
B118: ЦЕНА ЗА ГРАММ (покупная) | C118: руб | D118: =D117/1000 -> 0.0909 | E118: =E117/1000 -> 0.096 | F118: =F117/1000 -> 0.091 | G118: =G117/1000 -> 0.816 | H118: =H117/1000 -> 1.68 | I118: =I117/1000 -> 1.05 | J118: =J117/1000 -> 0.09057 | K118: =K117/1000 -> 1.16667 | ... BR118: =BR117/1000 -> 0
B119: Израсходовано на сумму (за граммы) | D119: =D115*D117 -> 1.818 | E119: =E115*E117 -> 0 | F119: =F115*F117 -> 1.092 | G119: =G115*G117 -> 0.4896 | H119: =H115*H117 -> 0 | I119: =I115*I117 -> 0 | J119: =J115*J117 -> 2.17368 | K119: =K115*K117 -> 5.83335 | ... BR119: =BR115*BR117 -> 0 | BS119: =SUM(D119:BQ119) -> 32.70363 | BT119: =BS119/$C$10 -> 32.70363
B120: Израсходовано на сумму (за кг) | D120: =D115*D117 -> 1.818 | E120: =E115*E117 -> 0 | F120: =F115*F117 -> 1.092 | G120: =G115*G117 -> 0.4896 | H120: =H115*H117 -> 0 | I120: =I115*I117 -> 0 | J120: =J115*J117 -> 2.17368 | K120: =K115*K117 -> 5.83335 | ... BR120: =BR115*BR117 -> 0 | BS120: =SUM(D120:BQ120) -> 32.70363 | BT120: =BS120/$C$10 -> 32.70363

Sheet День 7 до 3 лет
J1: Утверждаю
J2: Заведующий МК ДОУ
J3: Ташаринский детский сад "Лесовичок"
J4: ______________________Т.В. Чугуева
E5: Меню на | G5: =' 3-7 лет (день 7)'!K7 -> 46293
A6: Прием пищи | B6: Наименование блюда | C6: Выход блюда | D6: Белки, г | E6: Жиры, г | F6: Углеводы, г | G6: Эн. Цен (ккал) | H6: Ca | I6: Fe | J6: B1 | K6: B2 | L6: C | M6: № рецептуры
A7: День 7 | B7: Дети с 1,5 - 3 лет
A8: Завтрак | B8: Каша пшеничная молочная | C8: 150 | D8: 5.26 | E8: 6.07 | F8: 21.29 | G8: 159.75 | H8: 139.01 | I8: 0.57 | J8: 0.11 | K8: 0.02 | L8: 1.46 | M8: 91
B9: Бутерброд с джемом | C9: 30/8 | D9: 2.32 | E9: 0.24 | F9: 20.08 | G9: 92 | H9: 6.96 | I9: 0.41 | J9: 0.03 | K9: 0.02 | L9: 0.01 | M9: 2
B10: Какао с молоком | C10: 150 | D10: 1.25 | E10: 1.33 | F10: 10.08 | G10: 50 | H10: 83.33 | I10: 0.01 | J10: 0.02 | K10: 0.01 | L10: 0.54 | M10: 248
A13: Второй завтрак | B13: Яблоки | C13: 95 | D13: 0.3 | E13: 0.3 | F13: 7.35 | G13: 33 | H13: 12 | I13: 1.65 | J13: 0.02 | K13: 0.01 | L13: 7.5
A14: Обед | B14: ='[2]1-3 года (день 1 )'!B16 -> Банан | C14: 45 | D14: 1.18 | E14: 3.81 | F14: 2.93 | G14: 50.25 | H14: 9.23 | I14: 0.3 | J14: 0.04 | K14: 0.03 | L14: 2.4
B15: Банан | C15: 95 | D15: 0.67 | E15: 0.14 | F15: 17.25 | G15: 73 | H15: 25.8 | I15: 0.26 | J15: 0.02 | K15: 0.02 | L15: 44.86
A16: Обед | B16: Суп "Волна" | C16: 170 | D16: 6.53 | E16: 7.35 | F16: 13.98 | G16: 167.21 | H16: 31.22 | I16: 0.72 | J16: 0.17 | K16: 0.24 | L16: 10.11 | M16: 39
B17: Голубцы ленивые | C17: 50 | D17: 4.11 | E17: 3.18 | F17: 2.99 | G17: 56.88 | H17: 16.93 | I17: 0.43 | J17: 0.02 | K17: 0.03 | L17: 6.23 | M17: 151
B18: Соус сметанный | C18: 20 | D18: 0.3 | E18: 3.37 | F18: 1.08 | G18: 30 | H18: 8.35 | I18: 0.03 | J18: 0 | K18: 0.07 | L18: 0.04 | M18: 226
B19: Макароны отварные с маслом | C19: 125 | D19: 4.5 | E19: 3.48 | F19: 21.8 | G19: 136 | H19: 4 | I19: 0.91 | J19: 0.04 | K19: 0.02 | L19: 0 | M19: 205
B20: Хлеб пшеничный | C20: 20 | D20: 1.57 | E20: 0.2 | F20: 9.65 | G20: 48 | H20: 4.6 | I20: 0.4 | J20: 0.03 | K20: 0.005 | L20: 0
B21: Хлеб ржаной | C21: 40 | D21: 2.64 | E21: 0.48 | F21: 13.36 | G21: 69.6 | H21: 14 | I21: 1.56 | J21: 0.072 | K21: 0.032 | L21: 0
B22: Компот из кураги | C22: 150 | D22: 0.52 | E22: 0 | F22: 15.59 | G22: 60.86 | H22: 16.18 | I22: 1.23 | J22: 0.01 | K22: 0.02 | L22: 0.4 | M22: 250
A24: Полдник | B24: Напиток из шиповника | C24: 150 | D24: 0.18 | E24: 0.08 | F24: 13.75 | G24: 75 | H24: 3.38 | I24: 0.17 | J24: 0.01 | K24: 0 | L24: 11 | M24: 256
B25: Ватрушка с повидлом | C25: 60 | D25: 4.54 | E25: 4.07 | F25: 25.3 | G25: 157.12 | H25: 32.56 | I25: 0.76 | J25: 0.1 | K25: 0.04 | L25: 0.22 | M25: 417
B26: =' 3-7 лет (день 7)'!B26 -> Яблоко | C26: 75 | D26: 0.3 | E26: 0.3 | F26: 7.35 | G26: 33 | H26: 12 | I26: 1.65 | J26: 0.02 | K26: 0.01 | L26: 7.5
A27: Ужин | B27: Картофельное пюре | C27: 120 | D27: 2.44 | E27: 4.19 | F27: 14.45 | G27: 113.6 | H27: 36.94 | I27: 0.85 | J27: 0.11 | K27: 0.08 | L27: 14.36 | M27: 206
B28: =' 3-7 лет (день 7)'!B30 -> Огурчик свежий | C28: 45 | D28: 0.36 | E28: 0.05 | F28: 1.13 | G28: 6.3 | H28: 10.35 | I28: 0.27 | J28: 0.02 | K28: 0.02 | L28: 4.5 | M28: 70
B29: Хлеб пшеничный | C29: 30 | D29: 2.355 | E29: 0.3 | F29: 14.475 | G29: 72 | H29: 6.9 | I29: 0.6 | J29: 0.045 | K29: 0.0075 | L29: 0
B30: Чай с лимоном | C30: 150/9/4 | D30: 0.04 | E30: 0 | F30: 9.1 | G30: 35 | H30: 1.87 | I30: 0.08 | J30: 0 | K30: 0 | L30: 0 | M30: 200, 264
B31: ВСЕГО за день | D31: =SUM(D8:D27) -> 38.61 | E31: =SUM(E8:E27) -> 38.59 | F31: =SUM(F8:F27) -> 201.03 | G31: =SUM(G8:G27) -> 1405.27 | H31: =SUM(H8:H27) -> 456.49 | I31: =SUM(I8:I27) -> 11.91 | J31: =SUM(J8:J27) -> 0.822 | K31: =SUM(K8:K27) -> 0.657 | L31: =SUM(L8:L27) -> 106.63
A33: Ответственный за питание _________________________ С.В.Залевская

Sheet День 7 от 3 лет
J1: Утверждаю
J2: Заведующий МК ДОУ
J3: Ташаринский детский сад "Лесовичок"
J4: _____________________ Т.В. Чугуева
E5: Меню на | G5: =' 3-7 лет (день 7)'!K7 -> 46293
A6: Прием пищи | B6: Наименование блюда | C6: Выход блюда | D6: Белки, г | E6: Жиры, г | F6: Углеводы, г | G6: Эн. Цен (ккал) | H6: Ca | I6: Fe | J6: B1 | K6: B2 | L6: C | M6: № рецептуры
A7: День 7 | B7: Дети с 3 - 7 лет
A8: Завтрак | B8: Каша пшеничная молочная | C8: 200 | D8: 6.44 | E8: 7.53 | F8: 25.38 | G8: 192 | H8: 186.58 | I8: 0.95 | J8: 0.11 | K8: 0.05 | L8: 1.95 | M8: 91
B9: Бутерброд с джемом | C9: 30/8 | D9: 2.32 | E9: 0.24 | F9: 20.08 | G9: 92 | H9: 6.96 | I9: 0.41 | J9: 0.03 | K9: 0.02 | L9: 0.01 | M9: 2
B10: Какао с молоком | C10: 180 | D10: 1.5 | E10: 1.6 | F10: 12.1 | G10: 60 | H10: 100 | I10: 0.02 | J10: 0.02 | K10: 0.01 | L10: 0.65 | M10: 248
A13: Второй завтрак | B13: Яблоки | C13: 100 | D13: 0.4 | E13: 0.4 | F13: 9.8 | G13: 44 | H13: 16 | I13: 2.2 | J13: 0.03 | K13: 0.02 | L13: 10
B14: Банан | C14: 100 | D14: 0.9 | E14: 0.2 | F14: 23.07 | G14: 98 | H14: 34.5 | I14: 0.35 | J14: 0.04 | K14: 0.03 | L14: 60
A15: Обед | B15: Суп "Волна" | C15: 200 | D15: 5.3 | E15: 7.2 | F15: 18.2 | G15: 202.3 | H15: 39.4 | I15: 0.9 | J15: 0.22 | K15: 0.3 | L15: 12.76 | M15: 39
B16: Голубцы ленивые | C16: 70 | D16: 5.75 | E16: 4.45 | F16: 4.19 | G16: 79.63 | H16: 23.7 | I16: 0.6 | J16: 0.03 | K16: 0.04 | L16: 8.72 | M16: 151
B17: Соус сметанный | C17: 30 | D17: 0.45 | E17: 5.06 | F17: 1.62 | G17: 45 | H17: 12.53 | I17: 0.05 | J17: 0 | K17: 0.1 | L17: 0.06 | M17: 226
B18: Макароны отварные с маслом | C18: 155 | D18: 5.68 | E18: 4.36 | F18: 27.25 | G18: 171 | H18: 5 | I18: 1.14 | J18: 0.06 | K18: 0.03 | L18: 0 | M18: 205
B19: Хлеб пшеничный | C19: 20 | D19: 1.57 | E19: 0.2 | F19: 9.65 | G19: 48 | H19: 4.6 | I19: 0.4 | J19: 0.03 | K19: 0.005 | L19: 0
B20: Хлеб ржаной | C20: 50 | D20: 3.3 | E20: 0.6 | F20: 16.7 | G20: 87 | H20: 17.5 | I20: 1.95 | J20: 0.09 | K20: 0.04 | L20: 0
B21: Компот из кураги | C21: 200 | D21: 0.68 | E21: 0 | F21: 20.57 | G21: 80.24 | H21: 21.04 | I21: 1.6 | J21: 0.013 | K21: 0.026 | L21: 0.52 | M21: 250
A23: Полдник | B23: Напиток из шиповника | C23: 200 | D23: 0.24 | E23: 0.1 | F23: 18.33 | G23: 100 | H23: 4.5 | I23: 0.23 | J23: 0.01 | K23: 0 | L23: 15 | M23: 256
B24: Ватрушка с повидлом | C24: 70 | D24: 5.3 | E24: 4.75 | F24: 29.5 | G24: 183.3 | H24: 37.99 | I24: 0.87 | J24: 0.11 | K24: 0.04 | L24: 0.26 | M24: 417
B25: Яблоко | C25: 100 | D25: 0.4 | E25: 0.4 | F25: 9.8 | G25: 44 | H25: 16 | I25: 2.2 | J25: 0.03 | K25: 0.02 | L25: 10
A26: Ужин | B26: Картофельное пюре | C26: 150 | D26: 3.05 | E26: 5.24 | F26: 18.06 | G26: 142 | H26: 46.18 | I26: 1.06 | J26: 0.14 | K26: 0.1 | L26: 17.95 | M26: 206
B27: =' 3-7 лет (день 7)'!B30 -> Огурчик свежий | C27: 60 | D27: 0.48 | E27: 0.06 | F27: 1.5 | G27: 8.4 | H27: 13.8 | I27: 0.36 | J27: 0.02 | K27: 0.02 | L27: 6 | M27: 70
B28: Хлеб пшеничный | C28: 30 | D28: 2.355 | E28: 0.3 | F28: 14.475 | G28: 72 | H28: 6.9 | I28: 0.6 | J28: 0.045 | K28: 0.0075 | L28: 0
B29: Чай с лимоном | C29: 180/12/5 | D29: 0.04 | E29: 0 | F29: 12.13 | G29: 47 | H29: 2.35 | I29: 0.09 | J29: 0 | K29: 0 | L29: 2 | M29: 200, 264
B30: ВСЕГО за день | D30: =SUM(D8:D29) -> 46.155 | E30: =SUM(E8:E29) -> 42.69 | F30: =SUM(F8:F29) -> 292.405 | G30: =SUM(G8:G29) -> 1795.87 | H30: =SUM(H8:H29) -> 595.53 | I30: =SUM(I8:I29) -> 15.98 | J30: =SUM(J8:J29) -> 1.028 | K30: =SUM(K8:K29) -> 0.8585 | L30: =SUM(L8:L29) -> 145.88
A32: Ответственный за питание _________________________ С.В.Залевская

Sheet БГП  
A1: =' 3-7 лет (день 7)'!K7 -> 46293
A2: Час изготовления блюда | B2: Время снятия бракеража | C2: Наименование блюда, кулинарного изделия | D2: Результаты органолептической оценки и степени готовности блюда, кулинарного изделия | E2: Разрешение к реализации блюда, кулинарного изделия | F2: Подписи членов бракеражной комиссии | G2: Примечание
A5: Завтрак 7:00-8:30 | B5: 0.36111111 | C5: =' 3-7 лет (день 7)'!B10 -> Каша пшеничная молочная | D5: отлично | E5: разрешено
C6: =' 3-7 лет (день 7)'!B11 -> Бутерброд с джемом | D6: отлично | E6: разрешено
C7: =' 3-7 лет (день 7)'!B12 -> Какао с молоком | D7: отлично | E7: разрешено
A8: Второй завтрак 10:00-10:20 | B8: 0.4375 | C8: Яблоко | D8: отлично | E8: разрешено
A10: Обед 9:00-11:30 | B10: 0.48611111 | C10: =' 3-7 лет (день 7)'!B17 -> Суп "Волна" | D10: отлично | E10: разрешено
C11: =' 3-7 лет (день 7)'!B18 -> Голубцы ленивые | D11: отлично | E11: разрешено
C12: =' 3-7 лет (день 7)'!B19 -> Соус сметанный | D12: отлично | E12: разрешено
C13: =' 3-7 лет (день 7)'!B20 -> Макароны отварные | D13: отлично | E13: разрешено
C14: =' 3-7 лет (день 7)'!B21 -> Хлеб пшеничный | D14: отлично | E14: разрешено
C15: =' 3-7 лет (день 7)'!B22 -> Хлеб ржано-пшеничный | D15: отлично | E15: разрешено
C16: =' 3-7 лет (день 7)'!B23 -> Компот из кураги | D16: отлично | E16: разрешено
A18: Полдник 13:00-15:00 | B18: 0.63888889 | C18: =' 3-7 лет (день 7)'!B24 -> Напиток из шиповника | D18: отлично | E18: разрешено
C19: =' 3-7 лет (день 7)'!B25 -> Ватрушка с повидлом | D19: отлично | E19: разрешено
A20: Ужин 15:00-16:30 | B20: 0.69444444 | C20: =' 3-7 лет (день 7)'!B29 -> Картофельное пюре | D20: отлично | E20: разрешено
C21: =' 3-7 лет (день 7)'!B30 -> Огурчик свежий | D21: отлично | E21: разрешено
C22: =' 3-7 лет (день 7)'!B31 -> Чай с лимоном | D22: отлично | E22: разрешено
C23: =' 3-7 лет (день 7)'!B32 -> Хлеб пшеничный | D23: отлично | E23: разрешено
