Workbook

Sheet 1-3 года (день 1 )
A1: Утверждаю
A2: Заведующий МКДОУ Ташаринский детский сад "Лесовичок" | H2: Меню - требование на выдачу продуктов питания
A3: _________________ Чугуева Т.В.
A4: подпись | H4: Учреждение МКДОУ "Ташаринский детский сад"Лесовичок"
H5: Ответственное лицо Романашенко Г.М.
D7: детей в количестве | F7: 1 | G7: человек (1,5-2 года) на | J7: ='3-7 лет (день 1)'!J7 -> 46311
B8: Наименование продуктов | C8: Кол-во человек | D8: =[1]Цены!A1 -> Хлеб пшеничный | E8: =[1]Цены!B1 -> Хлеб ржано-пшеничный | F8: =[1]Цены!C1 -> Сахар | G8: =[1]Цены!D1 -> Чай | H8: =[1]Цены!E1 -> Какао | I8: =[1]Цены!F1 -> Кофейный напиток | J8: =[1]Цены!G1 -> Молоко 2,5% | K8: =[1]Цены!H1 -> Масло сливочное | ... AE8: =[1]Цены!AB1 -> Ягода свежемороженная | AF8: ='3-7 лет (день 1)'!AF8:AF9 -> Апельсин | AG8: ='3-7 лет (день 1)'!AG8:AG9 -> Банан | AH8: ='3-7 лет (день 1)'!AH8:AH9 -> Лимон | AI8: ='3-7 лет (день 1)'!AI8:AI9 -> Яблоко | AJ8: =[1]Цены!AD1 -> Кисель | AK8: =[1]Цены!AE1 -> Сок | AL8: =[1]Цены!AF1 -> Макаронные изделия | AM8: =[1]Цены!AG1 -> Мука | AN8: =[1]Цены!AH1 -> Дрожжи | AO8: =[1]Цены!AI1 -> Печенье | AP8: =[1]Цены!AJ1 -> Пряники | AQ8: =[1]Цены!AK1 -> Вафли | ... BQ8: =[1]Цены!BK1 -> Соль | BR8: Лимонная кислота | BS8: Итого расход за день | BT8: ИТОГО на 1 Чел
B9: Меню
A10: Завтрак | B10: ='3-7 лет (день 1)'!B10 -> Кукурузная каша молочная | C10: =$F$7 -> 1 | F10: 0.004 | K10: 0.002 | M10: 0.0124 | AW10: 0.015 | BQ10: 0.0005
B11: ='3-7 лет (день 1)'!B11 -> Бутерброд с маслом | D11: 0.02 | K11: 0.004
B12: ='3-7 лет (день 1)'!B12 -> Какао с молоком | F12: 0.009 | H12: 0.001 | J12: 0.08
B13: ='3-7 лет (день 1)'!B13 -> 0
B14: ='3-7 лет (день 1)'!B14 -> Салат из зелёного горошка с луком репчатым
A15: Второй завтрак | B15: Яблоко | C15: =F7 -> 1 | AI15: 0.108
B16: Банан
A17: Обед | B17: ='3-7 лет (день 1)'!B17 -> Свекольник | C17: =F7 -> 1 | K17: 0.002 | L17: 0.002 | BF17: 0.008 | BJ17: 0.051 | BK17: 0.01 | BL17: 0.008 | BN17: 0.055 | BO17: 0.002 | BP17: 0.001 | BQ17: 0.001
B18: ='3-7 лет (день 1)'!B18 -> Суфле рыбное | D18: 0.01 | X18: 0.14285714 | BH18: 0.04 | BL18: 0.005 | BP18: 0.001 | BQ18: 0.001
B19: ='3-7 лет (день 1)'!B19 -> Соус сметанный | K19: 0.0005 | L19: 0.007 | AM19: 0.00054
B20: ='3-7 лет (день 1)'!B20 -> Картофельное пюре | J20: 0.019 | K20: 0.002 | BJ20: 0.17 | BQ20: 0.001
B21: ='3-7 лет (день 1)'!B21 -> Хлеб пшеничный | D21: 0.02
B22: ='3-7 лет (день 1)'!B22 -> Хлеб ржано-пшеничный | E22: 0.04
B23: ='3-7 лет (день 1)'!B23 -> Кисель | F23: 0.01 | AJ23: 0.018 | BR23: 3.5e-05
A24: Полдник | B24: ='3-7 лет (день 1)'!B24 -> Снежок | C24: =$F$7 -> 1 | N24: 0.14
B25: ='3-7 лет (день 1)'!B25 -> Манник со сгущенным молоком | F25: 0.004 | K25: 0.002 | L25: 0.007 | P25: 0.005 | X25: 0.125 | AX25: 0.017 | BP25: 0.0009
B26: ='3-7 лет (день 1)'!B26 -> Яблоко
A29: Ужин | B29: ='3-7 лет (день 1)'!B29 -> Макароны отварные с маслом | C29: =$F$7 -> 1 | K29: 0.003 | AL29: 0.03 | BQ29: 0.0005
B30: ='3-7 лет (день 1)'!B30 -> Хлеб пшеничный | D30: 0.02
B31: ='3-7 лет (день 1)'!B31 -> Чай с сахаром | F31: 0.009 | G31: 0.0004
B34: Итого на 1 чел | D34: =SUM(D10:D33) -> 0.07 | E34: =SUM(E10:E33) -> 0.04 | F34: =SUM(F10:F33) -> 0.036 | G34: =SUM(G10:G33) -> 0.0004 | H34: =SUM(H10:H33) -> 0.001 | I34: =SUM(I10:I33) -> 0 | J34: =SUM(J10:J33) -> 0.099 | K34: =SUM(K10:K33) -> 0.0155 | ... BR34: =SUM(BR10:BR33) -> 3.5e-05
B35: Итого к выдаче, ГРАММ (на всех) | D35: =ROUND(PRODUCT(D34,$F$7),3) -> 0.07 | E35: =ROUND(PRODUCT(E34,$F$7),3) -> 0.04 | F35: =ROUND(PRODUCT(F34,$F$7),3) -> 0.036 | G35: =ROUND(PRODUCT(G34,$F$7),3) -> 0 | H35: =ROUND(PRODUCT(H34,$F$7),3) -> 0.001 | I35: =ROUND(PRODUCT(I34,$F$7),3) -> 0 | J35: =ROUND(PRODUCT(J34,$F$7),3) -> 0.099 | K35: =ROUND(PRODUCT(K34,$F$7),3) -> 0.016 | ... BR35: =ROUND(PRODUCT(BR34,$F$7),3) -> 0
D38: Ответственный калькулятор | H38: _________________ | K38: С.В.Залевская
D39: исполнитель | F39: должность | H39: подпись
F41: Повар | H41: ___________________ | K41: ='3-7 лет (день 1)'!K42 -> 0
H42: подпись
B47: ЦЕНА ЗА КИЛОГРАММ (покупная) | C47: руб | D47: 107.27 | E47: 114 | F47: 83 | G47: 744 | H47: 1740 | I47: 960 | J47: 90.57 | K47: 1173.33 | L47: 255.2 | M47: 741 | N47: 126.38 | O47: 387.53 | P47: 465.79 | Q47: 520 | R47: 1295 | U47: 824 | V47: 461.33 | W47: 120 | X47: 9 | Y47: 266.5 | Z47: 533 | AA47: 431 | AB47: 400 | AC47: 289 | AD47: 135 | AE47: 838 | AG47: 175 | AH47: 252 | AI47: 208 | AJ47: 295.45 | AK47: 99 | AL47: 72.75 | AM47: 47.1 | AN47: 260 | AO47: 325 | AQ47: 420 | AS47: 288.51 | AT47: 90 | AU47: 83.33 | AV47: 80.67 | AW47: 82.85 | AX47: 81.43 | AY47: 63.75 | AZ47: 95.38 | BA47: 74 | BB47: 65 | BC47: 111.33 | BD47: 346 | BE47: 552 | BF47: 666 | BG47: 320 | BH47: 585 | BJ47: 51 | BK47: 63 | BL47: 42 | BM47: 43 | BN47: 64 | BO47: 280 | BP47: 175.56 | BQ47: 30
B48: ЦЕНА ЗА ГРАММ (покупная) | C48: руб | D48: =D47/1000 -> 0.10727 | E48: =E47/1000 -> 0.114 | F48: =F47/1000 -> 0.083 | G48: =G47/1000 -> 0.744 | H48: =H47/1000 -> 1.74 | I48: =I47/1000 -> 0.96 | J48: =J47/1000 -> 0.09057 | K48: =K47/1000 -> 1.17333 | ... BR48: =BR47/1000 -> 0
B49: Израсходовано на сумму (за граммы) | D49: =D35*D47 -> 7.5089 | E49: =E35*E47 -> 4.56 | F49: =F35*F47 -> 2.988 | G49: =G35*G47 -> 0 | H49: =H35*H47 -> 1.74 | I49: =I35*I47 -> 0 | J49: =J35*J47 -> 8.96643 | K49: =K35*K47 -> 18.77328 | ... BR49: =BR35*BR47 -> 0 | BS49: =SUM(D49:BQ49) -> 158.4864 | BT49: =BS49/$C$10 -> 158.4864
B50: Израсходовано на сумму (за кг) | D50: =D35*D47 -> 7.5089 | E50: =E35*E47 -> 4.56 | F50: =F35*F47 -> 2.988 | G50: =G35*G47 -> 0 | H50: =H35*H47 -> 1.74 | I50: =I35*I47 -> 0 | J50: =J35*J47 -> 8.96643 | K50: =K35*K47 -> 18.77328 | ... BR50: =BR35*BR47 -> 0 | BS50: =SUM(D50:BR50) -> 158.4864 | BT50: =BS50/$C$10 -> 158.4864
B51: P/S: Итого к выдаче Яйцо- указано в шт.
B52: Цена за яйцо, указана за 1 шт. | BT52: =BT67+BT85+BT101+BT117 -> 134.84923
...

Sheet 3-7 лет ОВЗ
A1: Утверждаю
A2: Заведующий МКДОУ Ташаринский детский сад "Лесовичок" | H2: Меню - требование на выдачу продуктов питания
A3: _________________ Чугуева Т.В.
A4: подпись | H4: Учреждение МКДОУ "Ташаринский детский сад"Лесовичок"
H5: Ответственное лицо Романашенко Г.М.
B8: ОВЗ | D8: детей в количестве | F8: 1 | G8: человек (3-7 лет) на | J8: ='3-7 лет (день 1)'!J7 -> 46311
B9: Наименование продуктов | C9: Кол-во человек | D9: =[1]Цены!A1 -> Хлеб пшеничный | E9: =[1]Цены!B1 -> Хлеб ржано-пшеничный | F9: =[1]Цены!C1 -> Сахар | G9: =[1]Цены!D1 -> Чай | H9: =[1]Цены!E1 -> Какао | I9: =[1]Цены!F1 -> Кофейный напиток | J9: =[1]Цены!G1 -> Молоко 2,5% | K9: =[1]Цены!H1 -> Масло сливочное | ... AE9: =[1]Цены!AB1 -> Ягода свежемороженная | AF9: Апельсин | AG9: Банан | AH9: =[1]Цены!AC1 -> Лимон | AI9: Яблоко | AJ9: =[1]Цены!AD1 -> Кисель | AK9: =[1]Цены!AE1 -> Сок | AL9: =[1]Цены!AF1 -> Макаронные изделия | AM9: =[1]Цены!AG1 -> Мука | AN9: =[1]Цены!AH1 -> Дрожжи | AO9: =[1]Цены!AI1 -> Печенье | AP9: =[1]Цены!AJ1 -> Пряники | AQ9: =[1]Цены!AK1 -> Вафли | ... BQ9: =[1]Цены!BK1 -> Соль | BR9: Лимонная кислота | BS9: Итого расход за день | BT9: ИТОГО на 1 Чел
B10: Меню
A11: Завтрак | B11: Кукурузная каша молочная | C11: =$F$8 -> 1 | F11: 0.005 | K11: 0.003 | M11: 0.0165 | AW11: 0.02 | BQ11: 0.0005
B12: Бутерброд с маслом | D12: 0.03 | K12: 0.005
B13: Какао с молоком | F13: 0.01 | H13: 0.0012 | J13: 0.09
B15: Салат из зелёного горошка с луком репчатым
A16: Второй завтрак | B16: Яблоко | C16: =F8 -> 1 | AI16: 0.114
B17: Банан
A18: Обед | B18: Свекольник | C18: =F8 -> 1 | K18: 0.002 | L18: 0.003 | BF18: 0.01 | BJ18: 0.06 | BK18: 0.01 | BL18: 0.01 | BN18: 0.07 | BO18: 0.003 | BP18: 0.002 | BQ18: 0.002
B19: Суфле рыбное | D19: 0.01 | X19: 0.16666667 | BH19: 0.05 | BL19: 0.01 | BP19: 0.002 | BQ19: 0.002
B20: Соус сметанный | K20: 0.001 | L20: 0.01 | AM20: 0.0006
B21: Картофельное пюре | J21: 0.024 | K21: 0.002 | BJ21: 0.18 | BQ21: 0.001
B22: Хлеб пшеничный | D22: 0.03
B23: Хлеб ржано-пшеничный | E23: 0.05
B24: Кисель | F24: 0.01 | AJ24: 0.02 | BR24: 5e-05
A25: Полдник | B25: Снежок | C25: =$F$8 -> 1 | N25: 0.15
B26: Манник со сгущенным молоком | F26: 0.005 | K26: 0.002 | L26: 0.01 | P26: 0.007 | X26: 0.142 | AX26: 0.0204 | BP26: 0.0012
B27: Яблоко
A30: Ужин | B30: Макароны отварные с маслом | C30: =$F$8 -> 1 | K30: 0.004 | AL30: 0.03 | BQ30: 0.0005
B31: Хлеб пшеничный | D31: 0.02
B32: Чай с сахаром | F32: 0.01 | G32: 0.0005
B35: Итого на 1 чел | D35: =SUM(D11:D34) -> 0.09 | E35: =SUM(E11:E34) -> 0.05 | F35: =SUM(F11:F34) -> 0.04 | G35: =SUM(G11:G34) -> 0.0005 | H35: =SUM(H11:H34) -> 0.0012 | I35: =SUM(I11:I34) -> 0 | J35: =SUM(J11:J34) -> 0.114 | K35: =SUM(K11:K34) -> 0.019 | ... BR35: =SUM(BR11:BR34) -> 5e-05
B36: К выдаче, ГРАММ (на всех) | D36: =ROUND(PRODUCT(D35,$F$8),3) -> 0.09 | E36: =ROUND(PRODUCT(E35,$F$8),3) -> 0.05 | F36: =ROUND(PRODUCT(F35,$F$8),3) -> 0.04 | G36: =ROUND(PRODUCT(G35,$F$8),3) -> 0.001 | H36: =ROUND(PRODUCT(H35,$F$8),3) -> 0.001 | I36: =ROUND(PRODUCT(I35,$F$8),3) -> 0 | J36: =ROUND(PRODUCT(J35,$F$8),3) -> 0.114 | K36: =ROUND(PRODUCT(K35,$F$8),3) -> 0.019 | ... BR36: =ROUND(PRODUCT(BR35,$F$8),3) -> 0
D39: Ответственный калькулятор | H39: _________________ | K39: С.В.Залевская
D40: исполнитель | F40: должность | H40: подпись
F42: Повар | H42: ___________________ | K42: ='3-7 лет (день 1)'!K42 -> 0
H43: подпись
B47: ЦЕНА ЗА КИЛОГРАММ (покупная) | C47: руб | D47: 107.27 | E47: 114 | F47: 83 | G47: 744 | H47: 1740 | I47: 960 | J47: 90.57 | K47: 1173.33 | L47: 255.2 | M47: 741 | N47: 126.38 | O47: 387.53 | P47: 465.79 | Q47: 520 | R47: 1295 | U47: 824 | V47: 461.33 | W47: 120 | X47: 9 | Y47: 266.5 | Z47: 533 | AA47: 431 | AB47: 400 | AC47: 289 | AD47: 135 | AE47: 838 | AG47: 175 | AH47: 252 | AI47: 208 | AJ47: 295.45 | AK47: 99 | AL47: 72.75 | AM47: 47.1 | AN47: 260 | AO47: 325 | AQ47: 420 | AS47: 288.51 | AT47: 90 | AU47: 83.33 | AV47: 80.67 | AW47: 82.85 | AX47: 81.43 | AY47: 63.75 | AZ47: 95.38 | BA47: 74 | BB47: 65 | BC47: 111.33 | BD47: 346 | BE47: 552 | BF47: 666 | BG47: 320 | BH47: 585 | BJ47: 51 | BK47: 63 | BL47: 42 | BM47: 43 | BN47: 64 | BO47: 280 | BP47: 175.56 | BQ47: 30
B48: ЦЕНА ЗА ГРАММ (покупная) | C48: руб | D48: =D47/1000 -> 0.10727 | E48: =E47/1000 -> 0.114 | F48: =F47/1000 -> 0.083 | G48: =G47/1000 -> 0.744 | H48: =H47/1000 -> 1.74 | I48: =I47/1000 -> 0.96 | J48: =J47/1000 -> 0.09057 | K48: =K47/1000 -> 1.17333 | ... BR48: =BR47/1000 -> 0
B49: Израсходовано на сумму (за граммы) | D49: =D36*D47 -> 9.6543 | E49: =E36*E47 -> 5.7 | F49: =F36*F47 -> 3.32 | G49: =G36*G47 -> 0.744 | H49: =H36*H47 -> 1.74 | I49: =I36*I47 -> 0 | J49: =J36*J47 -> 10.32498 | K49: =K36*K47 -> 22.29327 | ... BR49: =BR36*BR47 -> 0 | BS49: =SUM(D49:BQ49) -> 188.37568 | BT49: =BS49/$C$11 -> 188.37568
B50: Израсходовано на сумму (за кг) | D50: =#REF!*D48 -> #REF! | E50: =E36*E47 -> 5.7 | F50: =F36*F47 -> 3.32 | G50: =G36*G47 -> 0.744 | H50: =H36*H47 -> 1.74 | I50: =I36*I47 -> 0 | J50: =J36*J47 -> 10.32498 | K50: =K36*K47 -> 22.29327 | L50: =L36*L47 -> 5.8696 | ... BR50: =BR36*BR47 -> 0 | BS50: =SUM(D50:BQ50) -> #REF! | BT50: =BS50/$C$11 -> #REF!
B51: P/S: Итого к выдаче Яйцо- указано в шт. | D51: =D37*D49 -> 0 | E51: =E37*E49 -> 0 | F51: =F68+F86+F102+F118 -> 2.905 | G51: =G68+G86+G102+G118 -> 0.372 | H51: =H68+H86+H102+H118 -> 2.088 | I51: =I68+I86+I102+I118 -> 0 | J51: =J68+J86+J102+J118 -> 10.32498 | K51: =K68+K86+K102+K118 -> 21.11994 | L51: =L68+L86+L102+L118 -> 6.6352 | M51: =M68+M86+M102+M118 -> 0 | ... BR51: =BR68+BR86+BR102+BR118 -> 0
B52: Цена за яйцо, указана за 1 шт. | BT52: =BT67+BT85+BT101+BT117 -> 126.32748
B55: Наименование продуктов | C55: Кол-во человек | D55: =D9 -> Хлеб пшеничный | E55: =E9 -> Хлеб ржано-пшеничный | F55: =F9 -> Сахар | G55: =G9 -> Чай | H55: =H9 -> Какао | I55: =I9 -> Кофейный напиток | J55: =J9 -> Молоко 2,5% | K55: =K9 -> Масло сливочное | ... BQ55: =BQ9 -> Соль | BR55: Аскорбиновая кислота | BS55: Итого расход за день | BT55: ИТОГО на 1 Чел
...

Sheet СВО  3-7 лет 
A1: Утверждаю
A2: Заведующий МКДОУ Ташаринский детский сад "Лесовичок" | H2: Меню - требование на выдачу продуктов питания
A3: _________________ Чугуева Т.В.
A4: подпись | H4: Учреждение МКДОУ "Ташаринский детский сад"Лесовичок"
H5: Ответственное лицо Романашенко Г.М.
B8: СВО | D8: детей в количестве | F8: 1 | G8: человек (3-7 лет) на | J8: ='3-7 лет (день 1)'!J7 -> 46311
B9: Наименование продуктов | C9: Кол-во человек | D9: =[1]Цены!A1 -> Хлеб пшеничный | E9: =[1]Цены!B1 -> Хлеб ржано-пшеничный | F9: =[1]Цены!C1 -> Сахар | G9: =[1]Цены!D1 -> Чай | H9: =[1]Цены!E1 -> Какао | I9: =[1]Цены!F1 -> Кофейный напиток | J9: =[1]Цены!G1 -> Молоко 2,5% | K9: =[1]Цены!H1 -> Масло сливочное | ... AF9: =[1]Цены!AC1 -> Лимон | AG9: Банан | AH9: =[1]Цены!AE1 -> Сок | AI9: Яблоко | AJ9: =[1]Цены!AD1 -> Кисель | AK9: =[1]Цены!AE1 -> Сок | AL9: =[1]Цены!AF1 -> Макаронные изделия | AM9: =[1]Цены!AG1 -> Мука | AN9: =[1]Цены!AH1 -> Дрожжи | AO9: =[1]Цены!AI1 -> Печенье | AP9: =[1]Цены!AJ1 -> Пряники | AQ9: =[1]Цены!AK1 -> Вафли | ... BQ9: =[1]Цены!BK1 -> Соль | BR9: Лимонная кислота | BS9: Итого расход за день | BT9: ИТОГО на 1 Чел
B10: Меню
A11: Завтрак | B11: ='3-7 лет (день 1)'!B10 -> Кукурузная каша молочная | C11: =$F$8 -> 1 | F11: 0.004 | K11: 0.003 | M11: 0.0165 | AW11: 0.02 | BQ11: 0.0005
B12: ='3-7 лет (день 1)'!B11 -> Бутерброд с маслом | D12: 0.03 | K12: 0.005
B13: ='3-7 лет (день 1)'!B12 -> Какао с молоком | F13: 0.01 | H13: 0.0012 | J13: 0.09
B14: ='3-7 лет (день 1)'!B13 -> 0
B15: ='3-7 лет (день 1)'!B14 -> Салат из зелёного горошка с луком репчатым
A16: Второй завтрак | B16: Яблоко | C16: =F8 -> 1 | AI16: 0.114
B17: Банан
A19: Обед | B19: ='3-7 лет (день 1)'!B17 -> Свекольник | C19: =F8 -> 1 | K19: 0.002 | L19: 0.003 | BF19: 0.01 | BJ19: 0.06 | BK19: 0.01 | BL19: 0.01 | BN19: 0.07 | BO19: 0.003 | BP19: 0.002 | BQ19: 0.002
B20: ='3-7 лет (день 1)'!B18 -> Суфле рыбное | D20: 0.01 | X20: 0.16666667 | BH20: 0.05 | BL20: 0.01 | BP20: 0.002 | BQ20: 0.002
B21: ='3-7 лет (день 1)'!B19 -> Соус сметанный | K21: 0.001 | L21: 0.01 | AM21: 0.0006
B22: ='3-7 лет (день 1)'!B20 -> Картофельное пюре | J22: 0.024 | K22: 0.002 | BJ22: 0.18 | BQ22: 0.001
B23: ='3-7 лет (день 1)'!B21 -> Хлеб пшеничный | D23: 0.03
B24: ='3-7 лет (день 1)'!B22 -> Хлеб ржано-пшеничный | E24: 0.05
B25: ='3-7 лет (день 1)'!B23 -> Кисель | F25: 0.01 | AJ25: 0.02 | BR25: 5e-05
A26: Полдник | B26: ='3-7 лет (день 1)'!B24 -> Снежок | C26: =$F$8 -> 1 | N26: 0.15
B27: ='3-7 лет (день 1)'!B25 -> Манник со сгущенным молоком | F27: 0.005 | K27: 0.002 | L27: 0.01 | P27: 0.007 | X27: 0.142 | AX27: 0.0204 | BP27: 0.0012
B28: ='3-7 лет (день 1)'!B26 -> Яблоко
A31: Ужин | B31: ='3-7 лет (день 1)'!B29 -> Макароны отварные с маслом | C31: =$F$8 -> 1 | K31: 0.004 | AL31: 0.03 | BQ31: 0.0005
B32: ='3-7 лет (день 1)'!B30 -> Хлеб пшеничный | D32: 0.02
B33: ='3-7 лет (день 1)'!B31 -> Чай с сахаром | F33: 0.01 | G33: 0.0005
B36: Итого на 1 чел | D36: =SUM(D11:D35) -> 0.09 | E36: =SUM(E11:E35) -> 0.05 | F36: =SUM(F11:F35) -> 0.039 | G36: =SUM(G11:G35) -> 0.0005 | H36: =SUM(H11:H35) -> 0.0012 | I36: =SUM(I11:I35) -> 0 | J36: =SUM(J11:J35) -> 0.114 | K36: =SUM(K11:K35) -> 0.019 | ... BR36: =SUM(BR11:BR35) -> 5e-05
B37: К выдаче, ГРАММ (на всех) | D37: =ROUND(PRODUCT(D36,$F$8),3) -> 0.09 | E37: =ROUND(PRODUCT(E36,$F$8),3) -> 0.05 | F37: =ROUND(PRODUCT(F36,$F$8),3) -> 0.039 | G37: =ROUND(PRODUCT(G36,$F$8),3) -> 0.001 | H37: =ROUND(PRODUCT(H36,$F$8),3) -> 0.001 | I37: =ROUND(PRODUCT(I36,$F$8),3) -> 0 | J37: =ROUND(PRODUCT(J36,$F$8),3) -> 0.114 | K37: =ROUND(PRODUCT(K36,$F$8),3) -> 0.019 | ... BR37: =ROUND(PRODUCT(BR36,$F$8),3) -> 0
D40: Ответственный калькулятор | H40: _________________ | K40: С.В.Залевская
D41: исполнитель | F41: должность | H41: подпись
F43: Повар | H43: ___________________ | K43: ='3-7 лет (день 1)'!K42 -> 0
H44: подпись
B49: ЦЕНА ЗА КИЛОГРАММ (покупная) | C49: руб | D49: 107.27 | E49: 114 | F49: 83 | G49: 744 | H49: 1740 | I49: 960 | J49: 90.57 | K49: 1173.33 | L49: 255.2 | M49: 741 | N49: 126.38 | O49: 387.53 | P49: 465.79 | Q49: 520 | R49: 1295 | U49: 824 | V49: 461.33 | W49: 120 | X49: 9 | Y49: 266.5 | Z49: 533 | AA49: 431 | AB49: 400 | AC49: 289 | AD49: 135 | AE49: 838 | AG49: 175 | AH49: 252 | AI49: 208 | AJ49: 295.45 | AK49: 99 | AL49: 72.75 | AM49: 47.1 | AN49: 260 | AO49: 325 | AQ49: 420 | AS49: 288.51 | AT49: 90 | AU49: 83.33 | AV49: 80.67 | AW49: 82.85 | AX49: 81.43 | AY49: 63.75 | AZ49: 95.38 | BA49: 74 | BB49: 65 | BC49: 111.33 | BD49: 346 | BE49: 552 | BF49: 666 | BG49: 320 | BH49: 585 | BJ49: 51 | BK49: 63 | BL49: 42 | BM49: 43 | BN49: 64 | BO49: 280 | BP49: 175.56 | BQ49: 30
B50: ЦЕНА ЗА ГРАММ (покупная) | C50: руб | D50: =D49/1000 -> 0.10727 | E50: =E49/1000 -> 0.114 | F50: =F49/1000 -> 0.083 | G50: =G49/1000 -> 0.744 | H50: =H49/1000 -> 1.74 | I50: =I49/1000 -> 0.96 | J50: =J49/1000 -> 0.09057 | K50: =K49/1000 -> 1.17333 | ... BR50: =BR49/1000 -> 0
B51: Израсходовано на сумму (за граммы) | D51: =D37*D49 -> 9.6543 | E51: =E37*E49 -> 5.7 | F51: =F37*F49 -> 3.237 | G51: =G37*G49 -> 0.744 | H51: =H37*H49 -> 1.74 | I51: =I37*I49 -> 0 | J51: =J37*J49 -> 10.32498 | K51: =K37*K49 -> 22.29327 | ... BR51: =BR37*BR49 -> 0 | BS51: =SUM(D51:BQ51) -> 188.29268 | BT51: =BS51/$C$11 -> 188.29268
B52: Израсходовано на сумму (за кг) | D52: =D37*D49 -> 9.6543 | E52: =E37*E49 -> 5.7 | F52: =F37*F49 -> 3.237 | G52: =G37*G49 -> 0.744 | H52: =H37*H49 -> 1.74 | I52: =I37*I49 -> 0 | J52: =J37*J49 -> 10.32498 | K52: =K37*K49 -> 22.29327 | ... BR52: =BR37*BR49 -> 0 | BS52: =SUM(D52:BQ52) -> 188.29268 | BT52: =BS52/$C$11 -> 188.29268
B53: P/S: Итого к выдаче Яйцо- указано в шт. | D53: =D70+D88+D104+D120 -> 9.6543 | E53: =E70+E88+E104+E120 -> 5.7 | F53: =F70+F88+F104+F120 -> 3.237 | G53: =G70+G88+G104+G120 -> 0.372 | H53: =H70+H88+H104+H120 -> 2.088 | I53: =I70+I88+I104+I120 -> 0 | J53: =J70+J88+J104+J120 -> 10.32498 | K53: =K70+K88+K104+K120 -> 22.29327 | ... BR53: =BR70+BR88+BR104+BR120 -> 0
B54: Цена за яйцо, указана за 1 шт. | BT54: =BT69+BT87+BT103+BT119 -> 126.32748
...

Sheet 3-7 лет (день 1)
A1: Утверждаю
A2: Заведующий МКДОУ Ташаринский детский сад "Лесовичок" | H2: Меню - требование на выдачу продуктов питания
A3: _________________ Чугуева Т.В.
A4: подпись | H4: Учреждение МКДОУ "Ташаринский детский сад"Лесовичок"
H5: Ответственное лицо Романашенко Г.М.
D7: детей в количестве | F7: 1 | G7: человек (3-7 лет) на | J7: 46311
B8: Наименование продуктов | C8: Кол-во человек | D8: =[1]Цены!A1 -> Хлеб пшеничный | E8: =[1]Цены!B1 -> Хлеб ржано-пшеничный | F8: =[1]Цены!C1 -> Сахар | G8: =[1]Цены!D1 -> Чай | H8: =[1]Цены!E1 -> Какао | I8: =[1]Цены!F1 -> Кофейный напиток | J8: =[1]Цены!G1 -> Молоко 2,5% | K8: =[1]Цены!H1 -> Масло сливочное | ... AE8: =[1]Цены!AB1 -> Ягода свежемороженная | AF8: Апельсин | AG8: Банан | AH8: =[1]Цены!AC1 -> Лимон | AI8: Яблоко | AJ8: =[1]Цены!AD1 -> Кисель | AK8: =[1]Цены!AE1 -> Сок | AL8: =[1]Цены!AF1 -> Макаронные изделия | AM8: =[1]Цены!AG1 -> Мука | AN8: =[1]Цены!AH1 -> Дрожжи | AO8: =[1]Цены!AI1 -> Печенье | AP8: =[1]Цены!AJ1 -> Пряники | AQ8: =[1]Цены!AK1 -> Вафли | ... BQ8: =[1]Цены!BK1 -> Соль | BR8: Лимонная кислота | BS8: Итого расход за день | BT8: ИТОГО на 1 Чел
B9: Меню
A10: Завтрак | B10: Кукурузная каша молочная | C10: =$F$7 -> 1 | F10: 0.005 | K10: 0.003 | M10: 0.0165 | AW10: 0.02 | BQ10: 0.0005
B11: Бутерброд с маслом | D11: 0.03 | K11: 0.005
B12: Какао с молоком | F12: 0.01 | H12: 0.0012 | J12: 0.09
B14: Салат из зелёного горошка с луком репчатым
A15: Второй завтрак | B15: Яблоко | C15: =F7 -> 1 | AI15: 0.114
B16: Банан
A17: Обед | B17: Свекольник | C17: =F7 -> 1 | K17: 0.002 | L17: 0.003 | BF17: 0.01 | BJ17: 0.06 | BK17: 0.01 | BL17: 0.01 | BN17: 0.07 | BO17: 0.003 | BP17: 0.002 | BQ17: 0.002
B18: Суфле рыбное | D18: 0.01 | X18: 0.16666667 | BH18: 0.05 | BL18: 0.01 | BP18: 0.002 | BQ18: 0.002
B19: Соус сметанный | K19: 0.001 | L19: 0.01 | AM19: 0.0006
B20: Картофельное пюре | J20: 0.024 | K20: 0.002 | BJ20: 0.18 | BQ20: 0.001
B21: Хлеб пшеничный | D21: 0.03
B22: Хлеб ржано-пшеничный | E22: 0.05
B23: Кисель | F23: 0.01 | AJ23: 0.02 | BR23: 5e-05
A24: Полдник | B24: Снежок | C24: =$F$7 -> 1 | N24: 0.15
B25: Манник со сгущенным молоком | F25: 0.005 | K25: 0.002 | L25: 0.01 | P25: 0.007 | X25: 0.142 | AX25: 0.0204 | BP25: 0.0012
B26: Яблоко
A29: Ужин | B29: Макароны отварные с маслом | C29: =$F$7 -> 1 | K29: 0.004 | AL29: 0.03 | BQ29: 0.0005
B30: Хлеб пшеничный | D30: 0.02
B31: Чай с сахаром | F31: 0.01 | G31: 0.0005
B34: Итого на 1 чел | D34: =SUM(D10:D33) -> 0.09 | E34: =SUM(E10:E33) -> 0.05 | F34: =SUM(F10:F33) -> 0.04 | G34: =SUM(G10:G33) -> 0.0005 | H34: =SUM(H10:H33) -> 0.0012 | I34: =SUM(I10:I33) -> 0 | J34: =SUM(J10:J33) -> 0.114 | K34: =SUM(K10:K33) -> 0.019 | ... BR34: =SUM(BR10:BR33) -> 5e-05
B35: К выдаче, ГРАММ (на всех) | D35: =ROUND(PRODUCT(D34,$F$7),3) -> 0.09 | E35: =ROUND(PRODUCT(E34,$F$7),3) -> 0.05 | F35: =ROUND(PRODUCT(F34,$F$7),3) -> 0.04 | G35: =ROUND(PRODUCT(G34,$F$7),3) -> 0.001 | H35: =ROUND(PRODUCT(H34,$F$7),3) -> 0.001 | I35: =ROUND(PRODUCT(I34,$F$7),3) -> 0 | J35: =ROUND(PRODUCT(J34,$F$7),3) -> 0.114 | K35: =ROUND(PRODUCT(K34,$F$7),3) -> 0.019 | ... BR35: =ROUND(PRODUCT(BR34,$F$7),3) -> 0
D36: =D35+'1-3 года (день 1 )'!D35+'СВО 3-7 лет '!D37+'3-7 лет ОВЗ'!D36 -> 0.34 | E36: =E35+'1-3 года (день 1 )'!E35+'СВО 3-7 лет '!E37+'3-7 лет ОВЗ'!E36 -> 0.19 | F36: =F35+'1-3 года (день 1 )'!F35+'СВО 3-7 лет '!F37+'3-7 лет ОВЗ'!F36 -> 0.155 | G36: =G35+'1-3 года (день 1 )'!G35+'СВО 3-7 лет '!G37+'3-7 лет ОВЗ'!G36 -> 0.003 | H36: =H35+'1-3 года (день 1 )'!H35+'СВО 3-7 лет '!H37+'3-7 лет ОВЗ'!H36 -> 0.004 | I36: =I35+'1-3 года (день 1 )'!I35+'СВО 3-7 лет '!I37+'3-7 лет ОВЗ'!I36 -> 0 | J36: =J35+'1-3 года (день 1 )'!J35+'СВО 3-7 лет '!J37+'3-7 лет ОВЗ'!J36 -> 0.441 | K36: =K35+'1-3 года (день 1 )'!K35+'СВО 3-7 лет '!K37+'3-7 лет ОВЗ'!K36 -> 0.073 | ... BR36: =BR35+'1-3 года (день 1 )'!BR35+'СВО 3-7 лет '!BR37+'3-7 лет ОВЗ'!BR36 -> 0 | BS36: =SUM(D36:BQ36) -> 5.567
D39: Ответственный калькулятор | H39: _________________ | K39: С.В.Залевская
D40: исполнитель | F40: должность | H40: подпись
F42: Повар | H42: ___________________
H43: подпись
B50: ЦЕНА ЗА КИЛОГРАММ (покупная) | C50: руб | D50: 107.27 | E50: 114 | F50: 83 | G50: 744 | H50: 1740 | I50: 960 | J50: 90.57 | K50: 1173.33 | L50: 255.2 | M50: 741 | N50: 126.38 | O50: 387.53 | P50: 465.79 | Q50: 520 | R50: 1295 | U50: 824 | V50: 461.33 | W50: 120 | X50: 9 | Y50: 266.5 | Z50: 533 | AA50: 431 | AB50: 400 | AC50: 289 | AD50: 135 | AE50: 838 | AG50: 175 | AH50: 252 | AI50: 208 | AJ50: 295.45 | AK50: 99 | AL50: 72.75 | AM50: 47.1 | AN50: 260 | AO50: 325 | AQ50: 420 | AS50: 288.51 | AT50: 90 | AU50: 83.33 | AV50: 80.67 | AW50: 82.85 | AX50: 81.43 | AY50: 63.75 | AZ50: 95.38 | BA50: 74 | BB50: 65 | BC50: 111.33 | BD50: 346 | BE50: 552 | BF50: 666 | BG50: 320 | BH50: 585 | BJ50: 51 | BK50: 63 | BL50: 42 | BM50: 43 | BN50: 64 | BO50: 280 | BP50: 175.56 | BQ50: 30
B51: ЦЕНА ЗА ГРАММ (покупная) | C51: руб | D51: =D50/1000 -> 0.10727 | E51: =E50/1000 -> 0.114 | F51: =F50/1000 -> 0.083 | G51: =G50/1000 -> 0.744 | H51: =H50/1000 -> 1.74 | I51: =I50/1000 -> 0.96 | J51: =J50/1000 -> 0.09057 | K51: =K50/1000 -> 1.17333 | ... BR51: =BR50/1000 -> 0
B52: Израсходовано на сумму (за граммы) | D52: =D35*D50 -> 9.6543 | E52: =E35*E50 -> 5.7 | F52: =F35*F50 -> 3.32 | G52: =G35*G50 -> 0.744 | H52: =H35*H50 -> 1.74 | I52: =I35*I50 -> 0 | J52: =J35*J50 -> 10.32498 | K52: =K35*K50 -> 22.29327 | ... BR52: =BR35*BR50 -> 0 | BS52: =SUM(D52:BQ52) -> 188.37568 | BT52: =BS52/$C$10 -> 188.37568
B53: Израсходовано на сумму (за кг) | D53: =D36*D51 -> 0.0364718 | E53: =E35*E50 -> 5.7 | F53: =F35*F50 -> 3.32 | G53: =G35*G50 -> 0.744 | H53: =H35*H50 -> 1.74 | I53: =I35*I50 -> 0 | J53: =J35*J50 -> 10.32498 | K53: =K35*K50 -> 22.29327 | L53: =L35*L50 -> 5.8696 | ... BR53: =BR35*BR50 -> 0 | BS53: =SUM(D53:BQ53) -> 178.75785 | BT53: =BS53/$C$10 -> 178.75785
B54: P/S: Итого к выдаче Яйцо- указано в шт. | D54: =D38*D52 -> 0 | E54: =E38*E52 -> 0 | F54: =F71+F89+F105+F121 -> 2.905 | G54: =G71+G89+G105+G121 -> 0.372 | H54: =H71+H89+H105+H121 -> 2.088 | I54: =I71+I89+I105+I121 -> 0 | J54: =J71+J89+J105+J121 -> 10.32498 | K54: =K71+K89+K105+K121 -> 21.11994 | L54: =L71+L89+L105+L121 -> 6.6352 | M54: =M71+M89+M105+M121 -> 0 | ... BR54: =BR71+BR89+BR105+BR121 -> 0
B55: Цена за яйцо, указана за 1 шт. | BT55: =BT70+BT88+BT104+BT120 -> 126.32748
...

Sheet День 1 до 3 лет
J1: Утверждаю
J2: Заведующий МК ДОУ
J3: Ташаринский детский сад "Лесовичок"
J4: _____________________Т.В. Чугуева
E5: Меню на | G5: ='3-7 лет (день 1)'!J7 -> 46311
A6: Прием пищи | B6: Наименование блюда | C6: Выход блюда | D6: Белки, г | E6: Жиры, г | F6: Углеводы, г | G6: Эн. Цен (ккал) | H6: Ca | I6: Fe | J6: B1 | K6: B2 | L6: C | M6: № рецептуры
A7: День 1 | B7: Дети с 1,5 - 3 лет
A8: Завтрак | B8: ='1-3 года (день 1 )'!B10 -> Кукурузная каша молочная | C8: 150 | D8: 4.37 | E8: 5.45 | F8: 19.17 | G8: 144 | H8: 137.53 | I8: 0.48 | J8: 0.06 | K8: 0.05 | L8: 1.47 | M8: 91
B9: ='1-3 года (день 1 )'!B11 -> Бутерброд с маслом | C9: 20/4 | D9: 1.54 | E9: 3.46 | F9: 9.75 | G9: 78 | H9: 4.48 | I9: 0.23 | J9: 0.02 | K9: 0.02 | L9: 0 | M9: 1
B10: ='1-3 года (день 1 )'!B12 -> Какао с молоком | C10: 150 | D10: 1.25 | E10: 1.33 | F10: 10.08 | G10: 50 | H10: 83.33 | I10: 0.01 | J10: 0.02 | K10: 0.01 | L10: 0.54 | M10: 248
A11: Второй завтрак | B11: Яблоки | C11: 95 | D11: 0.3 | E11: 0.3 | F11: 7.35 | G11: 33 | H11: 12 | I11: 1.65 | J11: 0.02 | K11: 0.01 | L11: 7.5
A12: Обед | B12: ='1-3 года (день 1 )'!B14 -> Салат из зелёного горошка с луком репчатым | C12: 45 | D12: 1.18 | E12: 3.81 | F12: 2.93 | G12: 50.25 | H12: 9.23 | I12: 0.3 | J12: 0.04 | K12: 0.03 | L12: 2.4
B13: Банан | C13: 95 | D13: 0.67 | E13: 0.14 | F13: 17.25 | G13: 73 | H13: 25.8 | I13: 0.26 | J13: 0.02 | K13: 0.02 | L13: 44.86
A14: Обед | B14: ='3-7 лет (день 1)'!B17 -> Свекольник | C14: 200 | D14: 3.38 | E14: 5.2 | F14: 11.03 | G14: 116.11 | H14: 38.04 | I14: 1.31 | J14: 0.07 | K14: 0.05 | L14: 7.97 | M14: 34
B15: ='3-7 лет (день 1)'!B18 -> Суфле рыбное | C15: 70 | D15: 4.55 | E15: 7.44 | F15: 13.3 | G15: 135.89 | H15: 31.59 | I15: 0.5 | J15: 0.03 | K15: 0.06 | L15: 0.04 | M15: 146
B16: ='3-7 лет (день 1)'!B19 -> Соус сметанный | C16: 20 | D16: 0.3 | E16: 3.37 | F16: 1.08 | G16: 30 | H16: 8.35 | I16: 0.03 | J16: 0 | K16: 0.07 | L16: 0.04 | M16: 226
B17: ='3-7 лет (день 1)'!B20 -> Картофельное пюре | C17: 120 | D17: 2.44 | E17: 4.19 | F17: 14.45 | G17: 113.6 | H17: 36.94 | I17: 0.85 | J17: 0.11 | K17: 0.08 | L17: 14.36 | M17: 206
B18: ='3-7 лет (день 1)'!B21 -> Хлеб пшеничный | C18: 20 | D18: 1.57 | E18: 0.2 | F18: 9.65 | G18: 48 | H18: 4.6 | I18: 0.4 | J18: 0.03 | K18: 0.005 | L18: 0
B19: ='3-7 лет (день 1)'!B22 -> Хлеб ржано-пшеничный | C19: 40 | D19: 2.64 | E19: 0.48 | F19: 13.36 | G19: 69.6 | H19: 14 | I19: 1.56 | J19: 0.072 | K19: 0.032 | L19: 0
B20: ='3-7 лет (день 1)'!B23 -> Кисель | C20: 150 | D20: 0 | E20: 0 | F20: 13.5 | G20: 46.5 | H20: 0.37 | I20: 0.06 | J20: 0 | K20: 0 | L20: 0 | M20: 233
A22: Полдник | B22: ='3-7 лет (день 1)'!B24 -> Снежок | C22: 140 | D22: 4.06 | E22: 4.48 | F22: 5.6 | G22: 82.6 | H22: 18.82 | I22: 0.44 | J22: 0.06 | K22: 0.05 | L22: 1.19 | M22: 251
B23: ='3-7 лет (день 1)'!B25 -> Манник со сгущенным молоком | C23: 50/25 | D23: 4.29 | E23: 8.22 | F23: 24.07 | G23: 145.3 | H23: 84.35 | I23: 0.28 | J23: 0.04 | K23: 0.05 | L23: 0.37 | M23: 274
B24: Яблоки | C24: 75 | D24: 0.3 | E24: 0.3 | F24: 7.35 | G24: 33 | H24: 12 | I24: 1.65 | J24: 0.02 | K24: 0.01 | L24: 7.5
A26: Ужин | B26: ='3-7 лет (день 1)'!B29 -> Макароны отварные с маслом | C26: 120 | D26: 2.7 | E26: 2.28 | F26: 51.18 | G26: 156.18 | H26: 18.93 | I26: 0.3 | J26: 0.1 | K26: 0.05 | L26: 0.12 | M26: 106
B27: ='3-7 лет (день 1)'!B30 -> Хлеб пшеничный | C27: 30 | D27: 2.355 | E27: 0.3 | F27: 14.475 | G27: 72 | H27: 6.9 | I27: 0.6 | J27: 0.045 | K27: 0.0075 | L27: 0
B28: ='3-7 лет (день 1)'!B31 -> Чай с сахаром | C28: 150/9 | D28: 0 | E28: 0 | F28: 8.98 | G28: 30 | H28: 0.27 | I28: 0.05 | J28: 0 | K28: 0 | L28: 0.27 | M28: 263, 264
B29: ВСЕГО за день | D29: =SUM(D8:D28) -> 37.895 | E29: =SUM(E8:E28) -> 50.95 | F29: =SUM(F8:F28) -> 237.305 | G29: =SUM(G8:G28) -> 1507.03 | H29: =SUM(H8:H28) -> 547.53 | I29: =SUM(I8:I28) -> 10.96 | J29: =SUM(J8:J28) -> 0.757 | K29: =SUM(K8:K28) -> 0.6045 | L29: =SUM(L8:L28) -> 88.63
A31: Ответственный за питание _________________________ С.В.Залевская

Sheet День 1 от 3 лет
J1: Утверждаю
J2: Заведующий МК ДОУ
J3: Ташаринский детский сад "Лесовичок"
J4: __________________ Т.В. Чугуева
E5: Меню на | G5: ='3-7 лет (день 1)'!J7 -> 46311
A6: Прием пищи | B6: Наименование блюда | C6: Выход блюда | D6: Белки, г | E6: Жиры, г | F6: Углеводы, г | G6: Эн. Цен (ккал) | H6: Ca | I6: Fe | J6: B1 | K6: B2 | L6: C | M6: № рецептуры
A7: День 1 | B7: Дети с 3 - 7 лет
A8: Завтрак | B8: ='3-7 лет (день 1)'!B10 -> Кукурузная каша молочная | C8: 200 | D8: 5.83 | E8: 7.27 | F8: 25.56 | G8: 192 | H8: 183.3 | I8: 0.64 | J8: 0.08 | K8: 0.07 | L8: 1.96 | M8: 91
B9: ='3-7 лет (день 1)'!B11 -> Бутерброд с маслом | C9: 30/5 | D9: 2.3 | E9: 4.36 | F9: 14.62 | G9: 108 | H9: 6.6 | I9: 0.34 | J9: 0.03 | K9: 0.03 | L9: 0 | M9: 1
B10: ='3-7 лет (день 1)'!B12 -> Какао с молоком | C10: 180 | D10: 1.5 | E10: 1.6 | F10: 12.1 | G10: 60 | H10: 100 | I10: 0.02 | J10: 0.02 | K10: 0.01 | L10: 0.65 | M10: 248
A12: Обед | B12: ='3-7 лет (день 1)'!B14 -> Салат из зелёного горошка с луком репчатым | C12: 60 | D12: 1.57 | E12: 5.08 | F12: 3.9 | G12: 67 | H12: 12.3 | I12: 0.4 | J12: 0.05 | K12: 0.04 | L12: 3.2
A13: Второй завтрак | B13: Яблоки | C13: 100 | D13: 0.4 | E13: 0.4 | F13: 9.8 | G13: 44 | H13: 16 | I13: 2.2 | J13: 0.03 | K13: 0.02 | L13: 10
B14: Банан | C14: 100 | D14: 0.9 | E14: 0.2 | F14: 23.07 | G14: 98 | H14: 34.5 | I14: 0.35 | J14: 0.04 | K14: 0.03 | L14: 60
A15: Обед | B15: ='3-7 лет (день 1)'!B17 -> Свекольник | C15: 250 | D15: 4.22 | E15: 6.5 | F15: 13.77 | G15: 145 | H15: 47.51 | I15: 1.64 | J15: 0.09 | K15: 0.06 | L15: 9.95 | M15: 34
B16: ='3-7 лет (день 1)'!B18 -> Суфле рыбное | C16: 80 | D16: 9.58 | E16: 12.16 | F16: 8.06 | G16: 179.89 | H16: 36.1 | I16: 0.57 | J16: 0.03 | K16: 0.07 | L16: 0.05 | M16: 146
B17: ='3-7 лет (день 1)'!B19 -> Соус сметанный | C17: 30 | D17: 0.45 | E17: 5.06 | F17: 1.62 | G17: 45 | H17: 12.53 | I17: 0.05 | J17: 0 | K17: 0.1 | L17: 0.06 | M17: 226
B18: ='3-7 лет (день 1)'!B20 -> Картофельное пюре | C18: 150 | D18: 3.05 | E18: 5.24 | F18: 18.06 | G18: 142 | H18: 46.18 | I18: 1.06 | J18: 0.14 | K18: 0.1 | L18: 17.95 | M18: 206
B19: ='3-7 лет (день 1)'!B21 -> Хлеб пшеничный | C19: 20 | D19: 1.57 | E19: 0.2 | F19: 9.65 | G19: 48 | H19: 4.6 | I19: 0.4 | J19: 0.03 | K19: 0.005 | L19: 0
B20: ='3-7 лет (день 1)'!B22 -> Хлеб ржано-пшеничный | C20: 50 | D20: 3.3 | E20: 0.6 | F20: 16.7 | G20: 87 | H20: 17.5 | I20: 1.95 | J20: 0.09 | K20: 0.04 | L20: 0
B21: ='3-7 лет (день 1)'!B23 -> Кисель | C21: 200 | D21: 0 | E21: 0 | F21: 18 | G21: 60 | H21: 0.48 | I21: 0.07 | J21: 0 | K21: 0 | L21: 0 | M21: 233
A23: Полдник | B23: ='3-7 лет (день 1)'!B24 -> Снежок | C23: 150 | D23: 4.35 | E23: 4.8 | F23: 6 | G23: 88.5 | H23: 180 | I23: 0.15 | J23: 0.05 | K23: 0.26 | L23: 1.05 | M23: 251
B24: ='3-7 лет (день 1)'!B25 -> Манник со сгущенным молоком | C24: 60/30 | D24: 5.15 | E24: 9.86 | F24: 28.88 | G24: 186.9 | H24: 101.22 | I24: 0.33 | J24: 0.05 | K24: 0.06 | L24: 0.44 | M24: 274
B25: Яблоки | C25: 100 | D25: 0.4 | E25: 0.4 | F25: 9.8 | G25: 44 | H25: 16 | I25: 2.2 | J25: 0.03 | K25: 0.02 | L25: 10
A27: Ужин | B27: ='3-7 лет (день 1)'!B29 -> Макароны отварные с маслом | C27: 200 | D27: 5.78 | E27: 4.42 | F27: 81.65 | G27: 389.52 | H27: 31.55 | I27: 0.5 | J27: 0.17 | K27: 0.07 | L27: 0.2 | M27: 106
B28: ='3-7 лет (день 1)'!B30 -> Хлеб пшеничный | C28: 30 | D28: 2.355 | E28: 0.3 | F28: 14.475 | G28: 72 | H28: 6.9 | I28: 0.6 | J28: 0.045 | K28: 0.0075 | L28: 0
B29: ='3-7 лет (день 1)'!B31 -> Чай с сахаром | C29: 180/12 | D29: 0 | E29: 0 | F29: 11.98 | G29: 43 | H29: 0.35 | I29: 0.06 | J29: 0 | K29: 0 | L29: 0 | M29: 263, 264
B30: ВСЕГО за день | D30: =SUM(D8:D29) -> 52.705 | E30: =SUM(E8:E29) -> 68.45 | F30: =SUM(F8:F29) -> 327.695 | G30: =SUM(G8:G29) -> 2099.81 | H30: =SUM(H8:H29) -> 853.62 | I30: =SUM(I8:I29) -> 13.53 | J30: =SUM(J8:J29) -> 0.975 | K30: =SUM(K8:K29) -> 0.9925 | L30: =SUM(L8:L29) -> 115.51
A32: Ответственный за питание _________________________ С.В.Залевская

Sheet БГП
A1: ='3-7 лет (день 1)'!J7 -> 46311
A2: Час изготовления блюда | B2: Время снятия бракеража | C2: Наименование блюда, кулинарного изделия | D2: Результаты органолептической оценки и степени готовности блюда, кулинарного изделия | E2: Разрешение к реализации блюда, кулинарного изделия | F2: Подписи членов бракеражной комиссии | G2: Примечание
A5: Завтрак 7:00-8:30 | B5: 0.36111111 | C5: ='3-7 лет (день 1)'!B10 -> Кукурузная каша молочная | D5: отлично | E5: разрешено
C6: ='3-7 лет (день 1)'!B11 -> Бутерброд с маслом | D6: отлично | E6: разрешено
C7: ='3-7 лет (день 1)'!B12 -> Какао с молоком | D7: отлично | E7: разрешено
A8: Второй завтрак 10:00-10:20 | B8: 0.4375 | C8: Яблоко | D8: отлично | E8: разрешено
A10: Обед 9:00-11:30 | B10: 0.48611111 | C10: ='3-7 лет (день 1)'!B17 -> Свекольник | D10: отлично | E10: разрешено
C11: ='3-7 лет (день 1)'!B18 -> Суфле рыбное | D11: отлично | E11: разрешено
C12: ='3-7 лет (день 1)'!B19 -> Соус сметанный | D12: отлично | E12: разрешено
C13: ='3-7 лет (день 1)'!B20 -> Картофельное пюре | D13: отлично | E13: разрешено
C14: ='3-7 лет (день 1)'!B21 -> Хлеб пшеничный | D14: отлично | E14: разрешено
C15: ='3-7 лет (день 1)'!B22 -> Хлеб ржано-пшеничный | D15: отлично | E15: разрешено
C16: ='3-7 лет (день 1)'!B23 -> Кисель | D16: отлично | E16: разрешено
A18: Полдник 13:00-15:00 | B18: 0.63888889 | C18: ='3-7 лет (день 1)'!B24 -> Снежок | D18: отлично | E18: разрешено
C19: ='3-7 лет (день 1)'!B25 -> Манник со сгущенным молоком | D19: отлично | E19: разрешено
A20: Ужин 15:00-16:30 | B20: 0.69444444 | C20: ='3-7 лет (день 1)'!B29 -> Макароны отварные с маслом | D20: отлично | E20: разрешено
C21: ='3-7 лет (день 1)'!B30 -> Хлеб пшеничный | D21: отлично | E21: разрешено
C22: ='3-7 лет (день 1)'!B31 -> Чай с сахаром | D22: отлично | E22: разрешено
