Workbook

Sheet 1-3 года (день 1 )
A1: Утверждаю
A2: Заведующий МКДОУ Ташаринский детский сад "Лесовичок" | H2: Меню - требование на выдачу продуктов питания
A3: _________________ Чугуева Т.В.
A4: подпись | H4: Учреждение МКДОУ "Ташаринский детский сад"Лесовичок"
H5: Ответственное лицо Романашенко Г.М.
D7: детей в количестве | F7: 1 | G7: человек (1,5-2 года) на | J7: ='3-7 лет (день 1)'!J7 -> 46311
B8: Наименование продуктов | C8: Кол-во человек | D8: =[1]Цены!A1 -> Хлеб пшеничный | E8: =[1]Цены!B1 -> Хлеб ржано-пшеничный | F8: =[1]Цены!C1 -> Сахар | G8: =[1]Цены!D1 -> Чай | H8: =[1]Цены!E1 -> Какао | I8: =[1]Цены!F1 -> Кофейный напиток | J8: =[1]Цены!G1 -> Молоко 2,5% | K8: =[1]Цены!H1 -> Масло сливочное | ... AE8: =[1]Цены!AB1 -> Ягода свежемороженная | AF8: ='3-7 лет (день 1)'!AF8:AF9 -> Апельсин | AG8: ='3-7 лет (день 1)'!AG8:AG9 -> Банан | AH8: ='3-7 лет (день 1)'!AH8:AH9 -> Лимон | AI8: ='3-7 лет (день 1)'!AI8:AI9 -> Яблоко | AJ8: =[1]Цены!AD1 -> Кисель | AK8: =[1]Цены!AE1 -> Сок | AL8: =[1]Цены!AF1 -> Макаронные изделия | AM8: =[1]Цены!AG1 -> Мука | AN8: =[1]Цены!AH1 -> Дрожжи | AO8: =[1]Цены!AI1 -> Печенье | AP8: =[1]Цены!AJ1 -> Пряники | AQ8: =[1]Цены!AK1 -> Вафли | ... BQ8: =[1]Цены!BK1 -> Соль | BR8: Лимонная кислота | BS8: Итого расход за день | BT8: ИТОГО на 1 Чел
B9: Меню
A10: Завтрак | B10: ='3-7 лет (день 1)'!B10 -> Кукурузная каша молочная | C10: =$F$7 -> 1 | F10: 0.004 | K10: 0.002 | M10: 0.0124 | AW10: 0.015 | BQ10: 0.0005
B11: ='3-7 лет (день 1)'!B11 -> Бутерброд с маслом | D11: 0.02 | K11: 0.004
B12: ='3-7 лет (день 1)'!B12 -> Какао с молоком | F12: 0.009 | H12: 0.001 | J12: 0.08
B13: ='3-7 лет (день 1)'!B13 -> 0
B14: ='3-7 лет (день 1)'!B14 -> Салат из зелёного горошка с луком репчатым
A15: Второй завтрак | B15: Яблоко | C15: =F7 -> 1 | AI15: 0.108
B16: Банан
A17: Обед | B17: ='3-7 лет (день 1)'!B17 -> Свекольник | C17: =F7 -> 1 | K17: 0.002 | L17: 0.002 | BF17: 0.008 | BJ17: 0.051 | BK17: 0.01 | BL17: 0.008 | BN17: 0.055 | BO17: 0.002 | BP17: 0.001 | BQ17: 0.001
B18: ='3-7 лет (день 1)'!B18 -> Суфле рыбное | D18: 0.01 | X18: 0.14285714 | BH18: 0.04 | BL18: 0.005 | BP18: 0.001 | BQ18: 0.001
B19: ='3-7 лет (день 1)'!B19 -> Соус сметанный | K19: 0.0005 | L19: 0.007 | AM19: 0.00054
B20: ='3-7 лет (день 1)'!B20 -> Картофельное пюре | J20: 0.019 | K20: 0.002 | BJ20: 0.17 | BQ20: 0.001
B21: ='3-7 лет (день 1)'!B21 -> Хлеб пшеничный | D21: 0.02
B22: ='3-7 лет (день 1)'!B22 -> Хлеб ржано-пшеничный | E22: 0.04
B23: ='3-7 лет (день 1)'!B23 -> Кисель | F23: 0.01 | AJ23: 0.018 | BR23: 3.5e-05
A24: Полдник | B24: ='3-7 лет (день 1)'!B24 -> Снежок | C24: =$F$7 -> 1 | N24: 0.14
B25: ='3-7 лет (день 1)'!B25 -> Манник со сгущенным молоком | F25: 0.004 | K25: 0.002 | L25: 0.007 | P25: 0.005 | X25: 0.125 | AX25: 0.017 | BP25: 0.0009
B26: ='3-7 лет (день 1)'!B26 -> Яблоко
A29: Ужин | B29: ='3-7 лет (день 1)'!B29 -> Макароны отварные с маслом | C29: =$F$7 -> 1 | K29: 0.003 | AL29: 0.03 | BQ29: 0.0005
B30: ='3-7 лет (день 1)'!B30 -> Хлеб пшеничный | D30: 0.02
B31: ='3-7 лет (день 1)'!B31 -> Чай с сахаром | F31: 0.009 | G31: 0.0004
B34: Итого на 1 чел | D34: =SUM(D10:D33) -> 0.07 | E34: =SUM(E10:E33) -> 0.04 | F34: =SUM(F10:F33) -> 0.036 | G34: =SUM(G10:G33) -> 0.0004 | H34: =SUM(H10:H33) -> 0.001 | I34: =SUM(I10:I33) -> 0 | J34: =SUM(J10:J33) -> 0.099 | K34: =SUM(K10:K33) -> 0.0155 | ... BR34: =SUM(BR10:BR33) -> 3.5e-05
B35: Итого к выдаче, ГРАММ (на всех) | D35: =ROUND(PRODUCT(D34,$F$7),3) -> 0.07 | E35: =ROUND(PRODUCT(E34,$F$7),3) -> 0.04 | F35: =ROUND(PRODUCT(F34,$F$7),3) -> 0.036 | G35: =ROUND(PRODUCT(G34,$F$7),3) -> 0 | H35: =ROUND(PRODUCT(H34,$F$7),3) -> 0.001 | I35: =ROUND(PRODUCT(I34,$F$7),3) -> 0 | J35: =ROUND(PRODUCT(J34,$F$7),3) -> 0.099 | K35: =ROUND(PRODUCT(K34,$F$7),3) -> 0.016 | ... BR35: =ROUND(PRODUCT(BR34,$F$7),3) -> 0
D38: Ответственный калькулятор | H38: _________________ | K38: С.В.Залевская
D39: исполнитель | F39: должность | H39: подпись
F41: Повар | H41: ___________________ | K41: ='3-7 лет (день 1)'!K42 -> 0
H42: подпись
B47: ЦЕНА ЗА КИЛОГРАММ (покупная) | C47: руб | D47: 107.27 | E47: 114 | F47: 83 | G47: 744 | H47: 1740 | I47: 960 | J47: 90.57 | K47: 1173.33 | L47: 255.2 | M47: 741 | N47: 126.38 | O47: 387.53 | P47: 465.79 | Q47: 520 | R47: 1295 | U47: 824 | V47: 461.33 | W47: 120 | X47: 9 | Y47: 266.5 | Z47: 533 | AA47: 431 | AB47: 400 | AC47: 289 | AD47: 135 | AE47: 838 | AG47: 175 | AH47: 252 | AI47: 208 | AJ47: 295.45 | AK47: 99 | AL47: 72.75 | AM47: 47.1 | AN47: 260 | AO47: 325 | AQ47: 420 | AS47: 288.51 | AT47: 90 | AU47: 83.33 | AV47: 80.67 | AW47: 82.85 | AX47: 81.43 | AY47: 63.75 | AZ47: 95.38 | BA47: 74 | BB47: 65 | BC47: 111.33 | BD47: 346 | BE47: 552 | BF47: 666 | BG47: 320 | BH47: 585 | BJ47: 51 | BK47: 63 | BL47: 42 | BM47: 43 | BN47: 64 | BO47: 280 | BP47: 175.56 | BQ47: 30
B48: ЦЕНА ЗА ГРАММ (покупная) | C48: руб | D48: =D47/1000 -> 0.10727 | E48: =E47/1000 -> 0.114 | F48: =F47/1000 -> 0.083 | G48: =G47/1000 -> 0.744 | H48: =H47/1000 -> 1.74 | I48: =I47/1000 -> 0.96 | J48: =J47/1000 -> 0.09057 | K48: =K47/1000 -> 1.17333 | ... BR48: =BR47/1000 -> 0
B49: Израсходовано на сумму (за граммы) | D49: =D35*D47 -> 7.5089 | E49: =E35*E47 -> 4.56 | F49: =F35*F47 -> 2.988 | G49: =G35*G47 -> 0 | H49: =H35*H47 -> 1.74 | I49: =I35*I47 -> 0 | J49: =J35*J47 -> 8.96643 | K49: =K35*K47 -> 18.77328 | ... BR49: =BR35*BR47 -> 0 | BS49: =SUM(D49:BQ49) -> 158.4864 | BT49: =BS49/$C$10 -> 158.4864
B50: Израсходовано на сумму (за кг) | D50: =D35*D47 -> 7.5089 | E50: =E35*E47 -> 4.56 | F50: =F35*F47 -> 2.988 | G50: =G35*G47 -> 0 | H50: =H35*H47 -> 1.74 | I50: =I35*I47 -> 0 | J50: =J35*J47 -> 8.96643 | K50: =K35*K47 -> 18.77328 | ... BR50: =BR35*BR47 -> 0 | BS50: =SUM(D50:BR50) -> 158.4864 | BT50: =BS50/$C$10 -> 158.4864
B51: P/S: Итого к выдаче Яйцо- указано в шт.
B52: Цена за яйцо, указана за 1 шт. | BT52: =BT67+BT85+BT101+BT117 -> 134.84923
B55: Наименование продуктов | C55: Кол-во человек | D55: =D8 -> Хлеб пшеничный | E55: =E8 -> Хлеб ржано-пшеничный | F55: =F8 -> Сахар | G55: =G8 -> Чай | H55: =H8 -> Какао | I55: =I8 -> Кофейный напиток | J55: =J8 -> Молоко 2,5% | K55: =K8 -> Масло сливочное | ... V55: =V8 -> Огурцы консервирован. | X55: =X8 -> Яйцо | Y55: =Y8 -> Икра кабачковая | Z55: =Z8 -> Изюм | AA55: =AA8 -> Курага | AB55: =AB8 -> Чернослив | AC55: =AC8 -> Шиповник | AD55: =AD8 -> Сухофрукты | AE55: =AE8 -> Ягода свежемороженная | ... BQ55: =BQ8 -> Соль | BR55: Аскорбиновая кислота | BS55: Итого расход за день | BT55: ИТОГО на 1 Чел
B56: Меню
A57: Завтрак | B57: Кукурузная каша молочная | C57: =$F$7 -> 1 | D57: =D10 -> 0 | E57: =E10 -> 0 | F57: =F10 -> 0.004 | G57: =G10 -> 0 | H57: =H10 -> 0 | I57: =I10 -> 0 | J57: =J10 -> 0 | K57: =K10 -> 0.002 | ... BO57: =BO10 -> 0
B58: Бутерброд с джемом | D58: =D11 -> 0.02 | E58: =E11 -> 0 | F58: =F11 -> 0 | G58: =G11 -> 0 | H58: =H11 -> 0 | I58: =I11 -> 0 | J58: =J11 -> 0 | K58: =K11 -> 0.004 | ... BO58: =BO11 -> 0
B59: Какао с молоком | D59: =D12 -> 0 | E59: =E12 -> 0 | F59: =F12 -> 0.009 | G59: =G12 -> 0 | H59: =H12 -> 0.001 | I59: =I12 -> 0 | J59: =J12 -> 0.08 | K59: =K12 -> 0 | ... BO59: =BO12 -> 0
D60: =D13 -> 0 | E60: =E13 -> 0 | F60: =F13 -> 0 | G60: =G13 -> 0 | H60: =H13 -> 0 | I60: =I13 -> 0 | J60: =J13 -> 0 | K60: =K13 -> 0 | ... BO60: =BO13 -> 0
D61: =D14 -> 0 | E61: =E14 -> 0 | F61: =F14 -> 0 | G61: =G14 -> 0 | H61: =H14 -> 0 | I61: =I14 -> 0 | J61: =J14 -> 0 | K61: =K14 -> 0 | ... BO61: =BO14 -> 0
B62: Итого на 1 чел | D62: =SUM(D57:D61) -> 0.02 | E62: =SUM(E57:E61) -> 0 | F62: =SUM(F57:F61) -> 0.013 | G62: =SUM(G57:G61) -> 0 | H62: =SUM(H57:H61) -> 0.001 | I62: =SUM(I57:I61) -> 0 | J62: =SUM(J57:J61) -> 0.08 | K62: =SUM(K57:K61) -> 0.006 | ... BO62: =SUM(BO57:BO61) -> 0
B63: Итого к выдаче, ГРАММ (на всех) | D63: =PRODUCT(D62,$F$7) -> 0.02 | E63: =PRODUCT(E62,$F$7) -> 0 | F63: =PRODUCT(F62,$F$7) -> 0.013 | G63: =PRODUCT(G62,$F$7) -> 0 | H63: =PRODUCT(H62,$F$7) -> 0.001 | I63: =PRODUCT(I62,$F$7) -> 0 | J63: =PRODUCT(J62,$F$7) -> 0.08 | K63: =PRODUCT(K62,$F$7) -> 0.006 | ... BO63: =PRODUCT(BO62,$F$7) -> 0
B65: ЦЕНА ЗА КИЛОГРАММ (покупная) | C65: руб | D65: =D47 -> 107.27 | E65: =E47 -> 114 | F65: =F47 -> 83 | G65: =G47 -> 744 | H65: =H47 -> 1740 | I65: =I47 -> 960 | J65: =J47 -> 90.57 | K65: =K47 -> 1173.33 | ... AE65: =AE47 -> 838 | AH65: =AH47 -> 252 | AJ65: =AJ47 -> 295.45 | AK65: =AK47 -> 99 | AL65: =AL47 -> 72.75 | AM65: =AM47 -> 47.1 | AN65: =AN47 -> 260 | AO65: =AO47 -> 325 | AP65: =AP47 -> 0 | AQ65: =AQ47 -> 420 | ... BQ65: =BQ47 -> 30 | BR65: 6
B66: ЦЕНА ЗА ГРАММ (покупная) | C66: руб | D66: =D65/1000 -> 0.10727 | E66: =E65/1000 -> 0.114 | F66: =F65/1000 -> 0.083 | G66: =G65/1000 -> 0.744 | H66: =H65/1000 -> 1.74 | I66: =I65/1000 -> 0.96 | J66: =J65/1000 -> 0.09057 | K66: =K65/1000 -> 1.17333 | ... BR66: =BR65/1000 -> 0.006
B67: Израсходовано на сумму (за граммы) | D67: =D63*D65 -> 2.1454 | E67: =E63*E65 -> 0 | F67: =F63*F65 -> 1.079 | G67: =G63*G65 -> 0 | H67: =H63*H65 -> 1.74 | I67: =I63*I65 -> 0 | J67: =J63*J65 -> 7.2456 | K67: =K63*K65 -> 7.03998 | ... BR67: =BR63*BR65 -> 0 | BS67: =SUM(D67:BQ67) -> 29.68113 | BT67: =BS67/$C$10 -> 29.68113
B68: Израсходовано на сумму (за кг) | D68: =D63*D65 -> 2.1454 | E68: =E63*E65 -> 0 | F68: =F63*F65 -> 1.079 | G68: =G63*G65 -> 0 | H68: =H63*H65 -> 1.74 | I68: =I63*I65 -> 0 | J68: =J63*J65 -> 7.2456 | K68: =K63*K65 -> 7.03998 | ... BR68: =BR63*BR65 -> 0 | BS68: =SUM(D68:BR68) -> 29.68113 | BT68: =BS68/$C$10 -> 29.68113
B71: Наименование продуктов | C71: Кол-во человек | D71: =D55 -> Хлеб пшеничный | E71: =E55 -> Хлеб ржано-пшеничный | F71: =F55 -> Сахар | G71: =G55 -> Чай | H71: =H55 -> Какао | I71: =I55 -> Кофейный напиток | J71: =J55 -> Молоко 2,5% | K71: =K55 -> Масло сливочное | ... V71: =V55 -> Огурцы консервирован. | X71: =X55 -> Яйцо | Y71: =Y55 -> Икра кабачковая | Z71: =Z55 -> Изюм | AA71: =AA55 -> Курага | AB71: =AB55 -> Чернослив | AC71: =AC55 -> Шиповник | AD71: =AD55 -> Сухофрукты | AE71: =AE55 -> Ягода свежемороженная | ... BQ71: =BQ55 -> Соль | BR71: Аскорбиновая кислота | BS71: Итого расход за день | BT71: ИТОГО на 1 Чел
B72: Меню
B73: Суп с лапшой | D73: =D17 -> 0 | E73: =E17 -> 0 | F73: =F17 -> 0 | G73: =G17 -> 0 | H73: =H17 -> 0 | I73: =I17 -> 0 | J73: =J17 -> 0 | K73: =K17 -> 0.002 | ... BR73: =BR17 -> 0
B74: Суфле рыбное | D74: =D18 -> 0.01 | E74: =E18 -> 0 | F74: =F18 -> 0 | G74: =G18 -> 0 | H74: =H18 -> 0 | I74: =I18 -> 0 | J74: =J18 -> 0 | K74: =K18 -> 0 | ... BR74: =BR18 -> 0
B75: Соус сметанный | D75: =D19 -> 0 | E75: =E19 -> 0 | F75: =F19 -> 0 | G75: =G19 -> 0 | H75: =H19 -> 0 | I75: =I19 -> 0 | J75: =J19 -> 0 | K75: =K19 -> 0.0005 | ... BR75: =BR19 -> 0
B76: Картофельное пюре | D76: =D20 -> 0 | E76: =E20 -> 0 | F76: =F20 -> 0 | G76: =G20 -> 0 | H76: =H20 -> 0 | I76: =I20 -> 0 | J76: =J20 -> 0.019 | K76: =K20 -> 0.002 | ... BR76: =BR20 -> 0
B77: Хлеб пшеничный | D77: =D21 -> 0.02 | E77: =E21 -> 0 | F77: =F21 -> 0 | G77: =G21 -> 0 | H77: =H21 -> 0 | I77: =I21 -> 0 | J77: =J21 -> 0 | K77: =K21 -> 0 | ... BR77: =BR21 -> 0
B78: Хлеб ржано-пшеничный | D78: =D22 -> 0 | E78: =E22 -> 0.04 | F78: =F22 -> 0 | G78: =G22 -> 0 | H78: =H22 -> 0 | I78: =I22 -> 0 | J78: =J22 -> 0 | K78: =K22 -> 0 | ... BR78: =BR22 -> 0
B79: Кисель | D79: =D23 -> 0 | E79: =E23 -> 0 | F79: =F23 -> 0.01 | G79: =G23 -> 0 | H79: =H23 -> 0 | I79: =I23 -> 0 | J79: =J23 -> 0 | K79: =K23 -> 0 | ... BR79: =BR23 -> 3.5e-05
B80: Итого на 1 чел | D80: =SUM(D73:D79) -> 0.03 | E80: =SUM(E73:E79) -> 0.04 | F80: =SUM(F73:F79) -> 0.01 | G80: =SUM(G73:G79) -> 0 | H80: =SUM(H73:H79) -> 0 | I80: =SUM(I73:I79) -> 0 | J80: =SUM(J73:J79) -> 0.019 | K80: =SUM(K73:K79) -> 0.0045 | ... BR80: =SUM(BR73:BR79) -> 3.5e-05
B81: Итого к выдаче, ГРАММ (на всех) | D81: =PRODUCT(D80,$F$7) -> 0.03 | E81: =PRODUCT(E80,$F$7) -> 0.04 | F81: =PRODUCT(F80,$F$7) -> 0.01 | G81: =PRODUCT(G80,$F$7) -> 0 | H81: =PRODUCT(H80,$F$7) -> 0 | I81: =PRODUCT(I80,$F$7) -> 0 | J81: =PRODUCT(J80,$F$7) -> 0.019 | K81: =PRODUCT(K80,$F$7) -> 0.0045 | ... BR81: =PRODUCT(BR80,$F$7) -> 3.5e-05
B83: ЦЕНА ЗА КИЛОГРАММ (покупная) | C83: руб | D83: =D47 -> 107.27 | E83: =E47 -> 114 | F83: =F47 -> 83 | G83: =G47 -> 744 | H83: =H47 -> 1740 | I83: =I47 -> 960 | J83: =J47 -> 90.57 | K83: =K47 -> 1173.33 | ... AE83: =AE47 -> 838 | AH83: =AH47 -> 252 | AJ83: =AJ47 -> 295.45 | AK83: =AK47 -> 99 | AL83: =AL47 -> 72.75 | AM83: =AM47 -> 47.1 | AN83: =AN47 -> 260 | AO83: =AO47 -> 325 | AP83: =AP47 -> 0 | AQ83: =AQ47 -> 420 | ... BQ83: =BQ47 -> 30 | BR83: 6
B84: ЦЕНА ЗА ГРАММ (покупная) | C84: руб | D84: =D83/1000 -> 0.10727 | E84: =E83/1000 -> 0.114 | F84: =F83/1000 -> 0.083 | G84: =G83/1000 -> 0.744 | H84: =H83/1000 -> 1.74 | I84: =I83/1000 -> 0.96 | J84: =J83/1000 -> 0.09057 | K84: =K83/1000 -> 1.17333 | ... BR84: =BR83/1000 -> 0.006
B85: Израсходовано на сумму (за граммы) | D85: =D81*D83 -> 3.2181 | E85: =E81*E83 -> 4.56 | F85: =F81*F83 -> 0.83 | G85: =G81*G83 -> 0 | H85: =H81*H83 -> 0 | I85: =I81*I83 -> 0 | J85: =J81*J83 -> 1.72083 | K85: =K81*K83 -> 5.279985 | ... BR85: =BR81*BR83 -> 0.00021 | BS85: =SUM(D85:BQ85) -> 70.231083 | BT85: =BS85/$C$10 -> 70.231083
B86: Израсходовано на сумму (за кг) | D86: =D81*D83 -> 3.2181 | E86: =E81*E83 -> 4.56 | F86: =F81*F83 -> 0.83 | G86: =G81*G83 -> 0 | H86: =H81*H83 -> 0 | I86: =I81*I83 -> 0 | J86: =J81*J83 -> 1.72083 | K86: =K81*K83 -> 5.279985 | ... BR86: =BR81*BR83 -> 0.00021 | BS86: =SUM(D86:BR86) -> 70.231293 | BT86: =BS86/$C$10 -> 70.231293
J88: 11 | K88: детей в количестве | S88: на 22.03.2019 | AJ88: человек (1,5 - 3 года)
B89: Наименование продуктов | C89: Кол-во человек | D89: =D55 -> Хлеб пшеничный | E89: =E55 -> Хлеб ржано-пшеничный | F89: =F55 -> Сахар | G89: =G55 -> Чай | H89: =H55 -> Какао | I89: =I55 -> Кофейный напиток | J89: =J55 -> Молоко 2,5% | K89: =K55 -> Масло сливочное | ... V89: =V55 -> Огурцы консервирован. | X89: =X55 -> Яйцо | Y89: =Y55 -> Икра кабачковая | Z89: =Z55 -> Изюм | AA89: =AA55 -> Курага | AB89: =AB55 -> Чернослив | AC89: =AC55 -> Шиповник | AD89: =AD55 -> Сухофрукты | AE89: =AE55 -> Ягода свежемороженная | ... BQ89: =BQ55 -> Соль | BR89: Аскорбиновая кислота | BS89: Итого расход за день | BT89: ИТОГО на 1 Чел
B90: Меню
A91: Полдник | B91: Чай с лимоном | C91: =$F$7 -> 1 | D91: =D24 -> 0 | E91: =E24 -> 0 | F91: =F24 -> 0 | G91: =G24 -> 0 | H91: =H24 -> 0 | I91: =I24 -> 0 | J91: =J24 -> 0 | K91: =K24 -> 0 | ... BR91: =BR24 -> 0
B92: Манник с молоком сгущенным | D92: =D25 -> 0 | E92: =E25 -> 0 | F92: =F25 -> 0.004 | G92: =G25 -> 0 | H92: =H25 -> 0 | I92: =I25 -> 0 | J92: =J25 -> 0 | K92: =K25 -> 0.002 | ... BR92: =BR25 -> 0
D93: =D26 -> 0 | E93: =E26 -> 0 | F93: =F26 -> 0 | G93: =G26 -> 0 | H93: =H26 -> 0 | I93: =I26 -> 0 | J93: =J26 -> 0 | K93: =K26 -> 0 | ... BR93: =BR26 -> 0
D94: =D27 -> 0 | E94: =E27 -> 0 | F94: =F27 -> 0 | G94: =G27 -> 0 | H94: =H27 -> 0 | I94: =I27 -> 0 | J94: =J27 -> 0 | K94: =K27 -> 0 | ... BR94: =BR27 -> 0
D95: =D28 -> 0 | E95: =E28 -> 0 | F95: =F28 -> 0 | G95: =G28 -> 0 | H95: =H28 -> 0 | I95: =I28 -> 0 | J95: =J28 -> 0 | K95: =K28 -> 0 | ... BR95: =BR28 -> 0
B96: Итого на 1 чел | D96: =SUM(D91:D95) -> 0 | E96: =SUM(E91:E95) -> 0 | F96: =SUM(F91:F95) -> 0.004 | G96: =SUM(G91:G95) -> 0 | H96: =SUM(H91:H95) -> 0 | I96: =SUM(I91:I95) -> 0 | J96: =SUM(J91:J95) -> 0 | K96: =SUM(K91:K95) -> 0.002 | ... BR96: =SUM(BR91:BR95) -> 0
B97: Итого к выдаче, ГРАММ (на всех) | D97: =PRODUCT(D96,$F$7) -> 0 | E97: =PRODUCT(E96,$F$7) -> 0 | F97: =PRODUCT(F96,$F$7) -> 0.004 | G97: =PRODUCT(G96,$F$7) -> 0 | H97: =PRODUCT(H96,$F$7) -> 0 | I97: =PRODUCT(I96,$F$7) -> 0 | J97: =PRODUCT(J96,$F$7) -> 0 | K97: =PRODUCT(K96,$F$7) -> 0.002 | ... W97: =PRODUCT(W96,$F$7) -> 0 | X97: 0 | Y97: =PRODUCT(Y96,$F$7) -> 0 | Z97: =PRODUCT(Z96,$F$7) -> 0 | AA97: =PRODUCT(AA96,$F$7) -> 0 | AB97: =PRODUCT(AB96,$F$7) -> 0 | AC97: =PRODUCT(AC96,$F$7) -> 0 | AD97: =PRODUCT(AD96,$F$7) -> 0 | AE97: =PRODUCT(AE96,$F$7) -> 0 | AF97: =PRODUCT(AF96,$F$7) -> 0 | ... BR97: =PRODUCT(BR96,$F$7) -> 0
B99: ЦЕНА ЗА КИЛОГРАММ (покупная) | C99: руб | D99: =D47 -> 107.27 | E99: =E47 -> 114 | F99: =F47 -> 83 | G99: =G47 -> 744 | H99: =H47 -> 1740 | I99: =I47 -> 960 | J99: =J47 -> 90.57 | K99: =K47 -> 1173.33 | ... AE99: =AE47 -> 838 | AH99: =AH47 -> 252 | AJ99: =AJ47 -> 295.45 | AK99: =AK47 -> 99 | AL99: =AL47 -> 72.75 | AM99: =AM47 -> 47.1 | AN99: =AN47 -> 260 | AO99: =AO47 -> 325 | AP99: =AP47 -> 0 | AQ99: =AQ47 -> 420 | ... BQ99: =BQ47 -> 30 | BR99: 6
B100: ЦЕНА ЗА ГРАММ (покупная) | C100: руб | D100: =D99/1000 -> 0.10727 | E100: =E99/1000 -> 0.114 | F100: =F99/1000 -> 0.083 | G100: =G99/1000 -> 0.744 | H100: =H99/1000 -> 1.74 | I100: =I99/1000 -> 0.96 | J100: =J99/1000 -> 0.09057 | K100: =K99/1000 -> 1.17333 | ... BR100: =BR99/1000 -> 0.006
B101: Израсходовано на сумму (за граммы) | D101: =D97*D99 -> 0 | E101: =E97*E99 -> 0 | F101: =F97*F99 -> 0.332 | G101: =G97*G99 -> 0 | H101: =H97*H99 -> 0 | I101: =I97*I99 -> 0 | J101: =J97*J99 -> 0 | K101: =K97*K99 -> 2.34666 | ... BR101: =BR97*BR99 -> 0 | BS101: =SUM(D101:BQ101) -> 26.029524 | BT101: =BS101/$C$10 -> 26.029524
B102: Израсходовано на сумму (за кг) | D102: =D97*D99 -> 0 | E102: =E97*E99 -> 0 | F102: =F97*F99 -> 0.332 | G102: =G97*G99 -> 0 | H102: =H97*H99 -> 0 | I102: =I97*I99 -> 0 | J102: =J97*J99 -> 0 | K102: =K97*K99 -> 2.34666 | ... BR102: =BR97*BR99 -> 0 | BS102: =SUM(D102:BR102) -> 26.029524 | BT102: =BS102/$C$10 -> 26.029524
B105: Наименование продуктов | C105: Кол-во человек | D105: =D55 -> Хлеб пшеничный | E105: =E55 -> Хлеб ржано-пшеничный | F105: =F55 -> Сахар | G105: =G55 -> Чай | H105: =H55 -> Какао | I105: =I55 -> Кофейный напиток | J105: =J55 -> Молоко 2,5% | K105: =K55 -> Масло сливочное | ... V105: =V55 -> Огурцы консервирован. | X105: =X55 -> Яйцо | Y105: =Y55 -> Икра кабачковая | Z105: =Z55 -> Изюм | AA105: =AA55 -> Курага | AB105: =AB55 -> Чернослив | AC105: =AC55 -> Шиповник | AD105: =AD55 -> Сухофрукты | AE105: =AE55 -> Ягода свежемороженная | ... BQ105: =BQ55 -> Соль | BR105: Аскорбиновая кислота | BS105: Итого расход за день | BT105: ИТОГО на 1 Чел
B106: Меню
A107: Ужин | B107: Плов вегетарианский с изюмом | C107: =$F$7 -> 1 | D107: =D29 -> 0 | E107: =E29 -> 0 | F107: =F29 -> 0 | G107: =G29 -> 0 | H107: =H29 -> 0 | I107: =I29 -> 0 | J107: =J29 -> 0 | K107: =K29 -> 0.003 | ... BR107: =BR29 -> 0
B108: Хлеб пшеничный | D108: =D30 -> 0.02 | E108: =E30 -> 0 | F108: =F30 -> 0 | G108: =G30 -> 0 | H108: =H30 -> 0 | I108: =I30 -> 0 | J108: =J30 -> 0 | K108: =K30 -> 0 | ... BR108: =BR30 -> 0
B109: Чай с сахаром | D109: =D31 -> 0 | E109: =E31 -> 0 | F109: =F31 -> 0.009 | G109: =G31 -> 0.0004 | H109: =H31 -> 0 | I109: =I31 -> 0 | J109: =J31 -> 0 | K109: =K31 -> 0 | ... BR109: =BR31 -> 0
D110: =D32 -> 0 | E110: =E32 -> 0 | F110: =F32 -> 0 | G110: =G32 -> 0 | H110: =H32 -> 0 | I110: =I32 -> 0 | J110: =J32 -> 0 | K110: =K32 -> 0 | ... BR110: =BR32 -> 0
D111: =D33 -> 0 | E111: =E33 -> 0 | F111: =F33 -> 0 | G111: =G33 -> 0 | H111: =H33 -> 0 | I111: =I33 -> 0 | J111: =J33 -> 0 | K111: =K33 -> 0 | ... BR111: =BR33 -> 0
B112: Итого на 1 чел | D112: =SUM(D107:D111) -> 0.02 | E112: =SUM(E107:E111) -> 0 | F112: =SUM(F107:F111) -> 0.009 | G112: =SUM(G107:G111) -> 0.0004 | H112: =SUM(H107:H111) -> 0 | I112: =SUM(I107:I111) -> 0 | J112: =SUM(J107:J111) -> 0 | K112: =SUM(K107:K111) -> 0.003 | ... BR112: =SUM(BR107:BR111) -> 0
B113: Итого к выдаче, ГРАММ (на всех) | D113: =PRODUCT(D112,$F$7) -> 0.02 | E113: =PRODUCT(E112,$F$7) -> 0 | F113: =PRODUCT(F112,$F$7) -> 0.009 | G113: =PRODUCT(G112,$F$7) -> 0.0004 | H113: =PRODUCT(H112,$F$7) -> 0 | I113: =PRODUCT(I112,$F$7) -> 0 | J113: =PRODUCT(J112,$F$7) -> 0 | K113: =PRODUCT(K112,$F$7) -> 0.003 | ... BR113: =PRODUCT(BR112,$F$7) -> 0
B115: ЦЕНА ЗА КИЛОГРАММ (покупная) | C115: руб | D115: =D47 -> 107.27 | E115: =E47 -> 114 | F115: =F47 -> 83 | G115: =G47 -> 744 | H115: =H47 -> 1740 | I115: =I47 -> 960 | J115: =J47 -> 90.57 | K115: =K47 -> 1173.33 | ... AE115: =AE47 -> 838 | AH115: =AH47 -> 252 | AJ115: =AJ47 -> 295.45 | AK115: =AK47 -> 99 | AL115: =AL47 -> 72.75 | AM115: =AM47 -> 47.1 | AN115: =AN47 -> 260 | AO115: =AO47 -> 325 | AP115: =AP47 -> 0 | AQ115: =AQ47 -> 420 | ... BQ115: =BQ47 -> 30 | BR115: 6
B116: ЦЕНА ЗА ГРАММ (покупная) | C116: руб | D116: =D115/1000 -> 0.10727 | E116: =E115/1000 -> 0.114 | F116: =F115/1000 -> 0.083 | G116: =G115/1000 -> 0.744 | H116: =H115/1000 -> 1.74 | J116: =J115/1000 -> 0.09057 | K116: =K115/1000 -> 1.17333 | L116: =L115/1000 -> 0.2552 | M116: =M115/1000 -> 0.741 | N116: =N115/1000 -> 0.12638 | O116: =O115/1000 -> 0.38753 | P116: =P115/1000 -> 0.46579 | Q116: =Q115/1000 -> 0.52 | S116: =S115/1000 -> 0 | T116: =T115/1000 -> 0 | U116: =U115/1000 -> 0.824 | V116: =V115/1000 -> 0.46133 | W116: =W115/1000 -> 0.12 | X116: =X115/1000 -> 0.009 | Y116: =Y115/1000 -> 0.2665 | Z116: =Z115/1000 -> 0.533 | ... AJ116: =AJ115/1000 -> 0.29545 | AL116: =AL115/1000 -> 0.07275 | AM116: =AM115/1000 -> 0.0471 | AN116: =AN115/1000 -> 0.26 | AO116: =AO115/1000 -> 0.325 | AP116: =AP115/1000 -> 0 | AQ116: =AQ115/1000 -> 0.42 | AR116: =AR115/1000 -> 0 | AS116: =AS115/1000 -> 0.28851 | ... BR116: =BR115/1000 -> 0.006
B117: Израсходовано на сумму (за граммы) | D117: =D113*D115 -> 2.1454 | E117: =E113*E115 -> 0 | F117: =F113*F115 -> 0.747 | G117: =G113*G115 -> 0.2976 | H117: =H113*H115 -> 0 | J117: =J113*J115 -> 0 | K117: =K113*K115 -> 3.51999 | L117: =L113*L115 -> 0 | M117: =M113*M115 -> 0 | N117: =N113*N115 -> 0 | O117: =O113*O115 -> 0 | P117: =P113*P115 -> 0 | Q117: =Q113*Q115 -> 0 | S117: =S113*S115 -> 0 | T117: =T113*T115 -> 0 | U117: =U113*U115 -> 0 | V117: =V113*V115 -> 0 | W117: =W113*W115 -> 0 | X117: =X113*X115 -> 0 | Y117: =Y113*Y115 -> 0 | Z117: =Z113*Z115 -> 0 | ... AJ117: =AJ113*AJ115 -> 0 | AL117: =AL113*AL115 -> 2.1825 | AM117: =AM113*AM115 -> 0 | AN117: =AN113*AN115 -> 0 | AO117: =AO113*AO115 -> 0 | AP117: =AP113*AP115 -> 0 | AQ117: =AQ113*AQ115 -> 0 | AR117: =AR113*AR115 -> 0 | AS117: =AS113*AS115 -> 0 | ... BR117: =BR113*BR115 -> 0 | BS117: =SUM(D117:BQ117) -> 8.90749 | BT117: =BS117/$C$10 -> 8.90749
B118: Израсходовано на сумму (за кг) | D118: =D113*D115 -> 2.1454 | E118: =E113*E115 -> 0 | F118: =F113*F115 -> 0.747 | G118: =G113*G115 -> 0.2976 | H118: =H113*H115 -> 0 | J118: =J113*J115 -> 0 | K118: =K113*K115 -> 3.51999 | L118: =L113*L115 -> 0 | M118: =M113*M115 -> 0 | N118: =N113*N115 -> 0 | O118: =O113*O115 -> 0 | P118: =P113*P115 -> 0 | Q118: =Q113*Q115 -> 0 | S118: =S113*S115 -> 0 | T118: =T113*T115 -> 0 | U118: =U113*U115 -> 0 | V118: =V113*V115 -> 0 | W118: =W113*W115 -> 0 | X118: =X113*X115 -> 0 | Y118: =Y113*Y115 -> 0 | Z118: =Z113*Z115 -> 0 | ... AJ118: =AJ113*AJ115 -> 0 | AL118: =AL113*AL115 -> 2.1825 | AM118: =AM113*AM115 -> 0 | AN118: =AN113*AN115 -> 0 | AO118: =AO113*AO115 -> 0 | AP118: =AP113*AP115 -> 0 | AQ118: =AQ113*AQ115 -> 0 | AR118: =AR113*AR115 -> 0 | AS118: =AS113*AS115 -> 0 | ... BR118: =BR113*BR115 -> 0 | BS118: =SUM(D118:BR118) -> 8.90749 | BT118: =BS118/$C$10 -> 8.90749
BT120: =BT68 -> 29.68113
BT121: =BT86 -> 70.231293
BT122: =BT102 -> 26.029524
BT123: =BT118 -> 8.90749

Sheet 3-7 лет ОВЗ
A1: Утверждаю
A2: Заведующий МКДОУ Ташаринский детский сад "Лесовичок" | H2: Меню - требование на выдачу продуктов питания
A3: _________________ Чугуева Т.В.
A4: подпись | H4: Учреждение МКДОУ "Ташаринский детский сад"Лесовичок"
H5: Ответственное лицо Романашенко Г.М.
B8: ОВЗ | D8: детей в количестве | F8: 1 | G8: человек (3-7 лет) на | J8: ='3-7 лет (день 1)'!J7 -> 46311
B9: Наименование продуктов | C9: Кол-во человек | D9: =[1]Цены!A1 -> Хлеб пшеничный | E9: =[1]Цены!B1 -> Хлеб ржано-пшеничный | F9: =[1]Цены!C1 -> Сахар | G9: =[1]Цены!D1 -> Чай | H9: =[1]Цены!E1 -> Какао | I9: =[1]Цены!F1 -> Кофейный напиток | J9: =[1]Цены!G1 -> Молоко 2,5% | K9: =[1]Цены!H1 -> Масло сливочное | ... AE9: =[1]Цены!AB1 -> Ягода свежемороженная | AF9: Апельсин | AG9: Банан | AH9: =[1]Цены!AC1 -> Лимон | AI9: Яблоко | AJ9: =[1]Цены!AD1 -> Кисель | AK9: =[1]Цены!AE1 -> Сок | AL9: =[1]Цены!AF1 -> Макаронные изделия | AM9: =[1]Цены!AG1 -> Мука | AN9: =[1]Цены!AH1 -> Дрожжи | AO9: =[1]Цены!AI1 -> Печенье | AP9: =[1]Цены!AJ1 -> Пряники | AQ9: =[1]Цены!AK1 -> Вафли | ... BQ9: =[1]Цены!BK1 -> Соль | BR9: Лимонная кислота | BS9: Итого расход за день | BT9: ИТОГО на 1 Чел
B10: Меню
A11: Завтрак | B11: Кукурузная каша молочная | C11: =$F$8 -> 1 | F11: 0.005 | K11: 0.003 | M11: 0.0165 | AW11: 0.02 | BQ11: 0.0005
B12: Бутерброд с маслом | D12: 0.03 | K12: 0.005
B13: Какао с молоком | F13: 0.01 | H13: 0.0012 | J13: 0.09
B15: Салат из зелёного горошка с луком репчатым
A16: Второй завтрак | B16: Яблоко | C16: =F8 -> 1 | AI16: 0.114
B17: Банан
A18: Обед | B18: Свекольник | C18: =F8 -> 1 | K18: 0.002 | L18: 0.003 | BF18: 0.01 | BJ18: 0.06 | BK18: 0.01 | BL18: 0.01 | BN18: 0.07 | BO18: 0.003 | BP18: 0.002 | BQ18: 0.002
B19: Суфле рыбное | D19: 0.01 | X19: 0.16666667 | BH19: 0.05 | BL19: 0.01 | BP19: 0.002 | BQ19: 0.002
B20: Соус сметанный | K20: 0.001 | L20: 0.01 | AM20: 0.0006
B21: Картофельное пюре | J21: 0.024 | K21: 0.002 | BJ21: 0.18 | BQ21: 0.001
B22: Хлеб пшеничный | D22: 0.03
B23: Хлеб ржано-пшеничный | E23: 0.05
B24: Кисель | F24: 0.01 | AJ24: 0.02 | BR24: 5e-05
A25: Полдник | B25: Снежок | C25: =$F$8 -> 1 | N25: 0.15
B26: Манник со сгущенным молоком | F26: 0.005 | K26: 0.002 | L26: 0.01 | P26: 0.007 | X26: 0.142 | AX26: 0.0204 | BP26: 0.0012
B27: Яблоко
A30: Ужин | B30: Макароны отварные с маслом | C30: =$F$8 -> 1 | K30: 0.004 | AL30: 0.03 | BQ30: 0.0005
B31: Хлеб пшеничный | D31: 0.02
B32: Чай с сахаром | F32: 0.01 | G32: 0.0005
B35: Итого на 1 чел | D35: =SUM(D11:D34) -> 0.09 | E35: =SUM(E11:E34) -> 0.05 | F35: =SUM(F11:F34) -> 0.04 | G35: =SUM(G11:G34) -> 0.0005 | H35: =SUM(H11:H34) -> 0.0012 | I35: =SUM(I11:I34) -> 0 | J35: =SUM(J11:J34) -> 0.114 | K35: =SUM(K11:K34) -> 0.019 | ... BR35: =SUM(BR11:BR34) -> 5e-05
B36: К выдаче, ГРАММ (на всех) | D36: =ROUND(PRODUCT(D35,$F$8),3) -> 0.09 | E36: =ROUND(PRODUCT(E35,$F$8),3) -> 0.05 | F36: =ROUND(PRODUCT(F35,$F$8),3) -> 0.04 | G36: =ROUND(PRODUCT(G35,$F$8),3) -> 0.001 | H36: =ROUND(PRODUCT(H35,$F$8),3) -> 0.001 | I36: =ROUND(PRODUCT(I35,$F$8),3) -> 0 | J36: =ROUND(PRODUCT(J35,$F$8),3) -> 0.114 | K36: =ROUND(PRODUCT(K35,$F$8),3) -> 0.019 | ... BR36: =ROUND(PRODUCT(BR35,$F$8),3) -> 0
D39: Ответственный калькулятор | H39: _________________ | K39: С.В.Залевская
D40: исполнитель | F40: должность | H40: подпись
F42: Повар | H42: ___________________ | K42: ='3-7 лет (день 1)'!K42 -> 0
H43: подпись
B47: ЦЕНА ЗА КИЛОГРАММ (покупная) | C47: руб | D47: 107.27 | E47: 114 | F47: 83 | G47: 744 | H47: 1740 | I47: 960 | J47: 90.57 | K47: 1173.33 | L47: 255.2 | M47: 741 | N47: 126.38 | O47: 387.53 | P47: 465.79 | Q47: 520 | R47: 1295 | U47: 824 | V47: 461.33 | W47: 120 | X47: 9 | Y47: 266.5 | Z47: 533 | AA47: 431 | AB47: 400 | AC47: 289 | AD47: 135 | AE47: 838 | AG47: 175 | AH47: 252 | AI47: 208 | AJ47: 295.45 | AK47: 99 | AL47: 72.75 | AM47: 47.1 | AN47: 260 | AO47: 325 | AQ47: 420 | AS47: 288.51 | AT47: 90 | AU47: 83.33 | AV47: 80.67 | AW47: 82.85 | AX47: 81.43 | AY47: 63.75 | AZ47: 95.38 | BA47: 74 | BB47: 65 | BC47: 111.33 | BD47: 346 | BE47: 552 | BF47: 666 | BG47: 320 | BH47: 585 | BJ47: 51 | BK47: 63 | BL47: 42 | BM47: 43 | BN47: 64 | BO47: 280 | BP47: 175.56 | BQ47: 30
B48: ЦЕНА ЗА ГРАММ (покупная) | C48: руб | D48: =D47/1000 -> 0.10727 | E48: =E47/1000 -> 0.114 | F48: =F47/1000 -> 0.083 | G48: =G47/1000 -> 0.744 | H48: =H47/1000 -> 1.74 | I48: =I47/1000 -> 0.96 | J48: =J47/1000 -> 0.09057 | K48: =K47/1000 -> 1.17333 | ... BR48: =BR47/1000 -> 0
B49: Израсходовано на сумму (за граммы) | D49: =D36*D47 -> 9.6543 | E49: =E36*E47 -> 5.7 | F49: =F36*F47 -> 3.32 | G49: =G36*G47 -> 0.744 | H49: =H36*H47 -> 1.74 | I49: =I36*I47 -> 0 | J49: =J36*J47 -> 10.32498 | K49: =K36*K47 -> 22.29327 | ... BR49: =BR36*BR47 -> 0 | BS49: =SUM(D49:BQ49) -> 188.37568 | BT49: =BS49/$C$11 -> 188.37568
B50: Израсходовано на сумму (за кг) | D50: =#REF!*D48 -> #REF! | E50: =E36*E47 -> 5.7 | F50: =F36*F47 -> 3.32 | G50: =G36*G47 -> 0.744 | H50: =H36*H47 -> 1.74 | I50: =I36*I47 -> 0 | J50: =J36*J47 -> 10.32498 | K50: =K36*K47 -> 22.29327 | L50: =L36*L47 -> 5.8696 | ... BR50: =BR36*BR47 -> 0 | BS50: =SUM(D50:BQ50) -> #REF! | BT50: =BS50/$C$11 -> #REF!
B51: P/S: Итого к выдаче Яйцо- указано в шт. | D51: =D37*D49 -> 0 | E51: =E37*E49 -> 0 | F51: =F68+F86+F102+F118 -> 2.905 | G51: =G68+G86+G102+G118 -> 0.372 | H51: =H68+H86+H102+H118 -> 2.088 | I51: =I68+I86+I102+I118 -> 0 | J51: =J68+J86+J102+J118 -> 10.32498 | K51: =K68+K86+K102+K118 -> 21.11994 | L51: =L68+L86+L102+L118 -> 6.6352 | M51: =M68+M86+M102+M118 -> 0 | ... BR51: =BR68+BR86+BR102+BR118 -> 0
B52: Цена за яйцо, указана за 1 шт. | BT52: =BT67+BT85+BT101+BT117 -> 126.32748
B55: Наименование продуктов | C55: Кол-во человек | D55: =D9 -> Хлеб пшеничный | E55: =E9 -> Хлеб ржано-пшеничный | F55: =F9 -> Сахар | G55: =G9 -> Чай | H55: =H9 -> Какао | I55: =I9 -> Кофейный напиток | J55: =J9 -> Молоко 2,5% | K55: =K9 -> Масло сливочное | ... BQ55: =BQ9 -> Соль | BR55: Аскорбиновая кислота | BS55: Итого расход за день | BT55: ИТОГО на 1 Чел
B56: Меню
A57: Завтрак | B57: Кукурузная каша молочная | C57: =$F$8 -> 1 | D57: =D12 -> 0.03 | E57: =E12 -> 0 | F57: =F12 -> 0 | G57: =G12 -> 0 | H57: =H12 -> 0 | I57: =I12 -> 0 | J57: =J12 -> 0 | K57: =K12 -> 0.005 | ... BO57: =BO12 -> 0
B58: Бутерброд с джемом | D58: =D13 -> 0 | E58: =E13 -> 0 | F58: =F13 -> 0.01 | G58: =G13 -> 0 | H58: =H13 -> 0.0012 | I58: =I13 -> 0 | J58: =J13 -> 0.09 | K58: =K13 -> 0 | ... BO58: =BO13 -> 0
B59: Какао с молоком | D59: =D14 -> 0 | E59: =E14 -> 0 | F59: =F14 -> 0 | G59: =G14 -> 0 | H59: =H14 -> 0 | I59: =I14 -> 0 | J59: =J14 -> 0 | K59: =K14 -> 0 | ... BO59: =BO14 -> 0
D60: =D15 -> 0 | E60: =E15 -> 0 | F60: =F15 -> 0 | G60: =G15 -> 0 | H60: =H15 -> 0 | I60: =I15 -> 0 | J60: =J15 -> 0 | K60: =K15 -> 0 | ... BO60: =BO15 -> 0
D61: =D18 -> 0 | E61: =E18 -> 0 | F61: =F18 -> 0 | G61: =G18 -> 0 | H61: =H18 -> 0 | I61: =I18 -> 0 | J61: =J18 -> 0 | K61: =K18 -> 0.002 | ... BO61: =BO18 -> 0.003
B62: Итого на 1 чел | D62: =SUM(D57:D61) -> 0.03 | E62: =SUM(E57:E61) -> 0 | F62: =SUM(F57:F61) -> 0.01 | G62: =SUM(G57:G61) -> 0 | H62: =SUM(H57:H61) -> 0.0012 | I62: =SUM(I57:I61) -> 0 | J62: =SUM(J57:J61) -> 0.09 | K62: =SUM(K57:K61) -> 0.007 | ... BO62: =SUM(BO57:BO61) -> 0.003
B63: Итого к выдаче, ГРАММ (на всех) | D63: =PRODUCT(D62,$F$8) -> 0.03 | E63: =PRODUCT(E62,$F$8) -> 0 | F63: =PRODUCT(F62,$F$8) -> 0.01 | G63: =PRODUCT(G62,$F$8) -> 0 | H63: =PRODUCT(H62,$F$8) -> 0.0012 | I63: =PRODUCT(I62,$F$8) -> 0 | J63: =PRODUCT(J62,$F$8) -> 0.09 | K63: =PRODUCT(K62,$F$8) -> 0.007 | ... BO63: =PRODUCT(BO62,$F$8) -> 0.003
B65: ЦЕНА ЗА КИЛОГРАММ (покупная) | C65: руб | D65: =D47 -> 107.27 | E65: =E47 -> 114 | F65: =F47 -> 83 | G65: =G47 -> 744 | H65: =H47 -> 1740 | I65: =I47 -> 960 | J65: =J47 -> 90.57 | K65: =K47 -> 1173.33 | ... BN65: =BN47 -> 64 | BO65: 6
B66: ЦЕНА ЗА ГРАММ (покупная) | C66: руб | D66: =D65/1000 -> 0.10727 | E66: =E65/1000 -> 0.114 | F66: =F65/1000 -> 0.083 | G66: =G65/1000 -> 0.744 | H66: =H65/1000 -> 1.74 | I66: =I65/1000 -> 0.96 | J66: =J65/1000 -> 0.09057 | K66: =K65/1000 -> 1.17333 | ... BO66: =BO65/1000 -> 0.006
B67: Израсходовано на сумму (за граммы) | D67: =D63*D65 -> 3.2181 | E67: =E63*E65 -> 0 | F67: =F63*F65 -> 0.83 | G67: =G63*G65 -> 0 | H67: =H63*H65 -> 2.088 | I67: =I63*I65 -> 0 | J67: =J63*J65 -> 8.1513 | K67: =K63*K65 -> 8.21331 | ... BO67: =BO63*BO65 -> 0.018 | BP67: =SUM(D67:BN67) -> 38.51631 | BQ67: =BP67/$C$11 -> 38.51631
B68: Израсходовано на сумму (за кг) | D68: =D63*D65 -> 3.2181 | E68: =E63*E65 -> 0 | F68: =F63*F65 -> 0.83 | G68: =G63*G65 -> 0 | H68: =H63*H65 -> 2.088 | I68: =I63*I65 -> 0 | J68: =J63*J65 -> 8.1513 | K68: =K63*K65 -> 8.21331 | ... BO68: =BO63*BO65 -> 0.018 | BP68: =SUM(D68:BN68) -> 38.51631 | BQ68: =BP68/$C$11 -> 38.51631
B71: Наименование продуктов | C71: Кол-во человек | D71: =D55 -> Хлеб пшеничный | E71: =E55 -> Хлеб ржано-пшеничный | F71: =F55 -> Сахар | G71: =G55 -> Чай | H71: =H55 -> Какао | I71: =I55 -> Кофейный напиток | J71: =J55 -> Молоко 2,5% | K71: =K55 -> Масло сливочное | ... V71: =V55 -> Огурцы консервирован. | X71: =X55 -> Яйцо | Y71: =Y55 -> Икра кабачковая | Z71: =Z55 -> Изюм | AA71: =AA55 -> Курага | AB71: =AB55 -> Чернослив | AC71: =AC55 -> Шиповник | AD71: =AD55 -> Сухофрукты | AE71: =AE55 -> Ягода свежемороженная | ... BQ71: =BQ55 -> Соль | BR71: Аскорбиновая кислота | BS71: Итого расход за день | BT71: ИТОГО на 1 Чел
B72: Меню
B73: Суп с лапшой | D73: =D18 -> 0 | E73: =E18 -> 0 | F73: =F18 -> 0 | G73: =G18 -> 0 | H73: =H18 -> 0 | I73: =I18 -> 0 | J73: =J18 -> 0 | K73: =K18 -> 0.002 | ... BR73: =BR18 -> 0
B74: Суфле рыбное | D74: =D19 -> 0.01 | E74: =E19 -> 0 | F74: =F19 -> 0 | G74: =G19 -> 0 | H74: =H19 -> 0 | I74: =I19 -> 0 | J74: =J19 -> 0 | K74: =K19 -> 0 | ... BR74: =BR19 -> 0
B75: Соус сметанный | D75: =D20 -> 0 | E75: =E20 -> 0 | F75: =F20 -> 0 | G75: =G20 -> 0 | H75: =H20 -> 0 | I75: =I20 -> 0 | J75: =J20 -> 0 | K75: =K20 -> 0.001 | ... BR75: =BR20 -> 0
B76: Картофельное пюре | D76: =D21 -> 0 | E76: =E21 -> 0 | F76: =F21 -> 0 | G76: =G21 -> 0 | H76: =H21 -> 0 | I76: =I21 -> 0 | J76: =J21 -> 0.024 | K76: =K21 -> 0.002 | ... BR76: =BR21 -> 0
B77: Хлеб пшеничный | D77: =D22 -> 0.03 | E77: =E22 -> 0 | F77: =F22 -> 0 | G77: =G22 -> 0 | H77: =H22 -> 0 | I77: =I22 -> 0 | J77: =J22 -> 0 | K77: =K22 -> 0 | ... BR77: =BR22 -> 0
B78: Хлеб ржано-пшеничный | D78: =D23 -> 0 | E78: =E23 -> 0.05 | F78: =F23 -> 0 | G78: =G23 -> 0 | H78: =H23 -> 0 | I78: =I23 -> 0 | J78: =J23 -> 0 | K78: =K23 -> 0 | ... BR78: =BR23 -> 0
B79: Кисель | D79: =D24 -> 0 | E79: =E24 -> 0 | F79: =F24 -> 0.01 | G79: =G24 -> 0 | H79: =H24 -> 0 | I79: =I24 -> 0 | J79: =J24 -> 0 | K79: =K24 -> 0 | ... BR79: =BR24 -> 5e-05
B80: Итого на 1 чел | D80: =SUM(D73:D79) -> 0.04 | E80: =SUM(E73:E79) -> 0.05 | F80: =SUM(F73:F79) -> 0.01 | G80: =SUM(G73:G79) -> 0 | H80: =SUM(H73:H79) -> 0 | I80: =SUM(I73:I79) -> 0 | J80: =SUM(J73:J79) -> 0.024 | K80: =SUM(K73:K79) -> 0.005 | ... BR80: =SUM(BR73:BR79) -> 5e-05
B81: Итого к выдаче, ГРАММ (на всех) | D81: =PRODUCT(D80,$F$8) -> 0.04 | E81: =PRODUCT(E80,$F$8) -> 0.05 | F81: =PRODUCT(F80,$F$8) -> 0.01 | G81: =PRODUCT(G80,$F$8) -> 0 | H81: =PRODUCT(H80,$F$8) -> 0 | I81: =PRODUCT(I80,$F$8) -> 0 | J81: =PRODUCT(J80,$F$8) -> 0.024 | K81: =PRODUCT(K80,$F$8) -> 0.005 | ... BR81: =PRODUCT(BR80,$F$8) -> 5e-05
B83: ЦЕНА ЗА КИЛОГРАММ (покупная) | C83: руб | D83: =D47 -> 107.27 | E83: =E47 -> 114 | F83: =F47 -> 83 | G83: =G47 -> 744 | H83: =H47 -> 1740 | I83: =I47 -> 960 | J83: =J47 -> 90.57 | K83: =K47 -> 1173.33 | ... AE83: =AE47 -> 838 | AH83: =AH47 -> 252 | AJ83: =AJ47 -> 295.45 | AK83: =AK47 -> 99 | AL83: =AL47 -> 72.75 | AM83: =AM47 -> 47.1 | AN83: =AN47 -> 260 | AO83: =AO47 -> 325 | AP83: =AP47 -> 0 | AQ83: =AQ47 -> 420 | ... BR83: =BR47 -> 0
B84: ЦЕНА ЗА ГРАММ (покупная) | C84: руб | D84: =D83/1000 -> 0.10727 | E84: =E83/1000 -> 0.114 | F84: =F83/1000 -> 0.083 | G84: =G83/1000 -> 0.744 | H84: =H83/1000 -> 1.74 | I84: =I83/1000 -> 0.96 | J84: =J83/1000 -> 0.09057 | K84: =K83/1000 -> 1.17333 | ... BR84: =BR83/1000 -> 0
B85: Израсходовано на сумму (за граммы) | D85: =D81*D83 -> 4.2908 | E85: =E81*E83 -> 5.7 | F85: =F81*F83 -> 0.83 | G85: =G81*G83 -> 0 | H85: =H81*H83 -> 0 | I85: =I81*I83 -> 0 | J85: =J81*J83 -> 2.17368 | K85: =K81*K83 -> 5.86665 | ... BR85: =BR81*BR83 -> 0 | BS85: =SUM(D85:BQ85) -> 85.40823 | BT85: =BS85/$C$11 -> 85.40823
B86: Израсходовано на сумму (за кг) | D86: =D81*D83 -> 4.2908 | E86: =E81*E83 -> 5.7 | F86: =F81*F83 -> 0.83 | G86: =G81*G83 -> 0 | H86: =H81*H83 -> 0 | I86: =I81*I83 -> 0 | J86: =J81*J83 -> 2.17368 | K86: =K81*K83 -> 5.86665 | ... BR86: =BR81*BR83 -> 0 | BS86: =SUM(D86:BQ86) -> 85.40823 | BT86: =BS86/$C$11 -> 85.40823
B89: Наименование продуктов | C89: Кол-во человек | D89: =D55 -> Хлеб пшеничный | E89: =E55 -> Хлеб ржано-пшеничный | F89: =F55 -> Сахар | G89: =G55 -> Чай | H89: =H55 -> Какао | I89: =I55 -> Кофейный напиток | J89: =J55 -> Молоко 2,5% | K89: =K55 -> Масло сливочное | ... V89: =V55 -> Огурцы консервирован. | X89: =X55 -> Яйцо | Y89: =Y55 -> Икра кабачковая | Z89: =Z55 -> Изюм | AA89: =AA55 -> Курага | AB89: =AB55 -> Чернослив | AC89: =AC55 -> Шиповник | AD89: =AD55 -> Сухофрукты | AE89: =AE55 -> Ягода свежемороженная | ... BQ89: =BQ55 -> Соль | BR89: Аскорбиновая кислота | BS89: Итого расход за день | BT89: ИТОГО на 1 Чел
B90: Меню
A91: Полдник | B91: Чай с лимоном | C91: =$F$8 -> 1 | D91: =D25 -> 0 | E91: =E25 -> 0 | F91: =F25 -> 0 | G91: =G25 -> 0 | H91: =H25 -> 0 | I91: =I25 -> 0 | J91: =J25 -> 0 | K91: =K25 -> 0 | ... BR91: =BR25 -> 0
B92: Манник с молоком сгущенным | D92: =D26 -> 0 | E92: =E26 -> 0 | F92: =F26 -> 0.005 | G92: =G26 -> 0 | H92: =H26 -> 0 | I92: =I26 -> 0 | J92: =J26 -> 0 | K92: =K26 -> 0.002 | ... BR92: =BR26 -> 0
D93: =D27 -> 0 | E93: =E27 -> 0 | F93: =F27 -> 0 | G93: =G27 -> 0 | H93: =H27 -> 0 | I93: =I27 -> 0 | J93: =J27 -> 0 | K93: =K27 -> 0 | ... BR93: =BR27 -> 0
D94: =D28 -> 0 | E94: =E28 -> 0 | F94: =F28 -> 0 | G94: =G28 -> 0 | H94: =H28 -> 0 | I94: =I28 -> 0 | J94: =J28 -> 0 | K94: =K28 -> 0 | ... BR94: =BR28 -> 0
D95: =D29 -> 0 | E95: =E29 -> 0 | F95: =F29 -> 0 | G95: =G29 -> 0 | H95: =H29 -> 0 | I95: =I29 -> 0 | J95: =J29 -> 0 | K95: =K29 -> 0 | ... BR95: =BR29 -> 0
B96: Итого на 1 чел | D96: =SUM(D91:D95) -> 0 | E96: =SUM(E91:E95) -> 0 | F96: =SUM(F91:F95) -> 0.005 | G96: =SUM(G91:G95) -> 0 | H96: =SUM(H91:H95) -> 0 | I96: =SUM(I91:I95) -> 0 | J96: =SUM(J91:J95) -> 0 | K96: =SUM(K91:K95) -> 0.002 | ... BR96: =SUM(BR91:BR95) -> 0
B97: Итого к выдаче, ГРАММ (на всех) | D97: =PRODUCT(D96,$F$8) -> 0 | E97: =PRODUCT(E96,$F$8) -> 0 | F97: =PRODUCT(F96,$F$8) -> 0.005 | G97: =PRODUCT(G96,$F$8) -> 0 | H97: =PRODUCT(H96,$F$8) -> 0 | I97: =PRODUCT(I96,$F$8) -> 0 | J97: =PRODUCT(J96,$F$8) -> 0 | K97: =PRODUCT(K96,$F$8) -> 0.002 | ... BR97: =PRODUCT(BR96,$F$8) -> 0
B99: ЦЕНА ЗА КИЛОГРАММ (покупная) | C99: руб | D99: =D47 -> 107.27 | E99: =E47 -> 114 | F99: =F47 -> 83 | G99: =G47 -> 744 | H99: =H47 -> 1740 | I99: =I47 -> 960 | J99: =J47 -> 90.57 | K99: =K47 -> 1173.33 | ... AE99: =AE47 -> 838 | AH99: =AH47 -> 252 | AJ99: =AJ47 -> 295.45 | AK99: =AK47 -> 99 | AL99: =AL47 -> 72.75 | AM99: =AM47 -> 47.1 | AN99: =AN47 -> 260 | AO99: =AO47 -> 325 | AP99: =AP47 -> 0 | AQ99: =AQ47 -> 420 | ... BR99: =BR47 -> 0
B100: ЦЕНА ЗА ГРАММ (покупная) | C100: руб | D100: =D99/1000 -> 0.10727 | E100: =E99/1000 -> 0.114 | F100: =F99/1000 -> 0.083 | G100: =G99/1000 -> 0.744 | H100: =H99/1000 -> 1.74 | I100: =I99/1000 -> 0.96 | J100: =J99/1000 -> 0.09057 | K100: =K99/1000 -> 1.17333 | ... BR100: =BR99/1000 -> 0
B101: Израсходовано на сумму (за граммы) | D101: =D97*D99 -> 0 | E101: =E97*E99 -> 0 | F101: =F97*F99 -> 0.415 | G101: =G97*G99 -> 0 | H101: =H97*H99 -> 0 | I101: =I97*I99 -> 0 | J101: =J97*J99 -> 0 | K101: =K97*K99 -> 2.34666 | ... BR101: =BR97*BR99 -> 0 | BS101: =SUM(D101:BQ101) -> 30.681034 | BT101: =BS101/$C$11 -> 30.681034
B102: Израсходовано на сумму (за кг) | D102: =D97*D99 -> 0 | E102: =E97*E99 -> 0 | F102: =F97*F99 -> 0.415 | G102: =G97*G99 -> 0 | H102: =H97*H99 -> 0 | I102: =I97*I99 -> 0 | J102: =J97*J99 -> 0 | K102: =K97*K99 -> 2.34666 | ... BR102: =BR97*BR99 -> 0 | BS102: =SUM(D102:BQ102) -> 30.681034 | BT102: =BS102/$C$11 -> 30.681034
B105: Наименование продуктов | C105: Кол-во человек | D105: =D55 -> Хлеб пшеничный | E105: =E55 -> Хлеб ржано-пшеничный | F105: =F55 -> Сахар | G105: =G55 -> Чай | H105: =H55 -> Какао | I105: =I55 -> Кофейный напиток | J105: =J55 -> Молоко 2,5% | K105: =K55 -> Масло сливочное | ... BR105: =BR55 -> Аскорбиновая кислота | BS105: Итого расход за день | BT105: ИТОГО на 1 Чел
B106: Меню
A107: Ужин | B107: Плов вегетарианский с изюмом | C107: =$F$8 -> 1 | D107: =D30 -> 0 | E107: =E30 -> 0 | F107: =F30 -> 0 | G107: =G30 -> 0 | H107: =H30 -> 0 | I107: =I30 -> 0 | J107: =J30 -> 0 | K107: =K30 -> 0.004 | ... BR107: =BR30 -> 0
B108: Хлеб пшеничный | D108: =D31 -> 0.02 | E108: =E31 -> 0 | F108: =F31 -> 0 | G108: =G31 -> 0 | H108: =H31 -> 0 | I108: =I31 -> 0 | J108: =J31 -> 0 | K108: =K31 -> 0 | ... BR108: =BR31 -> 0
B109: Чай с сахаром | D109: =D32 -> 0 | E109: =E32 -> 0 | F109: =F32 -> 0.01 | G109: =G32 -> 0.0005 | H109: =H32 -> 0 | I109: =I32 -> 0 | J109: =J32 -> 0 | K109: =K32 -> 0 | ... BR109: =BR32 -> 0
D110: =D33 -> 0 | E110: =E33 -> 0 | F110: =F33 -> 0 | G110: =G33 -> 0 | H110: =H33 -> 0 | I110: =I33 -> 0 | J110: =J33 -> 0 | K110: =K33 -> 0 | ... BR110: =BR33 -> 0
D111: =D34 -> 0 | E111: =E34 -> 0 | F111: =F34 -> 0 | G111: =G34 -> 0 | H111: =H34 -> 0 | I111: =I34 -> 0 | J111: =J34 -> 0 | K111: =K34 -> 0 | ... BR111: =BR34 -> 0
B112: Итого на 1 чел | D112: =SUM(D107:D111) -> 0.02 | E112: =SUM(E107:E111) -> 0 | F112: =SUM(F107:F111) -> 0.01 | G112: =SUM(G107:G111) -> 0.0005 | H112: =SUM(H107:H111) -> 0 | I112: =SUM(I107:I111) -> 0 | J112: =SUM(J107:J111) -> 0 | K112: =SUM(K107:K111) -> 0.004 | ... BR112: =SUM(BR107:BR111) -> 0
B113: Итого к выдаче, ГРАММ (на всех) | D113: =PRODUCT(D112,$F$8) -> 0.02 | E113: =PRODUCT(E112,$F$8) -> 0 | F113: =PRODUCT(F112,$F$8) -> 0.01 | G113: =PRODUCT(G112,$F$8) -> 0.0005 | H113: =PRODUCT(H112,$F$8) -> 0 | I113: =PRODUCT(I112,$F$8) -> 0 | J113: =PRODUCT(J112,$F$8) -> 0 | K113: =PRODUCT(K112,$F$8) -> 0.004 | ... BR113: =PRODUCT(BR112,$F$8) -> 0
B115: ЦЕНА ЗА КИЛОГРАММ (покупная) | C115: руб | D115: =D47 -> 107.27 | E115: =E47 -> 114 | F115: =F47 -> 83 | G115: =G47 -> 744 | H115: =H47 -> 1740 | I115: =I47 -> 960 | J115: =J47 -> 90.57 | K115: =K47 -> 1173.33 | ... AE115: =AE47 -> 838 | AH115: =AH47 -> 252 | AJ115: =AJ47 -> 295.45 | AK115: =AK47 -> 99 | AL115: =AL47 -> 72.75 | AM115: =AM47 -> 47.1 | AN115: =AN47 -> 260 | AO115: =AO47 -> 325 | AP115: =AP47 -> 0 | AQ115: =AQ47 -> 420 | ... BR115: =BR47 -> 0
B116: ЦЕНА ЗА ГРАММ (покупная) | C116: руб | D116: =D115/1000 -> 0.10727 | E116: =E115/1000 -> 0.114 | F116: =F115/1000 -> 0.083 | G116: =G115/1000 -> 0.744 | H116: =H115/1000 -> 1.74 | I116: =I115/1000 -> 0.96 | J116: =J115/1000 -> 0.09057 | K116: =K115/1000 -> 1.17333 | ... BR116: =BR115/1000 -> 0
B117: Израсходовано на сумму (за граммы) | D117: =D113*D115 -> 2.1454 | E117: =E113*E115 -> 0 | F117: =F113*F115 -> 0.83 | G117: =G113*G115 -> 0.372 | H117: =H113*H115 -> 0 | I117: =I113*I115 -> 0 | J117: =J113*J115 -> 0 | K117: =K113*K115 -> 4.69332 | ... BR117: =BR113*BR115 -> 0 | BS117: =SUM(D117:BQ117) -> 10.23822 | BT117: =BS117/$C$11 -> 10.23822
B118: Израсходовано на сумму (за кг) | D118: =D113*D115 -> 2.1454 | E118: =E113*E115 -> 0 | F118: =F113*F115 -> 0.83 | G118: =G113*G115 -> 0.372 | H118: =H113*H115 -> 0 | I118: =I113*I115 -> 0 | J118: =J113*J115 -> 0 | K118: =K113*K115 -> 4.69332 | ... BR118: =BR113*BR115 -> 0 | BS118: =SUM(D118:BQ118) -> 10.23822 | BT118: =BS118/$C$11 -> 10.23822
BM122: =BT68 -> 0
BM123: =BT86 -> 85.40823
BM124: =BT102 -> 30.681034
BM125: =BT118 -> 10.23822

Sheet СВО  3-7 лет 
A1: Утверждаю
A2: Заведующий МКДОУ Ташаринский детский сад "Лесовичок" | H2: Меню - требование на выдачу продуктов питания
A3: _________________ Чугуева Т.В.
A4: подпись | H4: Учреждение МКДОУ "Ташаринский детский сад"Лесовичок"
H5: Ответственное лицо Романашенко Г.М.
B8: СВО | D8: детей в количестве | F8: 1 | G8: человек (3-7 лет) на | J8: ='3-7 лет (день 1)'!J7 -> 46311
B9: Наименование продуктов | C9: Кол-во человек | D9: =[1]Цены!A1 -> Хлеб пшеничный | E9: =[1]Цены!B1 -> Хлеб ржано-пшеничный | F9: =[1]Цены!C1 -> Сахар | G9: =[1]Цены!D1 -> Чай | H9: =[1]Цены!E1 -> Какао | I9: =[1]Цены!F1 -> Кофейный напиток | J9: =[1]Цены!G1 -> Молоко 2,5% | K9: =[1]Цены!H1 -> Масло сливочное | ... AF9: =[1]Цены!AC1 -> Лимон | AG9: Банан | AH9: =[1]Цены!AE1 -> Сок | AI9: Яблоко | AJ9: =[1]Цены!AD1 -> Кисель | AK9: =[1]Цены!AE1 -> Сок | AL9: =[1]Цены!AF1 -> Макаронные изделия | AM9: =[1]Цены!AG1 -> Мука | AN9: =[1]Цены!AH1 -> Дрожжи | AO9: =[1]Цены!AI1 -> Печенье | AP9: =[1]Цены!AJ1 -> Пряники | AQ9: =[1]Цены!AK1 -> Вафли | ... BQ9: =[1]Цены!BK1 -> Соль | BR9: Лимонная кислота | BS9: Итого расход за день | BT9: ИТОГО на 1 Чел
B10: Меню
A11: Завтрак | B11: ='3-7 лет (день 1)'!B10 -> Кукурузная каша молочная | C11: =$F$8 -> 1 | F11: 0.004 | K11: 0.003 | M11: 0.0165 | AW11: 0.02 | BQ11: 0.0005
B12: ='3-7 лет (день 1)'!B11 -> Бутерброд с маслом | D12: 0.03 | K12: 0.005
B13: ='3-7 лет (день 1)'!B12 -> Какао с молоком | F13: 0.01 | H13: 0.0012 | J13: 0.09
B14: ='3-7 лет (день 1)'!B13 -> 0
B15: ='3-7 лет (день 1)'!B14 -> Салат из зелёного горошка с луком репчатым
A16: Второй завтрак | B16: Яблоко | C16: =F8 -> 1 | AI16: 0.114
B17: Банан
A19: Обед | B19: ='3-7 лет (день 1)'!B17 -> Свекольник | C19: =F8 -> 1 | K19: 0.002 | L19: 0.003 | BF19: 0.01 | BJ19: 0.06 | BK19: 0.01 | BL19: 0.01 | BN19: 0.07 | BO19: 0.003 | BP19: 0.002 | BQ19: 0.002
B20: ='3-7 лет (день 1)'!B18 -> Суфле рыбное | D20: 0.01 | X20: 0.16666667 | BH20: 0.05 | BL20: 0.01 | BP20: 0.002 | BQ20: 0.002
B21: ='3-7 лет (день 1)'!B19 -> Соус сметанный | K21: 0.001 | L21: 0.01 | AM21: 0.0006
B22: ='3-7 лет (день 1)'!B20 -> Картофельное пюре | J22: 0.024 | K22: 0.002 | BJ22: 0.18 | BQ22: 0.001
B23: ='3-7 лет (день 1)'!B21 -> Хлеб пшеничный | D23: 0.03
B24: ='3-7 лет (день 1)'!B22 -> Хлеб ржано-пшеничный | E24: 0.05
B25: ='3-7 лет (день 1)'!B23 -> Кисель | F25: 0.01 | AJ25: 0.02 | BR25: 5e-05
A26: Полдник | B26: ='3-7 лет (день 1)'!B24 -> Снежок | C26: =$F$8 -> 1 | N26: 0.15
B27: ='3-7 лет (день 1)'!B25 -> Манник со сгущенным молоком | F27: 0.005 | K27: 0.002 | L27: 0.01 | P27: 0.007 | X27: 0.142 | AX27: 0.0204 | BP27: 0.0012
B28: ='3-7 лет (день 1)'!B26 -> Яблоко
A31: Ужин | B31: ='3-7 лет (день 1)'!B29 -> Макароны отварные с маслом | C31: =$F$8 -> 1 | K31: 0.004 | AL31: 0.03 | BQ31: 0.0005
B32: ='3-7 лет (день 1)'!B30 -> Хлеб пшеничный | D32: 0.02
B33: ='3-7 лет (день 1)'!B31 -> Чай с сахаром | F33: 0.01 | G33: 0.0005
B36: Итого на 1 чел | D36: =SUM(D11:D35) -> 0.09 | E36: =SUM(E11:E35) -> 0.05 | F36: =SUM(F11:F35) -> 0.039 | G36: =SUM(G11:G35) -> 0.0005 | H36: =SUM(H11:H35) -> 0.0012 | I36: =SUM(I11:I35) -> 0 | J36: =SUM(J11:J35) -> 0.114 | K36: =SUM(K11:K35) -> 0.019 | ... BR36: =SUM(BR11:BR35) -> 5e-05
B37: К выдаче, ГРАММ (на всех) | D37: =ROUND(PRODUCT(D36,$F$8),3) -> 0.09 | E37: =ROUND(PRODUCT(E36,$F$8),3) -> 0.05 | F37: =ROUND(PRODUCT(F36,$F$8),3) -> 0.039 | G37: =ROUND(PRODUCT(G36,$F$8),3) -> 0.001 | H37: =ROUND(PRODUCT(H36,$F$8),3) -> 0.001 | I37: =ROUND(PRODUCT(I36,$F$8),3) -> 0 | J37: =ROUND(PRODUCT(J36,$F$8),3) -> 0.114 | K37: =ROUND(PRODUCT(K36,$F$8),3) -> 0.019 | ... BR37: =ROUND(PRODUCT(BR36,$F$8),3) -> 0
D40: Ответственный калькулятор | H40: _________________ | K40: С.В.Залевская
D41: исполнитель | F41: должность | H41: подпись
F43: Повар | H43: ___________________ | K43: ='3-7 лет (день 1)'!K42 -> 0
H44: подпись
B49: ЦЕНА ЗА КИЛОГРАММ (покупная) | C49: руб | D49: 107.27 | E49: 114 | F49: 83 | G49: 744 | H49: 1740 | I49: 960 | J49: 90.57 | K49: 1173.33 | L49: 255.2 | M49: 741 | N49: 126.38 | O49: 387.53 | P49: 465.79 | Q49: 520 | R49: 1295 | U49: 824 | V49: 461.33 | W49: 120 | X49: 9 | Y49: 266.5 | Z49: 533 | AA49: 431 | AB49: 400 | AC49: 289 | AD49: 135 | AE49: 838 | AG49: 175 | AH49: 252 | AI49: 208 | AJ49: 295.45 | AK49: 99 | AL49: 72.75 | AM49: 47.1 | AN49: 260 | AO49: 325 | AQ49: 420 | AS49: 288.51 | AT49: 90 | AU49: 83.33 | AV49: 80.67 | AW49: 82.85 | AX49: 81.43 | AY49: 63.75 | AZ49: 95.38 | BA49: 74 | BB49: 65 | BC49: 111.33 | BD49: 346 | BE49: 552 | BF49: 666 | BG49: 320 | BH49: 585 | BJ49: 51 | BK49: 63 | BL49: 42 | BM49: 43 | BN49: 64 | BO49: 280 | BP49: 175.56 | BQ49: 30
B50: ЦЕНА ЗА ГРАММ (покупная) | C50: руб | D50: =D49/1000 -> 0.10727 | E50: =E49/1000 -> 0.114 | F50: =F49/1000 -> 0.083 | G50: =G49/1000 -> 0.744 | H50: =H49/1000 -> 1.74 | I50: =I49/1000 -> 0.96 | J50: =J49/1000 -> 0.09057 | K50: =K49/1000 -> 1.17333 | ... BR50: =BR49/1000 -> 0
B51: Израсходовано на сумму (за граммы) | D51: =D37*D49 -> 9.6543 | E51: =E37*E49 -> 5.7 | F51: =F37*F49 -> 3.237 | G51: =G37*G49 -> 0.744 | H51: =H37*H49 -> 1.74 | I51: =I37*I49 -> 0 | J51: =J37*J49 -> 10.32498 | K51: =K37*K49 -> 22.29327 | ... BR51: =BR37*BR49 -> 0 | BS51: =SUM(D51:BQ51) -> 188.29268 | BT51: =BS51/$C$11 -> 188.29268
B52: Израсходовано на сумму (за кг) | D52: =D37*D49 -> 9.6543 | E52: =E37*E49 -> 5.7 | F52: =F37*F49 -> 3.237 | G52: =G37*G49 -> 0.744 | H52: =H37*H49 -> 1.74 | I52: =I37*I49 -> 0 | J52: =J37*J49 -> 10.32498 | K52: =K37*K49 -> 22.29327 | ... BR52: =BR37*BR49 -> 0 | BS52: =SUM(D52:BQ52) -> 188.29268 | BT52: =BS52/$C$11 -> 188.29268
B53: P/S: Итого к выдаче Яйцо- указано в шт. | D53: =D70+D88+D104+D120 -> 9.6543 | E53: =E70+E88+E104+E120 -> 5.7 | F53: =F70+F88+F104+F120 -> 3.237 | G53: =G70+G88+G104+G120 -> 0.372 | H53: =H70+H88+H104+H120 -> 2.088 | I53: =I70+I88+I104+I120 -> 0 | J53: =J70+J88+J104+J120 -> 10.32498 | K53: =K70+K88+K104+K120 -> 22.29327 | ... BR53: =BR70+BR88+BR104+BR120 -> 0
B54: Цена за яйцо, указана за 1 шт. | BT54: =BT69+BT87+BT103+BT119 -> 126.32748
B57: Наименование продуктов | C57: Кол-во человек | D57: =D9 -> Хлеб пшеничный | E57: =E9 -> Хлеб ржано-пшеничный | F57: =F9 -> Сахар | G57: =G9 -> Чай | H57: =H9 -> Какао | I57: =I9 -> Кофейный напиток | J57: =J9 -> Молоко 2,5% | K57: =K9 -> Масло сливочное | ... BQ57: =BQ9 -> Соль | BR57: Аскорбиновая кислота | BS57: Итого расход за день | BT57: ИТОГО на 1 Чел
B58: Меню
A59: Завтрак | B59: Кукурузная каша молочная | C59: =$F$8 -> 1 | D59: =D11 -> 0 | E59: =E11 -> 0 | F59: =F11 -> 0.004 | G59: =G11 -> 0 | H59: =H11 -> 0 | I59: =I11 -> 0 | J59: =J11 -> 0 | K59: =K11 -> 0.003 | ... BO59: =BO11 -> 0
B60: Бутерброд с джемом | D60: =D12 -> 0.03 | E60: =E12 -> 0 | F60: =F12 -> 0 | G60: =G12 -> 0 | H60: =H12 -> 0 | I60: =I12 -> 0 | J60: =J12 -> 0 | K60: =K12 -> 0.005 | ... BO60: =BO12 -> 0
B61: Какао с молоком | D61: =D13 -> 0 | E61: =E13 -> 0 | F61: =F13 -> 0.01 | G61: =G13 -> 0 | H61: =H13 -> 0.0012 | I61: =I13 -> 0 | J61: =J13 -> 0.09 | K61: =K13 -> 0 | ... BO61: =BO13 -> 0
D62: =D14 -> 0 | E62: =E14 -> 0 | F62: =F14 -> 0 | G62: =G14 -> 0 | H62: =H14 -> 0 | I62: =I14 -> 0 | J62: =J14 -> 0 | K62: =K14 -> 0 | ... BO62: =BO14 -> 0
D63: =D15 -> 0 | E63: =E15 -> 0 | F63: =F15 -> 0 | G63: =G15 -> 0 | H63: =H15 -> 0 | I63: =I15 -> 0 | J63: =J15 -> 0 | K63: =K15 -> 0 | ... BO63: =BO15 -> 0
B64: Итого на 1 чел | D64: =SUM(D59:D63) -> 0.03 | E64: =SUM(E59:E63) -> 0 | F64: =SUM(F59:F63) -> 0.014 | G64: =SUM(G59:G63) -> 0 | H64: =SUM(H59:H63) -> 0.0012 | I64: =SUM(I59:I63) -> 0 | J64: =SUM(J59:J63) -> 0.09 | K64: =SUM(K59:K63) -> 0.008 | ... BO64: =SUM(BO59:BO63) -> 0
B65: Итого к выдаче, ГРАММ (на всех) | D65: =PRODUCT(D64,$F$8) -> 0.03 | E65: =PRODUCT(E64,$F$8) -> 0 | F65: =PRODUCT(F64,$F$8) -> 0.014 | G65: =PRODUCT(G64,$F$8) -> 0 | H65: =PRODUCT(H64,$F$8) -> 0.0012 | I65: =PRODUCT(I64,$F$8) -> 0 | J65: =PRODUCT(J64,$F$8) -> 0.09 | K65: =PRODUCT(K64,$F$8) -> 0.008 | ... BO65: =PRODUCT(BO64,$F$8) -> 0
B67: ЦЕНА ЗА КИЛОГРАММ (покупная) | C67: руб | D67: =D49 -> 107.27 | E67: =E49 -> 114 | F67: =F49 -> 83 | G67: =G49 -> 744 | H67: =H49 -> 1740 | I67: =I49 -> 960 | J67: =J49 -> 90.57 | K67: =K49 -> 1173.33 | ... BN67: =BN49 -> 64 | BO67: 6
B68: ЦЕНА ЗА ГРАММ (покупная) | C68: руб | D68: =D67/1000 -> 0.10727 | E68: =E67/1000 -> 0.114 | F68: =F67/1000 -> 0.083 | G68: =G67/1000 -> 0.744 | H68: =H67/1000 -> 1.74 | I68: =I67/1000 -> 0.96 | J68: =J67/1000 -> 0.09057 | K68: =K67/1000 -> 1.17333 | ... BO68: =BO67/1000 -> 0.006
B69: Израсходовано на сумму (за граммы) | D69: =D65*D67 -> 3.2181 | E69: =E65*E67 -> 0 | F69: =F65*F67 -> 1.162 | G69: =G65*G67 -> 0 | H69: =H65*H67 -> 2.088 | I69: =I65*I67 -> 0 | J69: =J65*J67 -> 8.1513 | K69: =K65*K67 -> 9.38664 | ... BO69: =BO65*BO67 -> 0 | BP69: =SUM(D69:BN69) -> 37.88954 | BQ69: =BP69/$C$11 -> 37.88954
B70: Израсходовано на сумму (за кг) | D70: =D65*D67 -> 3.2181 | E70: =E65*E67 -> 0 | F70: =F65*F67 -> 1.162 | G70: =G65*G67 -> 0 | H70: =H65*H67 -> 2.088 | I70: =I65*I67 -> 0 | J70: =J65*J67 -> 8.1513 | K70: =K65*K67 -> 9.38664 | ... BO70: =BO65*BO67 -> 0 | BP70: =SUM(D70:BN70) -> 37.88954 | BQ70: =BP70/$C$11 -> 37.88954
B73: Наименование продуктов | C73: Кол-во человек | D73: =D57 -> Хлеб пшеничный | E73: =E57 -> Хлеб ржано-пшеничный | F73: =F57 -> Сахар | G73: =G57 -> Чай | H73: =H57 -> Какао | I73: =I57 -> Кофейный напиток | J73: =J57 -> Молоко 2,5% | K73: =K57 -> Масло сливочное | ... V73: =V57 -> Огурцы консервирован. | X73: =X57 -> Яйцо | Y73: =Y57 -> Икра кабачковая | Z73: =Z57 -> Изюм | AA73: =AA57 -> Курага | AB73: =AB57 -> Чернослив | AC73: =AC57 -> Шиповник | AD73: =AD57 -> Сухофрукты | AE73: =AE57 -> Ягода свежемороженная | ... BQ73: =BQ57 -> Соль | BR73: Аскорбиновая кислота | BS73: Итого расход за день | BT73: ИТОГО на 1 Чел
B74: Меню
B75: Суп с лапшой | D75: =D19 -> 0 | E75: =E19 -> 0 | F75: =F19 -> 0 | G75: =G19 -> 0 | H75: =H19 -> 0 | I75: =I19 -> 0 | J75: =J19 -> 0 | K75: =K19 -> 0.002 | ... BR75: =BR19 -> 0
B76: Суфле рыбное | D76: =D20 -> 0.01 | E76: =E20 -> 0 | F76: =F20 -> 0 | G76: =G20 -> 0 | H76: =H20 -> 0 | I76: =I20 -> 0 | J76: =J20 -> 0 | K76: =K20 -> 0 | ... BR76: =BR20 -> 0
B77: Соус сметанный | D77: =D21 -> 0 | E77: =E21 -> 0 | F77: =F21 -> 0 | G77: =G21 -> 0 | H77: =H21 -> 0 | I77: =I21 -> 0 | J77: =J21 -> 0 | K77: =K21 -> 0.001 | ... BR77: =BR21 -> 0
B78: Картофельное пюре | D78: =D22 -> 0 | E78: =E22 -> 0 | F78: =F22 -> 0 | G78: =G22 -> 0 | H78: =H22 -> 0 | I78: =I22 -> 0 | J78: =J22 -> 0.024 | K78: =K22 -> 0.002 | ... BR78: =BR22 -> 0
B79: Хлеб пшеничный | D79: =D23 -> 0.03 | E79: =E23 -> 0 | F79: =F23 -> 0 | G79: =G23 -> 0 | H79: =H23 -> 0 | I79: =I23 -> 0 | J79: =J23 -> 0 | K79: =K23 -> 0 | ... BR79: =BR23 -> 0
B80: Хлеб ржано-пшеничный | D80: =D24 -> 0 | E80: =E24 -> 0.05 | F80: =F24 -> 0 | G80: =G24 -> 0 | H80: =H24 -> 0 | I80: =I24 -> 0 | J80: =J24 -> 0 | K80: =K24 -> 0 | ... BR80: =BR24 -> 0
B81: Кисель | D81: =D25 -> 0 | E81: =E25 -> 0 | F81: =F25 -> 0.01 | G81: =G25 -> 0 | H81: =H25 -> 0 | I81: =I25 -> 0 | J81: =J25 -> 0 | K81: =K25 -> 0 | ... BR81: =BR25 -> 5e-05
B82: Итого на 1 чел | D82: =SUM(D75:D81) -> 0.04 | E82: =SUM(E75:E81) -> 0.05 | F82: =SUM(F75:F81) -> 0.01 | G82: =SUM(G75:G81) -> 0 | H82: =SUM(H75:H81) -> 0 | I82: =SUM(I75:I81) -> 0 | J82: =SUM(J75:J81) -> 0.024 | K82: =SUM(K75:K81) -> 0.005 | ... BR82: =SUM(BR75:BR81) -> 5e-05
B83: Итого к выдаче, ГРАММ (на всех) | D83: =PRODUCT(D82,$F$8) -> 0.04 | E83: =PRODUCT(E82,$F$8) -> 0.05 | F83: =PRODUCT(F82,$F$8) -> 0.01 | G83: =PRODUCT(G82,$F$8) -> 0 | H83: =PRODUCT(H82,$F$8) -> 0 | I83: =PRODUCT(I82,$F$8) -> 0 | J83: =PRODUCT(J82,$F$8) -> 0.024 | K83: =PRODUCT(K82,$F$8) -> 0.005 | ... BR83: =PRODUCT(BR82,$F$8) -> 5e-05
B85: ЦЕНА ЗА КИЛОГРАММ (покупная) | C85: руб | D85: =D49 -> 107.27 | E85: =E49 -> 114 | F85: =F49 -> 83 | G85: =G49 -> 744 | H85: =H49 -> 1740 | I85: =I49 -> 960 | J85: =J49 -> 90.57 | K85: =K49 -> 1173.33 | ... AE85: =AE49 -> 838 | AH85: =AH49 -> 252 | AJ85: =AJ49 -> 295.45 | AK85: =AK49 -> 99 | AL85: =AL49 -> 72.75 | AM85: =AM49 -> 47.1 | AN85: =AN49 -> 260 | AO85: =AO49 -> 325 | AP85: =AP49 -> 0 | AQ85: =AQ49 -> 420 | ... BR85: =BR49 -> 0
B86: ЦЕНА ЗА ГРАММ (покупная) | C86: руб | D86: =D85/1000 -> 0.10727 | E86: =E85/1000 -> 0.114 | F86: =F85/1000 -> 0.083 | G86: =G85/1000 -> 0.744 | H86: =H85/1000 -> 1.74 | I86: =I85/1000 -> 0.96 | J86: =J85/1000 -> 0.09057 | K86: =K85/1000 -> 1.17333 | ... BR86: =BR85/1000 -> 0
B87: Израсходовано на сумму (за граммы) | D87: =D83*D85 -> 4.2908 | E87: =E83*E85 -> 5.7 | F87: =F83*F85 -> 0.83 | G87: =G83*G85 -> 0 | H87: =H83*H85 -> 0 | I87: =I83*I85 -> 0 | J87: =J83*J85 -> 2.17368 | K87: =K83*K85 -> 5.86665 | ... BR87: =BR83*BR85 -> 0 | BS87: =SUM(D87:BQ87) -> 85.40823 | BT87: =BS87/$C$11 -> 85.40823
B88: Израсходовано на сумму (за кг) | D88: =D83*D85 -> 4.2908 | E88: =E83*E85 -> 5.7 | F88: =F83*F85 -> 0.83 | G88: =G83*G85 -> 0 | H88: =H83*H85 -> 0 | I88: =I83*I85 -> 0 | J88: =J83*J85 -> 2.17368 | K88: =K83*K85 -> 5.86665 | ... BR88: =BR83*BR85 -> 0 | BS88: =SUM(D88:BQ88) -> 85.40823 | BT88: =BS88/$C$11 -> 85.40823
B91: Наименование продуктов | C91: Кол-во человек | D91: =D57 -> Хлеб пшеничный | E91: =E57 -> Хлеб ржано-пшеничный | F91: =F57 -> Сахар | G91: =G57 -> Чай | H91: =H57 -> Какао | I91: =I57 -> Кофейный напиток | J91: =J57 -> Молоко 2,5% | K91: =K57 -> Масло сливочное | ... V91: =V57 -> Огурцы консервирован. | X91: =X57 -> Яйцо | Y91: =Y57 -> Икра кабачковая | Z91: =Z57 -> Изюм | AA91: =AA57 -> Курага | AB91: =AB57 -> Чернослив | AC91: =AC57 -> Шиповник | AD91: =AD57 -> Сухофрукты | AE91: =AE57 -> Ягода свежемороженная | ... BQ91: =BQ57 -> Соль | BR91: Аскорбиновая кислота | BS91: Итого расход за день | BT91: ИТОГО на 1 Чел
B92: Меню
A93: Полдник | B93: Чай с лимоном | C93: =$F$8 -> 1 | D93: =D26 -> 0 | E93: =E26 -> 0 | F93: =F26 -> 0 | G93: =G26 -> 0 | H93: =H26 -> 0 | I93: =I26 -> 0 | J93: =J26 -> 0 | K93: =K26 -> 0 | ... BR93: =BR26 -> 0
B94: Манник с молоком сгущенным | D94: =D27 -> 0 | E94: =E27 -> 0 | F94: =F27 -> 0.005 | G94: =G27 -> 0 | H94: =H27 -> 0 | I94: =I27 -> 0 | J94: =J27 -> 0 | K94: =K27 -> 0.002 | ... BR94: =BR27 -> 0
D95: =D28 -> 0 | E95: =E28 -> 0 | F95: =F28 -> 0 | G95: =G28 -> 0 | H95: =H28 -> 0 | I95: =I28 -> 0 | J95: =J28 -> 0 | K95: =K28 -> 0 | ... BR95: =BR28 -> 0
D96: =D29 -> 0 | E96: =E29 -> 0 | F96: =F29 -> 0 | G96: =G29 -> 0 | H96: =H29 -> 0 | I96: =I29 -> 0 | J96: =J29 -> 0 | K96: =K29 -> 0 | ... BR96: =BR29 -> 0
D97: =D30 -> 0 | E97: =E30 -> 0 | F97: =F30 -> 0 | G97: =G30 -> 0 | H97: =H30 -> 0 | I97: =I30 -> 0 | J97: =J30 -> 0 | K97: =K30 -> 0 | ... BR97: =BR30 -> 0
B98: Итого на 1 чел | D98: =SUM(D93:D97) -> 0 | E98: =SUM(E93:E97) -> 0 | F98: =SUM(F93:F97) -> 0.005 | G98: =SUM(G93:G97) -> 0 | H98: =SUM(H93:H97) -> 0 | I98: =SUM(I93:I97) -> 0 | J98: =SUM(J93:J97) -> 0 | K98: =SUM(K93:K97) -> 0.002 | ... BR98: =SUM(BR93:BR97) -> 0
B99: Итого к выдаче, ГРАММ (на всех) | D99: =PRODUCT(D98,$F$8) -> 0 | E99: =PRODUCT(E98,$F$8) -> 0 | F99: =PRODUCT(F98,$F$8) -> 0.005 | G99: =PRODUCT(G98,$F$8) -> 0 | H99: =PRODUCT(H98,$F$8) -> 0 | I99: =PRODUCT(I98,$F$8) -> 0 | J99: =PRODUCT(J98,$F$8) -> 0 | K99: =PRODUCT(K98,$F$8) -> 0.002 | ... BR99: =PRODUCT(BR98,$F$8) -> 0
B101: ЦЕНА ЗА КИЛОГРАММ (покупная) | C101: руб | D101: =D49 -> 107.27 | E101: =E49 -> 114 | F101: =F49 -> 83 | G101: =G49 -> 744 | H101: =H49 -> 1740 | I101: =I49 -> 960 | J101: =J49 -> 90.57 | K101: =K49 -> 1173.33 | ... AE101: =AE49 -> 838 | AH101: =AH49 -> 252 | AJ101: =AJ49 -> 295.45 | AK101: =AK49 -> 99 | AL101: =AL49 -> 72.75 | AM101: =AM49 -> 47.1 | AN101: =AN49 -> 260 | AO101: =AO49 -> 325 | AP101: =AP49 -> 0 | AQ101: =AQ49 -> 420 | ... BR101: =BR49 -> 0
B102: ЦЕНА ЗА ГРАММ (покупная) | C102: руб | D102: =D101/1000 -> 0.10727 | E102: =E101/1000 -> 0.114 | F102: =F101/1000 -> 0.083 | G102: =G101/1000 -> 0.744 | H102: =H101/1000 -> 1.74 | I102: =I101/1000 -> 0.96 | J102: =J101/1000 -> 0.09057 | K102: =K101/1000 -> 1.17333 | ... BR102: =BR101/1000 -> 0
B103: Израсходовано на сумму (за граммы) | D103: =D99*D101 -> 0 | E103: =E99*E101 -> 0 | F103: =F99*F101 -> 0.415 | G103: =G99*G101 -> 0 | H103: =H99*H101 -> 0 | I103: =I99*I101 -> 0 | J103: =J99*J101 -> 0 | K103: =K99*K101 -> 2.34666 | ... BR103: =BR99*BR101 -> 0 | BS103: =SUM(D103:BQ103) -> 30.681034 | BT103: =BS103/$C$11 -> 30.681034
B104: Израсходовано на сумму (за кг) | D104: =D99*D101 -> 0 | E104: =E99*E101 -> 0 | F104: =F99*F101 -> 0.415 | G104: =G99*G101 -> 0 | H104: =H99*H101 -> 0 | I104: =I99*I101 -> 0 | J104: =J99*J101 -> 0 | K104: =K99*K101 -> 2.34666 | ... BR104: =BR99*BR101 -> 0 | BS104: =SUM(D104:BQ104) -> 30.681034 | BT104: =BS104/$C$11 -> 30.681034
B107: Наименование продуктов | C107: Кол-во человек | D107: =D57 -> Хлеб пшеничный | E107: =E57 -> Хлеб ржано-пшеничный | F107: =F57 -> Сахар | G107: =G57 -> Чай | H107: =H57 -> Какао | I107: =I57 -> Кофейный напиток | J107: =J57 -> Молоко 2,5% | K107: =K57 -> Масло сливочное | ... BR107: =BR57 -> Аскорбиновая кислота | BS107: Итого расход за день | BT107: ИТОГО на 1 Чел
B108: Меню
A109: Ужин | B109: Плов вегетарианский с изюмом | C109: =$F$8 -> 1 | D109: =D31 -> 0 | E109: =E31 -> 0 | F109: =F31 -> 0 | G109: =G31 -> 0 | H109: =H31 -> 0 | I109: =I31 -> 0 | J109: =J31 -> 0 | K109: =K31 -> 0.004 | ... BR109: =BR31 -> 0
B110: Хлеб пшеничный | D110: =D32 -> 0.02 | E110: =E32 -> 0 | F110: =F32 -> 0 | G110: =G32 -> 0 | H110: =H32 -> 0 | I110: =I32 -> 0 | J110: =J32 -> 0 | K110: =K32 -> 0 | ... BR110: =BR32 -> 0
B111: Чай с сахаром | D111: =D33 -> 0 | E111: =E33 -> 0 | F111: =F33 -> 0.01 | G111: =G33 -> 0.0005 | H111: =H33 -> 0 | I111: =I33 -> 0 | J111: =J33 -> 0 | K111: =K33 -> 0 | ... BR111: =BR33 -> 0
D112: =D34 -> 0 | E112: =E34 -> 0 | F112: =F34 -> 0 | G112: =G34 -> 0 | H112: =H34 -> 0 | I112: =I34 -> 0 | J112: =J34 -> 0 | K112: =K34 -> 0 | ... BR112: =BR34 -> 0
D113: =D35 -> 0 | E113: =E35 -> 0 | F113: =F35 -> 0 | G113: =G35 -> 0 | H113: =H35 -> 0 | I113: =I35 -> 0 | J113: =J35 -> 0 | K113: =K35 -> 0 | ... BR113: =BR35 -> 0
B114: Итого на 1 чел | D114: =SUM(D109:D113) -> 0.02 | E114: =SUM(E109:E113) -> 0 | F114: =SUM(F109:F113) -> 0.01 | G114: =SUM(G109:G113) -> 0.0005 | H114: =SUM(H109:H113) -> 0 | I114: =SUM(I109:I113) -> 0 | J114: =SUM(J109:J113) -> 0 | K114: =SUM(K109:K113) -> 0.004 | ... BR114: =SUM(BR109:BR113) -> 0
B115: Итого к выдаче, ГРАММ (на всех) | D115: =PRODUCT(D114,$F$8) -> 0.02 | E115: =PRODUCT(E114,$F$8) -> 0 | F115: =PRODUCT(F114,$F$8) -> 0.01 | G115: =PRODUCT(G114,$F$8) -> 0.0005 | H115: =PRODUCT(H114,$F$8) -> 0 | I115: =PRODUCT(I114,$F$8) -> 0 | J115: =PRODUCT(J114,$F$8) -> 0 | K115: =PRODUCT(K114,$F$8) -> 0.004 | ... BR115: =PRODUCT(BR114,$F$8) -> 0
B117: ЦЕНА ЗА КИЛОГРАММ (покупная) | C117: руб | D117: =D49 -> 107.27 | E117: =E49 -> 114 | F117: =F49 -> 83 | G117: =G49 -> 744 | H117: =H49 -> 1740 | I117: =I49 -> 960 | J117: =J49 -> 90.57 | K117: =K49 -> 1173.33 | ... AE117: =AE49 -> 838 | AH117: =AH49 -> 252 | AJ117: =AJ49 -> 295.45 | AK117: =AK49 -> 99 | AL117: =AL49 -> 72.75 | AM117: =AM49 -> 47.1 | AN117: =AN49 -> 260 | AO117: =AO49 -> 325 | AP117: =AP49 -> 0 | AQ117: =AQ49 -> 420 | ... BR117: =BR49 -> 0
B118: ЦЕНА ЗА ГРАММ (покупная) | C118: руб | D118: =D117/1000 -> 0.10727 | E118: =E117/1000 -> 0.114 | F118: =F117/1000 -> 0.083 | G118: =G117/1000 -> 0.744 | H118: =H117/1000 -> 1.74 | I118: =I117/1000 -> 0.96 | J118: =J117/1000 -> 0.09057 | K118: =K117/1000 -> 1.17333 | ... BR118: =BR117/1000 -> 0
B119: Израсходовано на сумму (за граммы) | D119: =D115*D117 -> 2.1454 | E119: =E115*E117 -> 0 | F119: =F115*F117 -> 0.83 | G119: =G115*G117 -> 0.372 | H119: =H115*H117 -> 0 | I119: =I115*I117 -> 0 | J119: =J115*J117 -> 0 | K119: =K115*K117 -> 4.69332 | ... BR119: =BR115*BR117 -> 0 | BS119: =SUM(D119:BQ119) -> 10.23822 | BT119: =BS119/$C$11 -> 10.23822
B120: Израсходовано на сумму (за кг) | D120: =D115*D117 -> 2.1454 | E120: =E115*E117 -> 0 | F120: =F115*F117 -> 0.83 | G120: =G115*G117 -> 0.372 | H120: =H115*H117 -> 0 | I120: =I115*I117 -> 0 | J120: =J115*J117 -> 0 | K120: =K115*K117 -> 4.69332 | ... BR120: =BR115*BR117 -> 0 | BS120: =SUM(D120:BQ120) -> 10.23822 | BT120: =BS120/$C$11 -> 10.23822
BM124: =BT70 -> 0
BM125: =BT88 -> 85.40823
BM126: =BT104 -> 30.681034
BM127: =BT120 -> 10.23822

Sheet 3-7 лет (день 1)
A1: Утверждаю
A2: Заведующий МКДОУ Ташаринский детский сад "Лесовичок" | H2: Меню - требование на выдачу продуктов питания
A3: _________________ Чугуева Т.В.
A4: подпись | H4: Учреждение МКДОУ "Ташаринский детский сад"Лесовичок"
H5: Ответственное лицо Романашенко Г.М.
D7: детей в количестве | F7: 1 | G7: человек (3-7 лет) на | J7: 46311
B8: Наименование продуктов | C8: Кол-во человек | D8: =[1]Цены!A1 -> Хлеб пшеничный | E8: =[1]Цены!B1 -> Хлеб ржано-пшеничный | F8: =[1]Цены!C1 -> Сахар | G8: =[1]Цены!D1 -> Чай | H8: =[1]Цены!E1 -> Какао | I8: =[1]Цены!F1 -> Кофейный напиток | J8: =[1]Цены!G1 -> Молоко 2,5% | K8: =[1]Цены!H1 -> Масло сливочное | ... AE8: =[1]Цены!AB1 -> Ягода свежемороженная | AF8: Апельсин | AG8: Банан | AH8: =[1]Цены!AC1 -> Лимон | AI8: Яблоко | AJ8: =[1]Цены!AD1 -> Кисель | AK8: =[1]Цены!AE1 -> Сок | AL8: =[1]Цены!AF1 -> Макаронные изделия | AM8: =[1]Цены!AG1 -> Мука | AN8: =[1]Цены!AH1 -> Дрожжи | AO8: =[1]Цены!AI1 -> Печенье | AP8: =[1]Цены!AJ1 -> Пряники | AQ8: =[1]Цены!AK1 -> Вафли | ... BQ8: =[1]Цены!BK1 -> Соль | BR8: Лимонная кислота | BS8: Итого расход за день | BT8: ИТОГО на 1 Чел
B9: Меню
A10: Завтрак | B10: Кукурузная каша молочная | C10: =$F$7 -> 1 | F10: 0.005 | K10: 0.003 | M10: 0.0165 | AW10: 0.02 | BQ10: 0.0005
B11: Бутерброд с маслом | D11: 0.03 | K11: 0.005
B12: Какао с молоком | F12: 0.01 | H12: 0.0012 | J12: 0.09
B14: Салат из зелёного горошка с луком репчатым
A15: Второй завтрак | B15: Яблоко | C15: =F7 -> 1 | AI15: 0.114
B16: Банан
A17: Обед | B17: Свекольник | C17: =F7 -> 1 | K17: 0.002 | L17: 0.003 | BF17: 0.01 | BJ17: 0.06 | BK17: 0.01 | BL17: 0.01 | BN17: 0.07 | BO17: 0.003 | BP17: 0.002 | BQ17: 0.002
B18: Суфле рыбное | D18: 0.01 | X18: 0.16666667 | BH18: 0.05 | BL18: 0.01 | BP18: 0.002 | BQ18: 0.002
B19: Соус сметанный | K19: 0.001 | L19: 0.01 | AM19: 0.0006
B20: Картофельное пюре | J20: 0.024 | K20: 0.002 | BJ20: 0.18 | BQ20: 0.001
B21: Хлеб пшеничный | D21: 0.03
B22: Хлеб ржано-пшеничный | E22: 0.05
B23: Кисель | F23: 0.01 | AJ23: 0.02 | BR23: 5e-05
A24: Полдник | B24: Снежок | C24: =$F$7 -> 1 | N24: 0.15
B25: Манник со сгущенным молоком | F25: 0.005 | K25: 0.002 | L25: 0.01 | P25: 0.007 | X25: 0.142 | AX25: 0.0204 | BP25: 0.0012
B26: Яблоко
A29: Ужин | B29: Макароны отварные с маслом | C29: =$F$7 -> 1 | K29: 0.004 | AL29: 0.03 | BQ29: 0.0005
B30: Хлеб пшеничный | D30: 0.02
B31: Чай с сахаром | F31: 0.01 | G31: 0.0005
B34: Итого на 1 чел | D34: =SUM(D10:D33) -> 0.09 | E34: =SUM(E10:E33) -> 0.05 | F34: =SUM(F10:F33) -> 0.04 | G34: =SUM(G10:G33) -> 0.0005 | H34: =SUM(H10:H33) -> 0.0012 | I34: =SUM(I10:I33) -> 0 | J34: =SUM(J10:J33) -> 0.114 | K34: =SUM(K10:K33) -> 0.019 | ... BR34: =SUM(BR10:BR33) -> 5e-05
B35: К выдаче, ГРАММ (на всех) | D35: =ROUND(PRODUCT(D34,$F$7),3) -> 0.09 | E35: =ROUND(PRODUCT(E34,$F$7),3) -> 0.05 | F35: =ROUND(PRODUCT(F34,$F$7),3) -> 0.04 | G35: =ROUND(PRODUCT(G34,$F$7),3) -> 0.001 | H35: =ROUND(PRODUCT(H34,$F$7),3) -> 0.001 | I35: =ROUND(PRODUCT(I34,$F$7),3) -> 0 | J35: =ROUND(PRODUCT(J34,$F$7),3) -> 0.114 | K35: =ROUND(PRODUCT(K34,$F$7),3) -> 0.019 | ... BR35: =ROUND(PRODUCT(BR34,$F$7),3) -> 0
D36: =D35+'1-3 года (день 1 )'!D35+'СВО 3-7 лет '!D37+'3-7 лет ОВЗ'!D36 -> 0.34 | E36: =E35+'1-3 года (день 1 )'!E35+'СВО 3-7 лет '!E37+'3-7 лет ОВЗ'!E36 -> 0.19 | F36: =F35+'1-3 года (день 1 )'!F35+'СВО 3-7 лет '!F37+'3-7 лет ОВЗ'!F36 -> 0.155 | G36: =G35+'1-3 года (день 1 )'!G35+'СВО 3-7 лет '!G37+'3-7 лет ОВЗ'!G36 -> 0.003 | H36: =H35+'1-3 года (день 1 )'!H35+'СВО 3-7 лет '!H37+'3-7 лет ОВЗ'!H36 -> 0.004 | I36: =I35+'1-3 года (день 1 )'!I35+'СВО 3-7 лет '!I37+'3-7 лет ОВЗ'!I36 -> 0 | J36: =J35+'1-3 года (день 1 )'!J35+'СВО 3-7 лет '!J37+'3-7 лет ОВЗ'!J36 -> 0.441 | K36: =K35+'1-3 года (день 1 )'!K35+'СВО 3-7 лет '!K37+'3-7 лет ОВЗ'!K36 -> 0.073 | ... BR36: =BR35+'1-3 года (день 1 )'!BR35+'СВО 3-7 лет '!BR37+'3-7 лет ОВЗ'!BR36 -> 0 | BS36: =SUM(D36:BQ36) -> 5.567
D39: Ответственный калькулятор | H39: _________________ | K39: С.В.Залевская
D40: исполнитель | F40: должность | H40: подпись
F42: Повар | H42: ___________________
H43: подпись
B50: ЦЕНА ЗА КИЛОГРАММ (покупная) | C50: руб | D50: 107.27 | E50: 114 | F50: 83 | G50: 744 | H50: 1740 | I50: 960 | J50: 90.57 | K50: 1173.33 | L50: 255.2 | M50: 741 | N50: 126.38 | O50: 387.53 | P50: 465.79 | Q50: 520 | R50: 1295 | U50: 824 | V50: 461.33 | W50: 120 | X50: 9 | Y50: 266.5 | Z50: 533 | AA50: 431 | AB50: 400 | AC50: 289 | AD50: 135 | AE50: 838 | AG50: 175 | AH50: 252 | AI50: 208 | AJ50: 295.45 | AK50: 99 | AL50: 72.75 | AM50: 47.1 | AN50: 260 | AO50: 325 | AQ50: 420 | AS50: 288.51 | AT50: 90 | AU50: 83.33 | AV50: 80.67 | AW50: 82.85 | AX50: 81.43 | AY50: 63.75 | AZ50: 95.38 | BA50: 74 | BB50: 65 | BC50: 111.33 | BD50: 346 | BE50: 552 | BF50: 666 | BG50: 320 | BH50: 585 | BJ50: 51 | BK50: 63 | BL50: 42 | BM50: 43 | BN50: 64 | BO50: 280 | BP50: 175.56 | BQ50: 30
B51: ЦЕНА ЗА ГРАММ (покупная) | C51: руб | D51: =D50/1000 -> 0.10727 | E51: =E50/1000 -> 0.114 | F51: =F50/1000 -> 0.083 | G51: =G50/1000 -> 0.744 | H51: =H50/1000 -> 1.74 | I51: =I50/1000 -> 0.96 | J51: =J50/1000 -> 0.09057 | K51: =K50/1000 -> 1.17333 | ... BR51: =BR50/1000 -> 0
B52: Израсходовано на сумму (за граммы) | D52: =D35*D50 -> 9.6543 | E52: =E35*E50 -> 5.7 | F52: =F35*F50 -> 3.32 | G52: =G35*G50 -> 0.744 | H52: =H35*H50 -> 1.74 | I52: =I35*I50 -> 0 | J52: =J35*J50 -> 10.32498 | K52: =K35*K50 -> 22.29327 | ... BR52: =BR35*BR50 -> 0 | BS52: =SUM(D52:BQ52) -> 188.37568 | BT52: =BS52/$C$10 -> 188.37568
B53: Израсходовано на сумму (за кг) | D53: =D36*D51 -> 0.0364718 | E53: =E35*E50 -> 5.7 | F53: =F35*F50 -> 3.32 | G53: =G35*G50 -> 0.744 | H53: =H35*H50 -> 1.74 | I53: =I35*I50 -> 0 | J53: =J35*J50 -> 10.32498 | K53: =K35*K50 -> 22.29327 | L53: =L35*L50 -> 5.8696 | ... BR53: =BR35*BR50 -> 0 | BS53: =SUM(D53:BQ53) -> 178.75785 | BT53: =BS53/$C$10 -> 178.75785
B54: P/S: Итого к выдаче Яйцо- указано в шт. | D54: =D38*D52 -> 0 | E54: =E38*E52 -> 0 | F54: =F71+F89+F105+F121 -> 2.905 | G54: =G71+G89+G105+G121 -> 0.372 | H54: =H71+H89+H105+H121 -> 2.088 | I54: =I71+I89+I105+I121 -> 0 | J54: =J71+J89+J105+J121 -> 10.32498 | K54: =K71+K89+K105+K121 -> 21.11994 | L54: =L71+L89+L105+L121 -> 6.6352 | M54: =M71+M89+M105+M121 -> 0 | ... BR54: =BR71+BR89+BR105+BR121 -> 0
B55: Цена за яйцо, указана за 1 шт. | BT55: =BT70+BT88+BT104+BT120 -> 126.32748
B58: Наименование продуктов | C58: Кол-во человек | D58: =D8 -> Хлеб пшеничный | E58: =E8 -> Хлеб ржано-пшеничный | F58: =F8 -> Сахар | G58: =G8 -> Чай | H58: =H8 -> Какао | I58: =I8 -> Кофейный напиток | J58: =J8 -> Молоко 2,5% | K58: =K8 -> Масло сливочное | ... BQ58: =BQ8 -> Соль | BR58: Аскорбиновая кислота | BS58: Итого расход за день | BT58: ИТОГО на 1 Чел
B59: Меню
A60: Завтрак | B60: Кукурузная каша молочная | C60: =$F$7 -> 1 | D60: =D11 -> 0.03 | E60: =E11 -> 0 | F60: =F11 -> 0 | G60: =G11 -> 0 | H60: =H11 -> 0 | I60: =I11 -> 0 | J60: =J11 -> 0 | K60: =K11 -> 0.005 | ... BO60: =BO11 -> 0
B61: Бутерброд с джемом | D61: =D12 -> 0 | E61: =E12 -> 0 | F61: =F12 -> 0.01 | G61: =G12 -> 0 | H61: =H12 -> 0.0012 | I61: =I12 -> 0 | J61: =J12 -> 0.09 | K61: =K12 -> 0 | ... BO61: =BO12 -> 0
B62: Какао с молоком | D62: =D13 -> 0 | E62: =E13 -> 0 | F62: =F13 -> 0 | G62: =G13 -> 0 | H62: =H13 -> 0 | I62: =I13 -> 0 | J62: =J13 -> 0 | K62: =K13 -> 0 | ... BO62: =BO13 -> 0
D63: =D14 -> 0 | E63: =E14 -> 0 | F63: =F14 -> 0 | G63: =G14 -> 0 | H63: =H14 -> 0 | I63: =I14 -> 0 | J63: =J14 -> 0 | K63: =K14 -> 0 | ... BO63: =BO14 -> 0
D64: =D17 -> 0 | E64: =E17 -> 0 | F64: =F17 -> 0 | G64: =G17 -> 0 | H64: =H17 -> 0 | I64: =I17 -> 0 | J64: =J17 -> 0 | K64: =K17 -> 0.002 | ... BO64: =BO17 -> 0.003
B65: Итого на 1 чел | D65: =SUM(D60:D64) -> 0.03 | E65: =SUM(E60:E64) -> 0 | F65: =SUM(F60:F64) -> 0.01 | G65: =SUM(G60:G64) -> 0 | H65: =SUM(H60:H64) -> 0.0012 | I65: =SUM(I60:I64) -> 0 | J65: =SUM(J60:J64) -> 0.09 | K65: =SUM(K60:K64) -> 0.007 | ... BO65: =SUM(BO60:BO64) -> 0.003
B66: Итого к выдаче, ГРАММ (на всех) | D66: =PRODUCT(D65,$F$7) -> 0.03 | E66: =PRODUCT(E65,$F$7) -> 0 | F66: =PRODUCT(F65,$F$7) -> 0.01 | G66: =PRODUCT(G65,$F$7) -> 0 | H66: =PRODUCT(H65,$F$7) -> 0.0012 | I66: =PRODUCT(I65,$F$7) -> 0 | J66: =PRODUCT(J65,$F$7) -> 0.09 | K66: =PRODUCT(K65,$F$7) -> 0.007 | ... BO66: =PRODUCT(BO65,$F$7) -> 0.003
B68: ЦЕНА ЗА КИЛОГРАММ (покупная) | C68: руб | D68: =D50 -> 107.27 | E68: =E50 -> 114 | F68: =F50 -> 83 | G68: =G50 -> 744 | H68: =H50 -> 1740 | I68: =I50 -> 960 | J68: =J50 -> 90.57 | K68: =K50 -> 1173.33 | ... BN68: =BN50 -> 64 | BO68: 6
B69: ЦЕНА ЗА ГРАММ (покупная) | C69: руб | D69: =D68/1000 -> 0.10727 | E69: =E68/1000 -> 0.114 | F69: =F68/1000 -> 0.083 | G69: =G68/1000 -> 0.744 | H69: =H68/1000 -> 1.74 | I69: =I68/1000 -> 0.96 | J69: =J68/1000 -> 0.09057 | K69: =K68/1000 -> 1.17333 | ... BO69: =BO68/1000 -> 0.006
B70: Израсходовано на сумму (за граммы) | D70: =D66*D68 -> 3.2181 | E70: =E66*E68 -> 0 | F70: =F66*F68 -> 0.83 | G70: =G66*G68 -> 0 | H70: =H66*H68 -> 2.088 | I70: =I66*I68 -> 0 | J70: =J66*J68 -> 8.1513 | K70: =K66*K68 -> 8.21331 | ... BO70: =BO66*BO68 -> 0.018 | BP70: =SUM(D70:BN70) -> 38.51631 | BQ70: =BP70/$C$10 -> 38.51631
B71: Израсходовано на сумму (за кг) | D71: =D66*D68 -> 3.2181 | E71: =E66*E68 -> 0 | F71: =F66*F68 -> 0.83 | G71: =G66*G68 -> 0 | H71: =H66*H68 -> 2.088 | I71: =I66*I68 -> 0 | J71: =J66*J68 -> 8.1513 | K71: =K66*K68 -> 8.21331 | ... BO71: =BO66*BO68 -> 0.018 | BP71: =SUM(D71:BN71) -> 38.51631 | BQ71: =BP71/$C$10 -> 38.51631
B74: Наименование продуктов | C74: Кол-во человек | D74: =D58 -> Хлеб пшеничный | E74: =E58 -> Хлеб ржано-пшеничный | F74: =F58 -> Сахар | G74: =G58 -> Чай | H74: =H58 -> Какао | I74: =I58 -> Кофейный напиток | J74: =J58 -> Молоко 2,5% | K74: =K58 -> Масло сливочное | ... V74: =V58 -> Огурцы консервирован. | X74: =X58 -> Яйцо | Y74: =Y58 -> Икра кабачковая | Z74: =Z58 -> Изюм | AA74: =AA58 -> Курага | AB74: =AB58 -> Чернослив | AC74: =AC58 -> Шиповник | AD74: =AD58 -> Сухофрукты | AE74: =AE58 -> Ягода свежемороженная | ... BQ74: =BQ58 -> Соль | BR74: Аскорбиновая кислота | BS74: Итого расход за день | BT74: ИТОГО на 1 Чел
B75: Меню
B76: Суп с лапшой | D76: =D17 -> 0 | E76: =E17 -> 0 | F76: =F17 -> 0 | G76: =G17 -> 0 | H76: =H17 -> 0 | I76: =I17 -> 0 | J76: =J17 -> 0 | K76: =K17 -> 0.002 | ... BR76: =BR17 -> 0
B77: Суфле рыбное | D77: =D18 -> 0.01 | E77: =E18 -> 0 | F77: =F18 -> 0 | G77: =G18 -> 0 | H77: =H18 -> 0 | I77: =I18 -> 0 | J77: =J18 -> 0 | K77: =K18 -> 0 | ... BR77: =BR18 -> 0
B78: Соус сметанный | D78: =D19 -> 0 | E78: =E19 -> 0 | F78: =F19 -> 0 | G78: =G19 -> 0 | H78: =H19 -> 0 | I78: =I19 -> 0 | J78: =J19 -> 0 | K78: =K19 -> 0.001 | ... BR78: =BR19 -> 0
B79: Картофельное пюре | D79: =D20 -> 0 | E79: =E20 -> 0 | F79: =F20 -> 0 | G79: =G20 -> 0 | H79: =H20 -> 0 | I79: =I20 -> 0 | J79: =J20 -> 0.024 | K79: =K20 -> 0.002 | ... BR79: =BR20 -> 0
B80: Хлеб пшеничный | D80: =D21 -> 0.03 | E80: =E21 -> 0 | F80: =F21 -> 0 | G80: =G21 -> 0 | H80: =H21 -> 0 | I80: =I21 -> 0 | J80: =J21 -> 0 | K80: =K21 -> 0 | ... BR80: =BR21 -> 0
B81: Хлеб ржано-пшеничный | D81: =D22 -> 0 | E81: =E22 -> 0.05 | F81: =F22 -> 0 | G81: =G22 -> 0 | H81: =H22 -> 0 | I81: =I22 -> 0 | J81: =J22 -> 0 | K81: =K22 -> 0 | ... BR81: =BR22 -> 0
B82: Кисель | D82: =D23 -> 0 | E82: =E23 -> 0 | F82: =F23 -> 0.01 | G82: =G23 -> 0 | H82: =H23 -> 0 | I82: =I23 -> 0 | J82: =J23 -> 0 | K82: =K23 -> 0 | ... BR82: =BR23 -> 5e-05
B83: Итого на 1 чел | D83: =SUM(D76:D82) -> 0.04 | E83: =SUM(E76:E82) -> 0.05 | F83: =SUM(F76:F82) -> 0.01 | G83: =SUM(G76:G82) -> 0 | H83: =SUM(H76:H82) -> 0 | I83: =SUM(I76:I82) -> 0 | J83: =SUM(J76:J82) -> 0.024 | K83: =SUM(K76:K82) -> 0.005 | ... BR83: =SUM(BR76:BR82) -> 5e-05
B84: Итого к выдаче, ГРАММ (на всех) | D84: =PRODUCT(D83,$F$7) -> 0.04 | E84: =PRODUCT(E83,$F$7) -> 0.05 | F84: =PRODUCT(F83,$F$7) -> 0.01 | G84: =PRODUCT(G83,$F$7) -> 0 | H84: =PRODUCT(H83,$F$7) -> 0 | I84: =PRODUCT(I83,$F$7) -> 0 | J84: =PRODUCT(J83,$F$7) -> 0.024 | K84: =PRODUCT(K83,$F$7) -> 0.005 | ... BR84: =PRODUCT(BR83,$F$7) -> 5e-05
B86: ЦЕНА ЗА КИЛОГРАММ (покупная) | C86: руб | D86: =D50 -> 107.27 | E86: =E50 -> 114 | F86: =F50 -> 83 | G86: =G50 -> 744 | H86: =H50 -> 1740 | I86: =I50 -> 960 | J86: =J50 -> 90.57 | K86: =K50 -> 1173.33 | ... AE86: =AE50 -> 838 | AH86: =AH50 -> 252 | AJ86: =AJ50 -> 295.45 | AK86: =AK50 -> 99 | AL86: =AL50 -> 72.75 | AM86: =AM50 -> 47.1 | AN86: =AN50 -> 260 | AO86: =AO50 -> 325 | AP86: =AP50 -> 0 | AQ86: =AQ50 -> 420 | ... BR86: =BR50 -> 0
B87: ЦЕНА ЗА ГРАММ (покупная) | C87: руб | D87: =D86/1000 -> 0.10727 | E87: =E86/1000 -> 0.114 | F87: =F86/1000 -> 0.083 | G87: =G86/1000 -> 0.744 | H87: =H86/1000 -> 1.74 | I87: =I86/1000 -> 0.96 | J87: =J86/1000 -> 0.09057 | K87: =K86/1000 -> 1.17333 | ... BR87: =BR86/1000 -> 0
B88: Израсходовано на сумму (за граммы) | D88: =D84*D86 -> 4.2908 | E88: =E84*E86 -> 5.7 | F88: =F84*F86 -> 0.83 | G88: =G84*G86 -> 0 | H88: =H84*H86 -> 0 | I88: =I84*I86 -> 0 | J88: =J84*J86 -> 2.17368 | K88: =K84*K86 -> 5.86665 | ... BR88: =BR84*BR86 -> 0 | BS88: =SUM(D88:BQ88) -> 85.40823 | BT88: =BS88/$C$10 -> 85.40823
B89: Израсходовано на сумму (за кг) | D89: =D84*D86 -> 4.2908 | E89: =E84*E86 -> 5.7 | F89: =F84*F86 -> 0.83 | G89: =G84*G86 -> 0 | H89: =H84*H86 -> 0 | I89: =I84*I86 -> 0 | J89: =J84*J86 -> 2.17368 | K89: =K84*K86 -> 5.86665 | ... BR89: =BR84*BR86 -> 0 | BS89: =SUM(D89:BQ89) -> 85.40823 | BT89: =BS89/$C$10 -> 85.40823
B92: Наименование продуктов | C92: Кол-во человек | D92: =D58 -> Хлеб пшеничный | E92: =E58 -> Хлеб ржано-пшеничный | F92: =F58 -> Сахар | G92: =G58 -> Чай | H92: =H58 -> Какао | I92: =I58 -> Кофейный напиток | J92: =J58 -> Молоко 2,5% | K92: =K58 -> Масло сливочное | ... V92: =V58 -> Огурцы консервирован. | X92: =X58 -> Яйцо | Y92: =Y58 -> Икра кабачковая | Z92: =Z58 -> Изюм | AA92: =AA58 -> Курага | AB92: =AB58 -> Чернослив | AC92: =AC58 -> Шиповник | AD92: =AD58 -> Сухофрукты | AE92: =AE58 -> Ягода свежемороженная | ... BQ92: =BQ58 -> Соль | BR92: Аскорбиновая кислота | BS92: Итого расход за день | BT92: ИТОГО на 1 Чел
B93: Меню
A94: Полдник | B94: Чай с лимоном | C94: =$F$7 -> 1 | D94: =D24 -> 0 | E94: =E24 -> 0 | F94: =F24 -> 0 | G94: =G24 -> 0 | H94: =H24 -> 0 | I94: =I24 -> 0 | J94: =J24 -> 0 | K94: =K24 -> 0 | ... BR94: =BR24 -> 0
B95: Манник с молоком сгущенным | D95: =D25 -> 0 | E95: =E25 -> 0 | F95: =F25 -> 0.005 | G95: =G25 -> 0 | H95: =H25 -> 0 | I95: =I25 -> 0 | J95: =J25 -> 0 | K95: =K25 -> 0.002 | ... BR95: =BR25 -> 0
D96: =D26 -> 0 | E96: =E26 -> 0 | F96: =F26 -> 0 | G96: =G26 -> 0 | H96: =H26 -> 0 | I96: =I26 -> 0 | J96: =J26 -> 0 | K96: =K26 -> 0 | ... BR96: =BR26 -> 0
D97: =D27 -> 0 | E97: =E27 -> 0 | F97: =F27 -> 0 | G97: =G27 -> 0 | H97: =H27 -> 0 | I97: =I27 -> 0 | J97: =J27 -> 0 | K97: =K27 -> 0 | ... BR97: =BR27 -> 0
D98: =D28 -> 0 | E98: =E28 -> 0 | F98: =F28 -> 0 | G98: =G28 -> 0 | H98: =H28 -> 0 | I98: =I28 -> 0 | J98: =J28 -> 0 | K98: =K28 -> 0 | ... BR98: =BR28 -> 0
B99: Итого на 1 чел | D99: =SUM(D94:D98) -> 0 | E99: =SUM(E94:E98) -> 0 | F99: =SUM(F94:F98) -> 0.005 | G99: =SUM(G94:G98) -> 0 | H99: =SUM(H94:H98) -> 0 | I99: =SUM(I94:I98) -> 0 | J99: =SUM(J94:J98) -> 0 | K99: =SUM(K94:K98) -> 0.002 | ... BR99: =SUM(BR94:BR98) -> 0
B100: Итого к выдаче, ГРАММ (на всех) | D100: =PRODUCT(D99,$F$7) -> 0 | E100: =PRODUCT(E99,$F$7) -> 0 | F100: =PRODUCT(F99,$F$7) -> 0.005 | G100: =PRODUCT(G99,$F$7) -> 0 | H100: =PRODUCT(H99,$F$7) -> 0 | I100: =PRODUCT(I99,$F$7) -> 0 | J100: =PRODUCT(J99,$F$7) -> 0 | K100: =PRODUCT(K99,$F$7) -> 0.002 | ... BR100: =PRODUCT(BR99,$F$7) -> 0
B102: ЦЕНА ЗА КИЛОГРАММ (покупная) | C102: руб | D102: =D50 -> 107.27 | E102: =E50 -> 114 | F102: =F50 -> 83 | G102: =G50 -> 744 | H102: =H50 -> 1740 | I102: =I50 -> 960 | J102: =J50 -> 90.57 | K102: =K50 -> 1173.33 | ... AE102: =AE50 -> 838 | AH102: =AH50 -> 252 | AJ102: =AJ50 -> 295.45 | AK102: =AK50 -> 99 | AL102: =AL50 -> 72.75 | AM102: =AM50 -> 47.1 | AN102: =AN50 -> 260 | AO102: =AO50 -> 325 | AP102: =AP50 -> 0 | AQ102: =AQ50 -> 420 | ... BR102: =BR50 -> 0
B103: ЦЕНА ЗА ГРАММ (покупная) | C103: руб | D103: =D102/1000 -> 0.10727 | E103: =E102/1000 -> 0.114 | F103: =F102/1000 -> 0.083 | G103: =G102/1000 -> 0.744 | H103: =H102/1000 -> 1.74 | I103: =I102/1000 -> 0.96 | J103: =J102/1000 -> 0.09057 | K103: =K102/1000 -> 1.17333 | ... BR103: =BR102/1000 -> 0
B104: Израсходовано на сумму (за граммы) | D104: =D100*D102 -> 0 | E104: =E100*E102 -> 0 | F104: =F100*F102 -> 0.415 | G104: =G100*G102 -> 0 | H104: =H100*H102 -> 0 | I104: =I100*I102 -> 0 | J104: =J100*J102 -> 0 | K104: =K100*K102 -> 2.34666 | ... BR104: =BR100*BR102 -> 0 | BS104: =SUM(D104:BQ104) -> 30.681034 | BT104: =BS104/$C$10 -> 30.681034
B105: Израсходовано на сумму (за кг) | D105: =D100*D102 -> 0 | E105: =E100*E102 -> 0 | F105: =F100*F102 -> 0.415 | G105: =G100*G102 -> 0 | H105: =H100*H102 -> 0 | I105: =I100*I102 -> 0 | J105: =J100*J102 -> 0 | K105: =K100*K102 -> 2.34666 | ... BR105: =BR100*BR102 -> 0 | BS105: =SUM(D105:BQ105) -> 30.681034 | BT105: =BS105/$C$10 -> 30.681034
B108: Наименование продуктов | C108: Кол-во человек | D108: =D58 -> Хлеб пшеничный | E108: =E58 -> Хлеб ржано-пшеничный | F108: =F58 -> Сахар | G108: =G58 -> Чай | H108: =H58 -> Какао | I108: =I58 -> Кофейный напиток | J108: =J58 -> Молоко 2,5% | K108: =K58 -> Масло сливочное | ... BR108: =BR58 -> Аскорбиновая кислота | BS108: Итого расход за день | BT108: ИТОГО на 1 Чел
B109: Меню
A110: Ужин | B110: Плов вегетарианский с изюмом | C110: =$F$7 -> 1 | D110: =D29 -> 0 | E110: =E29 -> 0 | F110: =F29 -> 0 | G110: =G29 -> 0 | H110: =H29 -> 0 | I110: =I29 -> 0 | J110: =J29 -> 0 | K110: =K29 -> 0.004 | ... BR110: =BR29 -> 0
B111: Хлеб пшеничный | D111: =D30 -> 0.02 | E111: =E30 -> 0 | F111: =F30 -> 0 | G111: =G30 -> 0 | H111: =H30 -> 0 | I111: =I30 -> 0 | J111: =J30 -> 0 | K111: =K30 -> 0 | ... BR111: =BR30 -> 0
B112: Чай с сахаром | D112: =D31 -> 0 | E112: =E31 -> 0 | F112: =F31 -> 0.01 | G112: =G31 -> 0.0005 | H112: =H31 -> 0 | I112: =I31 -> 0 | J112: =J31 -> 0 | K112: =K31 -> 0 | ... BR112: =BR31 -> 0
D113: =D32 -> 0 | E113: =E32 -> 0 | F113: =F32 -> 0 | G113: =G32 -> 0 | H113: =H32 -> 0 | I113: =I32 -> 0 | J113: =J32 -> 0 | K113: =K32 -> 0 | ... BR113: =BR32 -> 0
D114: =D33 -> 0 | E114: =E33 -> 0 | F114: =F33 -> 0 | G114: =G33 -> 0 | H114: =H33 -> 0 | I114: =I33 -> 0 | J114: =J33 -> 0 | K114: =K33 -> 0 | ... BR114: =BR33 -> 0
B115: Итого на 1 чел | D115: =SUM(D110:D114) -> 0.02 | E115: =SUM(E110:E114) -> 0 | F115: =SUM(F110:F114) -> 0.01 | G115: =SUM(G110:G114) -> 0.0005 | H115: =SUM(H110:H114) -> 0 | I115: =SUM(I110:I114) -> 0 | J115: =SUM(J110:J114) -> 0 | K115: =SUM(K110:K114) -> 0.004 | ... BR115: =SUM(BR110:BR114) -> 0
B116: Итого к выдаче, ГРАММ (на всех) | D116: =PRODUCT(D115,$F$7) -> 0.02 | E116: =PRODUCT(E115,$F$7) -> 0 | F116: =PRODUCT(F115,$F$7) -> 0.01 | G116: =PRODUCT(G115,$F$7) -> 0.0005 | H116: =PRODUCT(H115,$F$7) -> 0 | I116: =PRODUCT(I115,$F$7) -> 0 | J116: =PRODUCT(J115,$F$7) -> 0 | K116: =PRODUCT(K115,$F$7) -> 0.004 | ... BR116: =PRODUCT(BR115,$F$7) -> 0
B118: ЦЕНА ЗА КИЛОГРАММ (покупная) | C118: руб | D118: =D50 -> 107.27 | E118: =E50 -> 114 | F118: =F50 -> 83 | G118: =G50 -> 744 | H118: =H50 -> 1740 | I118: =I50 -> 960 | J118: =J50 -> 90.57 | K118: =K50 -> 1173.33 | ... AE118: =AE50 -> 838 | AH118: =AH50 -> 252 | AJ118: =AJ50 -> 295.45 | AK118: =AK50 -> 99 | AL118: =AL50 -> 72.75 | AM118: =AM50 -> 47.1 | AN118: =AN50 -> 260 | AO118: =AO50 -> 325 | AP118: =AP50 -> 0 | AQ118: =AQ50 -> 420 | ... BR118: =BR50 -> 0
B119: ЦЕНА ЗА ГРАММ (покупная) | C119: руб | D119: =D118/1000 -> 0.10727 | E119: =E118/1000 -> 0.114 | F119: =F118/1000 -> 0.083 | G119: =G118/1000 -> 0.744 | H119: =H118/1000 -> 1.74 | I119: =I118/1000 -> 0.96 | J119: =J118/1000 -> 0.09057 | K119: =K118/1000 -> 1.17333 | ... BR119: =BR118/1000 -> 0
B120: Израсходовано на сумму (за граммы) | D120: =D116*D118 -> 2.1454 | E120: =E116*E118 -> 0 | F120: =F116*F118 -> 0.83 | G120: =G116*G118 -> 0.372 | H120: =H116*H118 -> 0 | I120: =I116*I118 -> 0 | J120: =J116*J118 -> 0 | K120: =K116*K118 -> 4.69332 | ... BR120: =BR116*BR118 -> 0 | BS120: =SUM(D120:BQ120) -> 10.23822 | BT120: =BS120/$C$10 -> 10.23822
B121: Израсходовано на сумму (за кг) | D121: =D116*D118 -> 2.1454 | E121: =E116*E118 -> 0 | F121: =F116*F118 -> 0.83 | G121: =G116*G118 -> 0.372 | H121: =H116*H118 -> 0 | I121: =I116*I118 -> 0 | J121: =J116*J118 -> 0 | K121: =K116*K118 -> 4.69332 | ... BR121: =BR116*BR118 -> 0 | BS121: =SUM(D121:BQ121) -> 10.23822 | BT121: =BS121/$C$10 -> 10.23822
BM125: =BT71 -> 0
BM126: =BT89 -> 85.40823
BM127: =BT105 -> 30.681034
BM128: =BT121 -> 10.23822

Sheet День 1 до 3 лет
J1: Утверждаю
J2: Заведующий МК ДОУ
J3: Ташаринский детский сад "Лесовичок"
J4: _____________________Т.В. Чугуева
E5: Меню на | G5: ='3-7 лет (день 1)'!J7 -> 46311
A6: Прием пищи | B6: Наименование блюда | C6: Выход блюда | D6: Белки, г | E6: Жиры, г | F6: Углеводы, г | G6: Эн. Цен (ккал) | H6: Ca | I6: Fe | J6: B1 | K6: B2 | L6: C | M6: № рецептуры
A7: День 1 | B7: Дети с 1,5 - 3 лет
A8: Завтрак | B8: ='1-3 года (день 1 )'!B10 -> Кукурузная каша молочная | C8: 150 | D8: 4.37 | E8: 5.45 | F8: 19.17 | G8: 144 | H8: 137.53 | I8: 0.48 | J8: 0.06 | K8: 0.05 | L8: 1.47 | M8: 91
B9: ='1-3 года (день 1 )'!B11 -> Бутерброд с маслом | C9: 20/4 | D9: 1.54 | E9: 3.46 | F9: 9.75 | G9: 78 | H9: 4.48 | I9: 0.23 | J9: 0.02 | K9: 0.02 | L9: 0 | M9: 1
B10: ='1-3 года (день 1 )'!B12 -> Какао с молоком | C10: 150 | D10: 1.25 | E10: 1.33 | F10: 10.08 | G10: 50 | H10: 83.33 | I10: 0.01 | J10: 0.02 | K10: 0.01 | L10: 0.54 | M10: 248
A11: Второй завтрак | B11: Яблоки | C11: 95 | D11: 0.3 | E11: 0.3 | F11: 7.35 | G11: 33 | H11: 12 | I11: 1.65 | J11: 0.02 | K11: 0.01 | L11: 7.5
A12: Обед | B12: ='1-3 года (день 1 )'!B14 -> Салат из зелёного горошка с луком репчатым | C12: 45 | D12: 1.18 | E12: 3.81 | F12: 2.93 | G12: 50.25 | H12: 9.23 | I12: 0.3 | J12: 0.04 | K12: 0.03 | L12: 2.4
B13: Банан | C13: 95 | D13: 0.67 | E13: 0.14 | F13: 17.25 | G13: 73 | H13: 25.8 | I13: 0.26 | J13: 0.02 | K13: 0.02 | L13: 44.86
A14: Обед | B14: ='3-7 лет (день 1)'!B17 -> Свекольник | C14: 200 | D14: 3.38 | E14: 5.2 | F14: 11.03 | G14: 116.11 | H14: 38.04 | I14: 1.31 | J14: 0.07 | K14: 0.05 | L14: 7.97 | M14: 34
B15: ='3-7 лет (день 1)'!B18 -> Суфле рыбное | C15: 70 | D15: 4.55 | E15: 7.44 | F15: 13.3 | G15: 135.89 | H15: 31.59 | I15: 0.5 | J15: 0.03 | K15: 0.06 | L15: 0.04 | M15: 146
B16: ='3-7 лет (день 1)'!B19 -> Соус сметанный | C16: 20 | D16: 0.3 | E16: 3.37 | F16: 1.08 | G16: 30 | H16: 8.35 | I16: 0.03 | J16: 0 | K16: 0.07 | L16: 0.04 | M16: 226
B17: ='3-7 лет (день 1)'!B20 -> Картофельное пюре | C17: 120 | D17: 2.44 | E17: 4.19 | F17: 14.45 | G17: 113.6 | H17: 36.94 | I17: 0.85 | J17: 0.11 | K17: 0.08 | L17: 14.36 | M17: 206
B18: ='3-7 лет (день 1)'!B21 -> Хлеб пшеничный | C18: 20 | D18: 1.57 | E18: 0.2 | F18: 9.65 | G18: 48 | H18: 4.6 | I18: 0.4 | J18: 0.03 | K18: 0.005 | L18: 0
B19: ='3-7 лет (день 1)'!B22 -> Хлеб ржано-пшеничный | C19: 40 | D19: 2.64 | E19: 0.48 | F19: 13.36 | G19: 69.6 | H19: 14 | I19: 1.56 | J19: 0.072 | K19: 0.032 | L19: 0
B20: ='3-7 лет (день 1)'!B23 -> Кисель | C20: 150 | D20: 0 | E20: 0 | F20: 13.5 | G20: 46.5 | H20: 0.37 | I20: 0.06 | J20: 0 | K20: 0 | L20: 0 | M20: 233
A22: Полдник | B22: ='3-7 лет (день 1)'!B24 -> Снежок | C22: 140 | D22: 4.06 | E22: 4.48 | F22: 5.6 | G22: 82.6 | H22: 18.82 | I22: 0.44 | J22: 0.06 | K22: 0.05 | L22: 1.19 | M22: 251
B23: ='3-7 лет (день 1)'!B25 -> Манник со сгущенным молоком | C23: 50/25 | D23: 4.29 | E23: 8.22 | F23: 24.07 | G23: 145.3 | H23: 84.35 | I23: 0.28 | J23: 0.04 | K23: 0.05 | L23: 0.37 | M23: 274
B24: Яблоки | C24: 75 | D24: 0.3 | E24: 0.3 | F24: 7.35 | G24: 33 | H24: 12 | I24: 1.65 | J24: 0.02 | K24: 0.01 | L24: 7.5
A26: Ужин | B26: ='3-7 лет (день 1)'!B29 -> Макароны отварные с маслом | C26: 120 | D26: 2.7 | E26: 2.28 | F26: 51.18 | G26: 156.18 | H26: 18.93 | I26: 0.3 | J26: 0.1 | K26: 0.05 | L26: 0.12 | M26: 106
B27: ='3-7 лет (день 1)'!B30 -> Хлеб пшеничный | C27: 30 | D27: 2.355 | E27: 0.3 | F27: 14.475 | G27: 72 | H27: 6.9 | I27: 0.6 | J27: 0.045 | K27: 0.0075 | L27: 0
B28: ='3-7 лет (день 1)'!B31 -> Чай с сахаром | C28: 150/9 | D28: 0 | E28: 0 | F28: 8.98 | G28: 30 | H28: 0.27 | I28: 0.05 | J28: 0 | K28: 0 | L28: 0.27 | M28: 263, 264
B29: ВСЕГО за день | D29: =SUM(D8:D28) -> 37.895 | E29: =SUM(E8:E28) -> 50.95 | F29: =SUM(F8:F28) -> 237.305 | G29: =SUM(G8:G28) -> 1507.03 | H29: =SUM(H8:H28) -> 547.53 | I29: =SUM(I8:I28) -> 10.96 | J29: =SUM(J8:J28) -> 0.757 | K29: =SUM(K8:K28) -> 0.6045 | L29: =SUM(L8:L28) -> 88.63
A31: Ответственный за питание _________________________ С.В.Залевская

Sheet День 1 от 3 лет
J1: Утверждаю
J2: Заведующий МК ДОУ
J3: Ташаринский детский сад "Лесовичок"
J4: __________________ Т.В. Чугуева
E5: Меню на | G5: ='3-7 лет (день 1)'!J7 -> 46311
A6: Прием пищи | B6: Наименование блюда | C6: Выход блюда | D6: Белки, г | E6: Жиры, г | F6: Углеводы, г | G6: Эн. Цен (ккал) | H6: Ca | I6: Fe | J6: B1 | K6: B2 | L6: C | M6: № рецептуры
A7: День 1 | B7: Дети с 3 - 7 лет
A8: Завтрак | B8: ='3-7 лет (день 1)'!B10 -> Кукурузная каша молочная | C8: 200 | D8: 5.83 | E8: 7.27 | F8: 25.56 | G8: 192 | H8: 183.3 | I8: 0.64 | J8: 0.08 | K8: 0.07 | L8: 1.96 | M8: 91
B9: ='3-7 лет (день 1)'!B11 -> Бутерброд с маслом | C9: 30/5 | D9: 2.3 | E9: 4.36 | F9: 14.62 | G9: 108 | H9: 6.6 | I9: 0.34 | J9: 0.03 | K9: 0.03 | L9: 0 | M9: 1
B10: ='3-7 лет (день 1)'!B12 -> Какао с молоком | C10: 180 | D10: 1.5 | E10: 1.6 | F10: 12.1 | G10: 60 | H10: 100 | I10: 0.02 | J10: 0.02 | K10: 0.01 | L10: 0.65 | M10: 248
A12: Обед | B12: ='3-7 лет (день 1)'!B14 -> Салат из зелёного горошка с луком репчатым | C12: 60 | D12: 1.57 | E12: 5.08 | F12: 3.9 | G12: 67 | H12: 12.3 | I12: 0.4 | J12: 0.05 | K12: 0.04 | L12: 3.2
A13: Второй завтрак | B13: Яблоки | C13: 100 | D13: 0.4 | E13: 0.4 | F13: 9.8 | G13: 44 | H13: 16 | I13: 2.2 | J13: 0.03 | K13: 0.02 | L13: 10
B14: Банан | C14: 100 | D14: 0.9 | E14: 0.2 | F14: 23.07 | G14: 98 | H14: 34.5 | I14: 0.35 | J14: 0.04 | K14: 0.03 | L14: 60
A15: Обед | B15: ='3-7 лет (день 1)'!B17 -> Свекольник | C15: 250 | D15: 4.22 | E15: 6.5 | F15: 13.77 | G15: 145 | H15: 47.51 | I15: 1.64 | J15: 0.09 | K15: 0.06 | L15: 9.95 | M15: 34
B16: ='3-7 лет (день 1)'!B18 -> Суфле рыбное | C16: 80 | D16: 9.58 | E16: 12.16 | F16: 8.06 | G16: 179.89 | H16: 36.1 | I16: 0.57 | J16: 0.03 | K16: 0.07 | L16: 0.05 | M16: 146
B17: ='3-7 лет (день 1)'!B19 -> Соус сметанный | C17: 30 | D17: 0.45 | E17: 5.06 | F17: 1.62 | G17: 45 | H17: 12.53 | I17: 0.05 | J17: 0 | K17: 0.1 | L17: 0.06 | M17: 226
B18: ='3-7 лет (день 1)'!B20 -> Картофельное пюре | C18: 150 | D18: 3.05 | E18: 5.24 | F18: 18.06 | G18: 142 | H18: 46.18 | I18: 1.06 | J18: 0.14 | K18: 0.1 | L18: 17.95 | M18: 206
B19: ='3-7 лет (день 1)'!B21 -> Хлеб пшеничный | C19: 20 | D19: 1.57 | E19: 0.2 | F19: 9.65 | G19: 48 | H19: 4.6 | I19: 0.4 | J19: 0.03 | K19: 0.005 | L19: 0
B20: ='3-7 лет (день 1)'!B22 -> Хлеб ржано-пшеничный | C20: 50 | D20: 3.3 | E20: 0.6 | F20: 16.7 | G20: 87 | H20: 17.5 | I20: 1.95 | J20: 0.09 | K20: 0.04 | L20: 0
B21: ='3-7 лет (день 1)'!B23 -> Кисель | C21: 200 | D21: 0 | E21: 0 | F21: 18 | G21: 60 | H21: 0.48 | I21: 0.07 | J21: 0 | K21: 0 | L21: 0 | M21: 233
A23: Полдник | B23: ='3-7 лет (день 1)'!B24 -> Снежок | C23: 150 | D23: 4.35 | E23: 4.8 | F23: 6 | G23: 88.5 | H23: 180 | I23: 0.15 | J23: 0.05 | K23: 0.26 | L23: 1.05 | M23: 251
B24: ='3-7 лет (день 1)'!B25 -> Манник со сгущенным молоком | C24: 60/30 | D24: 5.15 | E24: 9.86 | F24: 28.88 | G24: 186.9 | H24: 101.22 | I24: 0.33 | J24: 0.05 | K24: 0.06 | L24: 0.44 | M24: 274
B25: Яблоки | C25: 100 | D25: 0.4 | E25: 0.4 | F25: 9.8 | G25: 44 | H25: 16 | I25: 2.2 | J25: 0.03 | K25: 0.02 | L25: 10
A27: Ужин | B27: ='3-7 лет (день 1)'!B29 -> Макароны отварные с маслом | C27: 200 | D27: 5.78 | E27: 4.42 | F27: 81.65 | G27: 389.52 | H27: 31.55 | I27: 0.5 | J27: 0.17 | K27: 0.07 | L27: 0.2 | M27: 106
B28: ='3-7 лет (день 1)'!B30 -> Хлеб пшеничный | C28: 30 | D28: 2.355 | E28: 0.3 | F28: 14.475 | G28: 72 | H28: 6.9 | I28: 0.6 | J28: 0.045 | K28: 0.0075 | L28: 0
B29: ='3-7 лет (день 1)'!B31 -> Чай с сахаром | C29: 180/12 | D29: 0 | E29: 0 | F29: 11.98 | G29: 43 | H29: 0.35 | I29: 0.06 | J29: 0 | K29: 0 | L29: 0 | M29: 263, 264
B30: ВСЕГО за день | D30: =SUM(D8:D29) -> 52.705 | E30: =SUM(E8:E29) -> 68.45 | F30: =SUM(F8:F29) -> 327.695 | G30: =SUM(G8:G29) -> 2099.81 | H30: =SUM(H8:H29) -> 853.62 | I30: =SUM(I8:I29) -> 13.53 | J30: =SUM(J8:J29) -> 0.975 | K30: =SUM(K8:K29) -> 0.9925 | L30: =SUM(L8:L29) -> 115.51
A32: Ответственный за питание _________________________ С.В.Залевская

Sheet БГП
A1: ='3-7 лет (день 1)'!J7 -> 46311
A2: Час изготовления блюда | B2: Время снятия бракеража | C2: Наименование блюда, кулинарного изделия | D2: Результаты органолептической оценки и степени готовности блюда, кулинарного изделия | E2: Разрешение к реализации блюда, кулинарного изделия | F2: Подписи членов бракеражной комиссии | G2: Примечание
A5: Завтрак 7:00-8:30 | B5: 0.36111111 | C5: ='3-7 лет (день 1)'!B10 -> Кукурузная каша молочная | D5: отлично | E5: разрешено
C6: ='3-7 лет (день 1)'!B11 -> Бутерброд с маслом | D6: отлично | E6: разрешено
C7: ='3-7 лет (день 1)'!B12 -> Какао с молоком | D7: отлично | E7: разрешено
A8: Второй завтрак 10:00-10:20 | B8: 0.4375 | C8: Яблоко | D8: отлично | E8: разрешено
A10: Обед 9:00-11:30 | B10: 0.48611111 | C10: ='3-7 лет (день 1)'!B17 -> Свекольник | D10: отлично | E10: разрешено
C11: ='3-7 лет (день 1)'!B18 -> Суфле рыбное | D11: отлично | E11: разрешено
C12: ='3-7 лет (день 1)'!B19 -> Соус сметанный | D12: отлично | E12: разрешено
C13: ='3-7 лет (день 1)'!B20 -> Картофельное пюре | D13: отлично | E13: разрешено
C14: ='3-7 лет (день 1)'!B21 -> Хлеб пшеничный | D14: отлично | E14: разрешено
C15: ='3-7 лет (день 1)'!B22 -> Хлеб ржано-пшеничный | D15: отлично | E15: разрешено
C16: ='3-7 лет (день 1)'!B23 -> Кисель | D16: отлично | E16: разрешено
A18: Полдник 13:00-15:00 | B18: 0.63888889 | C18: ='3-7 лет (день 1)'!B24 -> Снежок | D18: отлично | E18: разрешено
C19: ='3-7 лет (день 1)'!B25 -> Манник со сгущенным молоком | D19: отлично | E19: разрешено
A20: Ужин 15:00-16:30 | B20: 0.69444444 | C20: ='3-7 лет (день 1)'!B29 -> Макароны отварные с маслом | D20: отлично | E20: разрешено
C21: ='3-7 лет (день 1)'!B30 -> Хлеб пшеничный | D21: отлично | E21: разрешено
C22: ='3-7 лет (день 1)'!B31 -> Чай с сахаром | D22: отлично | E22: разрешено
