Workbook

Sheet  1,5-2 года (день 5)
A1: Утверждаю
A2: Заведующий МКДОУ Ташаринский детский сад "Лесовичок" | H2: Меню - требование на выдачу продуктов питания
A3: _________________ Чугуева Т.В.
A4: подпись | H4: Учреждение МКДОУ "Ташаринский детский сад"Лесовичок"
H5: Ответственное лицо Романашенко Г.М.
C7: детей в количестве | E7: 1 | F7: человек (1,5 - 3 года) на | K7: =' 3-7 лет (день 5)'!K7 -> 46303
B8: Наименование продуктов | C8: Кол-во человек | D8: =[1]Цены!A1 -> Хлеб пшеничный | E8: =[1]Цены!B1 -> Хлеб ржано-пшеничный | F8: =[1]Цены!C1 -> Сахар | G8: =[1]Цены!D1 -> Чай | H8: =[1]Цены!E1 -> Какао | I8: =[1]Цены!F1 -> Кофейный напиток | J8: =[1]Цены!G1 -> Молоко 2,5% | K8: =[1]Цены!H1 -> Масло сливочное | ... AE8: =[1]Цены!AB1 -> Ягода свежемороженная | AF8: =' 3-7 лет (день 5)'!AF8:AF9 -> Апельсин | AG8: =' 3-7 лет (день 5)'!AG8:AG9 -> Банан | AH8: =' 3-7 лет (день 5)'!AH8:AH9 -> Лимон | AI8: =' 3-7 лет (день 5)'!AI8:AI9 -> Яблоко | AJ8: =[1]Цены!AD1 -> Кисель | AK8: =[1]Цены!AE1 -> Сок | AL8: =[1]Цены!AF1 -> Макаронные изделия | AM8: =[1]Цены!AG1 -> Мука | AN8: =[1]Цены!AH1 -> Дрожжи | AO8: =[1]Цены!AI1 -> Печенье | AP8: =[1]Цены!AJ1 -> Пряники | AQ8: =[1]Цены!AK1 -> Вафли | ... BQ8: =[1]Цены!BK1 -> Соль | BR8: Лимонная кислота | BS8: Итого расход за день | BT8: ИТОГО на 1 Чел
B9: Меню
A10: Завтрак | B10: =' 3-7 лет (день 5)'!B10 -> Каша молочная "Геркулес" | C10: =$E$7 -> 1 | F10: 0.004 | K10: 0.002 | M10: 0.0124 | AT10: 0.015 | BQ10: 0.0005
B11: =' 3-7 лет (день 5)'!B11 -> Бутерброд с маслом | D11: 0.02 | K11: 0.004
B12: =' 3-7 лет (день 5)'!B12 -> Какао с молоком | F12: 0.009 | H12: 0.001 | J12: 0.08
A15: Второй завтрак | B15: Яблоко | C15: =E7 -> 1
B16: Банан | AG16: 0.145
A17: Обед | B17: =' 3-7 лет (день 5)'!B17 -> Суп картофельный с гренками | C17: =$E$7 -> 1 | D17: 0.02 | BD17: 0.05 | BJ17: 0.12 | BK17: 0.01 | BL17: 0.01 | BP17: 0.002 | BQ17: 0.001
B18: =' 3-7 лет (день 5)'!B18 -> Рыба, тушенная в сметанном соусе | L18: 0.009 | AM18: 0.00053 | BH18: 0.04 | BK18: 0.03 | BL18: 0.017 | BP18: 0.006 | BQ18: 0.001
B19: =' 3-7 лет (день 5)'!B19 -> Рис отварной | K19: 0.002 | BC19: 0.03 | BQ19: 0.001
B20: =' 3-7 лет (день 5)'!B20 -> Хлеб пшеничный
B21: =' 3-7 лет (день 5)'!B21 -> Хлеб ржано-пшеничный | E21: 0.04
B22: =' 3-7 лет (день 5)'!B22 -> Компот из чернослива | F22: 0.012 | AB22: 0.01 | BR22: 3.5e-05
A25: Полдник | B25: =' 3-7 лет (день 5)'!B25 -> Чай с лимоном | C25: =$E$7 -> 1 | F25: 0.009 | G25: 0.0005 | AH25: 0.005
B26: =' 3-7 лет (день 5)'!B26 -> Крендель сахарный | F26: 0.003225 | J26: 0.012 | K26: 0.003 | X26: 0.0909 | AM26: 0.034 | AN26: 0.0003 | BP26: 0.003
B27: =' 3-7 лет (день 5)'!B27 -> Яблоко
A30: Ужин | B30: =' 3-7 лет (день 5)'!B30 -> Рагу из овощей | C30: =$E$7 -> 1 | K30: 0.003 | BJ30: 0.12 | BK30: 0.032 | BL30: 0.014 | BM30: 0.038 | BP30: 0.002 | BQ30: 0.0005
B31: =' 3-7 лет (день 5)'!B31 -> Хлеб пшеничный | D31: 0.02
B32: =' 3-7 лет (день 5)'!B32 -> Чай с сахаром | F32: 0.009 | G32: 0.0005
B35: Итого на 1 чел | D35: =SUM(D10:D34) -> 0.06 | E35: =SUM(E10:E34) -> 0.04 | F35: =SUM(F10:F34) -> 0.046225 | G35: =SUM(G10:G34) -> 0.001 | H35: =SUM(H10:H34) -> 0.001 | I35: =SUM(I10:I34) -> 0 | J35: =SUM(J10:J34) -> 0.092 | K35: =SUM(K10:K34) -> 0.014 | ... BR35: =SUM(BR10:BR34) -> 3.5e-05
B36: Итого к выдаче, ГРАММ (на всех) | D36: =ROUND(PRODUCT(D35,$E$7),3) -> 0.06 | E36: =ROUND(PRODUCT(E35,$E$7),3) -> 0.04 | F36: =ROUND(PRODUCT(F35,$E$7),3) -> 0.046 | G36: =ROUND(PRODUCT(G35,$E$7),3) -> 0.001 | H36: =ROUND(PRODUCT(H35,$E$7),3) -> 0.001 | I36: =ROUND(PRODUCT(I35,$E$7),3) -> 0 | J36: =ROUND(PRODUCT(J35,$E$7),3) -> 0.092 | K36: =ROUND(PRODUCT(K35,$E$7),3) -> 0.014 | ... BR36: =ROUND(PRODUCT(BR35,$E$7),3) -> 0
D38: Ответственный калькулятор | H38: _________________ | K38: С.В.Залевская
D39: исполнитель | F39: должность | H39: подпись
F41: Повар | H41: ___________________ | K41: =' 3-7 лет (день 5)'!K42 -> 0
H42: подпись
B48: ЦЕНА ЗА КИЛОГРАММ (покупная) | C48: руб | D48: 90.9 | E48: 96 | F48: 91 | G48: 816 | H48: 1680 | I48: 1050 | J48: 90.57 | K48: 1166.67 | L48: 255.2 | M48: 833 | N48: 126.38 | O48: 387.53 | P48: 663.16 | Q48: 526.67 | R48: 1295 | U48: 1012 | V48: 470.67 | W48: 348 | X48: 9.4 | Y48: 266.5 | Z48: 367 | AA48: 524 | AB48: 330 | AC48: 299 | AD48: 148 | AE48: 842 | AG48: 180 | AH48: 359 | AI48: 160 | AJ48: 309.1 | AK48: 94 | AL48: 73 | AM48: 51.6 | AN48: 250 | AO48: 272 | AQ48: 425 | AR48: 800 | AS48: 294.25 | AT48: 95 | AU48: 87.33 | AV48: 73.33 | AW48: 80 | AX48: 89.29 | AY48: 63.75 | AZ48: 104.62 | BA48: 81.33 | BB48: 71.67 | BC48: 152.67 | BD48: 378 | BE48: 574 | BF48: 696 | BG48: 324 | BH48: 604 | BJ48: 38 | BK48: 38 | BL48: 33 | BM48: 43 | BN48: 43 | BO48: 306.32 | BP48: 190 | BQ48: 26
B49: ЦЕНА ЗА ГРАММ (покупная) | C49: руб | D49: =D48/1000 -> 0.0909 | E49: =E48/1000 -> 0.096 | F49: =F48/1000 -> 0.091 | G49: =G48/1000 -> 0.816 | H49: =H48/1000 -> 1.68 | I49: =I48/1000 -> 1.05 | J49: =J48/1000 -> 0.09057 | K49: =K48/1000 -> 1.16667 | ... BR49: =BR48/1000 -> 0
B50: Израсходовано на сумму (за граммы) | D50: =D36*D48 -> 5.454 | E50: =E36*E48 -> 3.84 | F50: =F36*F48 -> 4.186 | G50: =G36*G48 -> 0.816 | H50: =H36*H48 -> 1.68 | I50: =I36*I48 -> 0 | J50: =J36*J48 -> 8.33244 | K50: =K36*K48 -> 16.33338 | ... BR50: =BR36*BR48 -> 0 | BS50: =SUM(D50:BQ50) -> 153.27312 | BT50: =BS50/$C$10 -> 153.27312
B51: Израсходовано на сумму (за кг) | D51: =D36*D48 -> 5.454 | E51: =E36*E48 -> 3.84 | F51: =F36*F48 -> 4.186 | G51: =G36*G48 -> 0.816 | H51: =H36*H48 -> 1.68 | I51: =I36*I48 -> 0 | J51: =J36*J48 -> 8.33244 | K51: =K36*K48 -> 16.33338 | ... BR51: =BR36*BR48 -> 0 | BS51: =SUM(D51:BQ51) -> 153.27312 | BT51: =BS51/$C$10 -> 153.27312
B52: P/S: Итого к выдаче Яйцо- указано в шт.
B53: Цена за яйцо, указана за 1 шт. | BT53: =BT68+BT87+BT102+BT118 -> 136.12214
J55: 9 | K55: детей в количестве | AB55: человек (1,5 - 3 года)
B56: Наименование продуктов | C56: Кол-во человек | D56: =D8 -> Хлеб пшеничный | E56: =E8 -> Хлеб ржано-пшеничный | F56: =F8 -> Сахар | G56: =G8 -> Чай | H56: =H8 -> Какао | I56: =I8 -> Кофейный напиток | J56: =J8 -> Молоко 2,5% | K56: =K8 -> Масло сливочное | ... BR56: =BR8 -> Лимонная кислота | BS56: Итого расход за день | BT56: ИТОГО на 1 Чел
B57: Меню
...

Sheet ОВЗ 3-7 лет 
A1: Утверждаю
A2: Заведующий МКДОУ Ташаринский детский сад "Лесовичок" | H2: Меню - требование на выдачу продуктов питания
A3: _________________ Чугуева Т.В.
A4: подпись | H4: Учреждение МКДОУ "Ташаринский детский сад"Лесовичок"
H5: Ответственное лицо Романашенко Г.М.
B7: ОВЗ | D7: детей в количестве | F7: 1 | G7: человек (3 - 7 лет) на | K7: =' 3-7 лет (день 5)'!K7 -> 46303
B8: Наименование продуктов | C8: Кол-во человек | D8: =[1]Цены!A1 -> Хлеб пшеничный | E8: =[1]Цены!B1 -> Хлеб ржано-пшеничный | F8: =[1]Цены!C1 -> Сахар | G8: =[1]Цены!D1 -> Чай | H8: =[1]Цены!E1 -> Какао | I8: =[1]Цены!F1 -> Кофейный напиток | J8: =[1]Цены!G1 -> Молоко 2,5% | K8: =[1]Цены!H1 -> Масло сливочное | ... AE8: =[1]Цены!AB1 -> Ягода свежемороженная | AF8: =' 3-7 лет (день 5)'!AF8:AF9 -> Апельсин | AG8: =' 3-7 лет (день 5)'!AG8:AG9 -> Банан | AH8: =' 3-7 лет (день 5)'!AH8:AH9 -> Лимон | AI8: =' 3-7 лет (день 5)'!AI8:AI9 -> Яблоко | AJ8: =[1]Цены!AD1 -> Кисель | AK8: =[1]Цены!AE1 -> Сок | AL8: =[1]Цены!AF1 -> Макаронные изделия | AM8: =[1]Цены!AG1 -> Мука | AN8: =[1]Цены!AH1 -> Дрожжи | AO8: =[1]Цены!AI1 -> Печенье | AP8: =[1]Цены!AJ1 -> Пряники | AQ8: =[1]Цены!AK1 -> Вафли | ... BQ8: =[1]Цены!BK1 -> Соль | BR8: Лимонная кислота | BS8: Итого расход за день | BT8: ИТОГО на 1 Чел
B9: Меню
A10: Завтрак | B10: =' 3-7 лет (день 5)'!B10 -> Каша молочная "Геркулес" | C10: =$F$7 -> 1 | F10: 0.005 | K10: 0.003 | M10: 0.0165 | AT10: 0.02 | BQ10: 0.0005
B11: =' 3-7 лет (день 5)'!B11 -> Бутерброд с маслом | D11: 0.03 | K11: 0.005
B12: =' 3-7 лет (день 5)'!B12 -> Какао с молоком | F12: 0.01 | H12: 0.0012 | J12: 0.096
A15: Второй завтрак | B15: Яблоко | C15: =F7 -> 1
B16: Банан | AG16: 0.158
A17: Обед | B17: =' 3-7 лет (день 5)'!B17 -> Суп картофельный с гренками | C17: =$F$7 -> 1 | BD17: 0.04 | BJ17: 0.15 | BK17: 0.013 | BL17: 0.012 | BP17: 0.003 | BQ17: 0.002
B18: =' 3-7 лет (день 5)'!B18 -> Рыба, тушенная в сметанном соусе | L18: 0.009 | AM18: 0.0006 | BH18: 0.05 | BK18: 0.035 | BL18: 0.019 | BP18: 0.007 | BQ18: 0.001
B19: =' 3-7 лет (день 5)'!B19 -> Рис отварной | K19: 0.003 | BC19: 0.035 | BQ19: 0.002
B20: =' 3-7 лет (день 5)'!B20 -> Хлеб пшеничный | D20: 0.03
B21: =' 3-7 лет (день 5)'!B21 -> Хлеб ржано-пшеничный | E21: 0.05
B22: =' 3-7 лет (день 5)'!B22 -> Компот из чернослива | F22: 0.013 | AB22: 0.015 | BR22: 5e-05
A25: Полдник | B25: =' 3-7 лет (день 5)'!B25 -> Чай с лимоном | C25: =$F$7 -> 1 | F25: 0.011 | G25: 0.0006 | AH25: 0.006
B26: =' 3-7 лет (день 5)'!B26 -> Крендель сахарный | F26: 0.003225 | J26: 0.014 | K26: 0.003 | X26: 0.1 | AM26: 0.039 | AN26: 0.000857 | BP26: 0.003
B27: =' 3-7 лет (день 5)'!B27 -> Яблоко
A30: Ужин | B30: =' 3-7 лет (день 5)'!B30 -> Рагу из овощей | C30: =$F$7 -> 1 | K30: 0.004 | BJ30: 0.114 | BK30: 0.036 | BL30: 0.017 | BM30: 0.045 | BP30: 0.003 | BQ30: 0.0005
B31: =' 3-7 лет (день 5)'!B31 -> Хлеб пшеничный | D31: 0.02
B32: =' 3-7 лет (день 5)'!B32 -> Чай с сахаром | F32: 0.011 | G32: 0.0006
B35: Итого на 1 чел | D35: =SUM(D10:D34) -> 0.08 | E35: =SUM(E10:E34) -> 0.05 | F35: =SUM(F10:F34) -> 0.053225 | G35: =SUM(G10:G34) -> 0.0012 | H35: =SUM(H10:H34) -> 0.0012 | I35: =SUM(I10:I34) -> 0 | J35: =SUM(J10:J34) -> 0.11 | K35: =SUM(K10:K34) -> 0.018 | ... BR35: =SUM(BR10:BR34) -> 5e-05
B36: К выдаче, ГРАММ (на всех) | D36: =ROUND(PRODUCT(D35,$F$7),3) -> 0.08 | E36: =ROUND(PRODUCT(E35,$F$7),3) -> 0.05 | F36: =ROUND(PRODUCT(F35,$F$7),3) -> 0.053 | G36: =ROUND(PRODUCT(G35,$F$7),3) -> 0.001 | H36: =ROUND(PRODUCT(H35,$F$7),3) -> 0.001 | I36: =ROUND(PRODUCT(I35,$F$7),3) -> 0 | J36: =ROUND(PRODUCT(J35,$F$7),3) -> 0.11 | K36: =ROUND(PRODUCT(K35,$F$7),3) -> 0.018 | ... BR36: =ROUND(PRODUCT(BR35,$F$7),3) -> 0
D39: Ответственный калькулятор | H39: _________________ | K39: С.В.Залевская
D40: исполнитель | F40: должность | H40: подпись
F42: Повар | H42: ___________________ | K42: =' 3-7 лет (день 5)'!K42 -> 0
H43: подпись
B51: ЦЕНА ЗА КИЛОГРАММ (покупная) | C51: руб | D51: 90.9 | E51: 96 | F51: 91 | G51: 816 | H51: 1680 | I51: 1050 | J51: 90.57 | K51: 1166.67 | L51: 255.2 | M51: 833 | N51: 126.38 | O51: 387.53 | P51: 663.16 | Q51: 526.67 | R51: 1295 | U51: 1012 | V51: 470.67 | W51: 348 | X51: 9.4 | Y51: 266.5 | Z51: 367 | AA51: 524 | AB51: 330 | AC51: 299 | AD51: 148 | AE51: 842 | AG51: 180 | AH51: 359 | AI51: 160 | AJ51: 309.1 | AK51: 94 | AL51: 73 | AM51: 51.6 | AN51: 250 | AO51: 272 | AQ51: 425 | AR51: 800 | AS51: 294.25 | AT51: 95 | AU51: 87.33 | AV51: 73.33 | AW51: 80 | AX51: 89.29 | AY51: 63.75 | AZ51: 104.62 | BA51: 81.33 | BB51: 71.67 | BC51: 152.67 | BD51: 378 | BE51: 574 | BF51: 696 | BG51: 324 | BH51: 604 | BJ51: 38 | BK51: 38 | BL51: 33 | BM51: 43 | BN51: 43 | BO51: 306.32 | BP51: 190 | BQ51: 26
B52: ЦЕНА ЗА ГРАММ (покупная) | C52: руб | D52: =D51/1000 -> 0.0909 | E52: =E51/1000 -> 0.096 | F52: =F51/1000 -> 0.091 | G52: =G51/1000 -> 0.816 | H52: =H51/1000 -> 1.68 | I52: =I51/1000 -> 1.05 | J52: =J51/1000 -> 0.09057 | K52: =K51/1000 -> 1.16667 | ... BR52: =BR51/1000 -> 0
B53: Израсходовано на сумму (за граммы) | D53: =D36*D51 -> 7.272 | E53: =E36*E51 -> 4.8 | F53: =F36*F51 -> 4.823 | G53: =G36*G51 -> 0.816 | H53: =H36*H51 -> 1.68 | I53: =I36*I51 -> 0 | J53: =J36*J51 -> 9.9627 | K53: =K36*K51 -> 21.00006 | ... BR53: =BR36*BR51 -> 0 | BS53: =SUM(D53:BQ53) -> 178.11201 | BT53: =BS53/$C$10 -> 178.11201
B54: Израсходовано на сумму (за кг) | D54: =D36*D51 -> 7.272 | E54: =E36*E51 -> 4.8 | F54: =F36*F51 -> 4.823 | G54: =G36*G51 -> 0.816 | H54: =H36*H51 -> 1.68 | I54: =I36*I51 -> 0 | J54: =J36*J51 -> 9.9627 | K54: =K36*K51 -> 21.00006 | ... BR54: =BR36*BR51 -> 0 | BS54: =SUM(D54:BQ54) -> 178.11201 | BT54: =BS54/$C$10 -> 178.11201
B55: P/S: Итого к выдаче Яйцо- указано в шт.
B56: Цена за яйцо, указана за 1 шт. | BT56: =BT71+BT89+BT105+BT121 -> 149.7188
B59: Наименование продуктов | C59: Кол-во человек | D59: =D8 -> Хлеб пшеничный | E59: =E8 -> Хлеб ржано-пшеничный | F59: =F8 -> Сахар | G59: =G8 -> Чай | H59: =H8 -> Какао | I59: =I8 -> Кофейный напиток | J59: =J8 -> Молоко 2,5% | K59: =K8 -> Масло сливочное | ... BR59: =BR8 -> Лимонная кислота | BS59: Итого расход за день | BT59: ИТОГО на 1 Чел
B60: Меню
A61: Завтрак | B61: Каша молочная "Геркулес" | C61: =$F$7 -> 1 | D61: =D10 -> 0 | E61: =E10 -> 0 | F61: =F10 -> 0.005 | G61: =G10 -> 0 | H61: =H10 -> 0 | I61: =I10 -> 0 | J61: =J10 -> 0 | K61: =K10 -> 0.003 | ... BR61: =BR10 -> 0
...

Sheet СВО 3-7 лет
A1: Утверждаю
A2: Заведующий МКДОУ Ташаринский детский сад "Лесовичок" | H2: Меню - требование на выдачу продуктов питания
A3: _________________ Чугуева Т.В.
A4: подпись | H4: Учреждение МКДОУ "Ташаринский детский сад"Лесовичок"
H5: Ответственное лицо Романашенко Г.М.
B7: СВО | D7: детей в количестве | F7: 1 | G7: человек (3 - 7 лет) на | K7: =' 3-7 лет (день 5)'!K7 -> 46303
B8: Наименование продуктов | C8: Кол-во человек | D8: =[1]Цены!A1 -> Хлеб пшеничный | E8: =[1]Цены!B1 -> Хлеб ржано-пшеничный | F8: =[1]Цены!C1 -> Сахар | G8: =[1]Цены!D1 -> Чай | H8: =[1]Цены!E1 -> Какао | I8: =[1]Цены!F1 -> Кофейный напиток | J8: =[1]Цены!G1 -> Молоко 2,5% | K8: =[1]Цены!H1 -> Масло сливочное | ... AE8: =[1]Цены!AB1 -> Ягода свежемороженная | AF8: =' 3-7 лет (день 5)'!AF8:AF9 -> Апельсин | AG8: =' 3-7 лет (день 5)'!AG8:AG9 -> Банан | AH8: =' 3-7 лет (день 5)'!AH8:AH9 -> Лимон | AI8: =' 3-7 лет (день 5)'!AI8:AI9 -> Яблоко | AJ8: =[1]Цены!AD1 -> Кисель | AK8: =[1]Цены!AE1 -> Сок | AL8: =[1]Цены!AF1 -> Макаронные изделия | AM8: =[1]Цены!AG1 -> Мука | AN8: =[1]Цены!AH1 -> Дрожжи | AO8: =[1]Цены!AI1 -> Печенье | AP8: =[1]Цены!AJ1 -> Пряники | AQ8: =[1]Цены!AK1 -> Вафли | ... BQ8: =[1]Цены!BK1 -> Соль | BR8: Лимонная кислота | BS8: Итого расход за день | BT8: ИТОГО на 1 Чел
B9: Меню
A10: Завтрак | B10: =' 3-7 лет (день 5)'!B10 -> Каша молочная "Геркулес" | C10: =$F$7 -> 1 | F10: 0.005 | K10: 0.003 | M10: 0.0165 | AT10: 0.02 | BQ10: 0.0005
B11: =' 3-7 лет (день 5)'!B11 -> Бутерброд с маслом | D11: 0.03 | K11: 0.005
B12: =' 3-7 лет (день 5)'!B12 -> Какао с молоком | F12: 0.01 | H12: 0.0012 | J12: 0.096
A15: Второй завтрак | B15: Яблоко | C15: =F7 -> 1
B16: Банан | AG16: 0.158
A17: Обед | B17: =' 3-7 лет (день 5)'!B17 -> Суп картофельный с гренками | C17: =$F$7 -> 1 | BD17: 0.04 | BJ17: 0.15 | BK17: 0.013 | BL17: 0.012 | BP17: 0.003 | BQ17: 0.002
B18: =' 3-7 лет (день 5)'!B18 -> Рыба, тушенная в сметанном соусе | L18: 0.009 | AM18: 0.0006 | BH18: 0.05 | BK18: 0.035 | BL18: 0.019 | BP18: 0.007 | BQ18: 0.001
B19: =' 3-7 лет (день 5)'!B19 -> Рис отварной | K19: 0.003 | BC19: 0.035 | BQ19: 0.002
B20: =' 3-7 лет (день 5)'!B20 -> Хлеб пшеничный | D20: 0.03
B21: =' 3-7 лет (день 5)'!B21 -> Хлеб ржано-пшеничный | E21: 0.05
B22: =' 3-7 лет (день 5)'!B22 -> Компот из чернослива | F22: 0.013 | AB22: 0.015 | BR22: 5e-05
A25: Полдник | B25: =' 3-7 лет (день 5)'!B25 -> Чай с лимоном | C25: =$F$7 -> 1 | F25: 0.011 | G25: 0.0006 | AH25: 0.006
B26: =' 3-7 лет (день 5)'!B26 -> Крендель сахарный | F26: 0.003225 | J26: 0.014 | K26: 0.003 | X26: 0.1 | AM26: 0.039 | AN26: 0.000857 | BP26: 0.003
B27: =' 3-7 лет (день 5)'!B27 -> Яблоко
A30: Ужин | B30: =' 3-7 лет (день 5)'!B30 -> Рагу из овощей | C30: =$F$7 -> 1 | K30: 0.004 | BJ30: 0.114 | BK30: 0.036 | BL30: 0.017 | BM30: 0.045 | BP30: 0.003 | BQ30: 0.0005
B31: =' 3-7 лет (день 5)'!B31 -> Хлеб пшеничный | D31: 0.02
B32: =' 3-7 лет (день 5)'!B32 -> Чай с сахаром | F32: 0.011 | G32: 0.0006
B35: Итого на 1 чел | D35: =SUM(D10:D34) -> 0.08 | E35: =SUM(E10:E34) -> 0.05 | F35: =SUM(F10:F34) -> 0.053225 | G35: =SUM(G10:G34) -> 0.0012 | H35: =SUM(H10:H34) -> 0.0012 | I35: =SUM(I10:I34) -> 0 | J35: =SUM(J10:J34) -> 0.11 | K35: =SUM(K10:K34) -> 0.018 | ... BR35: =SUM(BR10:BR34) -> 5e-05
B36: К выдаче, ГРАММ (на всех) | D36: =ROUND(PRODUCT(D35,$F$7),3) -> 0.08 | E36: =ROUND(PRODUCT(E35,$F$7),3) -> 0.05 | F36: =ROUND(PRODUCT(F35,$F$7),3) -> 0.053 | G36: =ROUND(PRODUCT(G35,$F$7),3) -> 0.001 | H36: =ROUND(PRODUCT(H35,$F$7),3) -> 0.001 | I36: =ROUND(PRODUCT(I35,$F$7),3) -> 0 | J36: =ROUND(PRODUCT(J35,$F$7),3) -> 0.11 | K36: =ROUND(PRODUCT(K35,$F$7),3) -> 0.018 | ... BR36: =ROUND(PRODUCT(BR35,$F$7),3) -> 0
D39: Ответственный калькулятор | H39: _________________ | K39: С.В.Залевская
D40: исполнитель | F40: должность | H40: подпись
F42: Повар | H42: ___________________ | K42: =' 3-7 лет (день 5)'!K42 -> 0
H43: подпись
B49: ЦЕНА ЗА КИЛОГРАММ (покупная) | C49: руб | D49: 90.9 | E49: 96 | F49: 91 | G49: 816 | H49: 1680 | I49: 1050 | J49: 90.57 | K49: 1166.67 | L49: 255.2 | M49: 833 | N49: 126.38 | O49: 387.53 | P49: 663.16 | Q49: 526.67 | R49: 1295 | U49: 1012 | V49: 470.67 | W49: 348 | X49: 9.4 | Y49: 266.5 | Z49: 367 | AA49: 524 | AB49: 330 | AC49: 299 | AD49: 148 | AE49: 842 | AG49: 180 | AH49: 359 | AI49: 160 | AJ49: 309.1 | AK49: 94 | AL49: 73 | AM49: 51.6 | AN49: 250 | AO49: 272 | AQ49: 425 | AR49: 800 | AS49: 294.25 | AT49: 95 | AU49: 87.33 | AV49: 73.33 | AW49: 80 | AX49: 89.29 | AY49: 63.75 | AZ49: 104.62 | BA49: 81.33 | BB49: 71.67 | BC49: 152.67 | BD49: 378 | BE49: 574 | BF49: 696 | BG49: 324 | BH49: 604 | BJ49: 38 | BK49: 38 | BL49: 33 | BM49: 43 | BN49: 43 | BO49: 306.32 | BP49: 190 | BQ49: 26
B50: ЦЕНА ЗА ГРАММ (покупная) | C50: руб | D50: =D49/1000 -> 0.0909 | E50: =E49/1000 -> 0.096 | F50: =F49/1000 -> 0.091 | G50: =G49/1000 -> 0.816 | H50: =H49/1000 -> 1.68 | I50: =I49/1000 -> 1.05 | J50: =J49/1000 -> 0.09057 | K50: =K49/1000 -> 1.16667 | ... BR50: =BR49/1000 -> 0
B51: Израсходовано на сумму (за граммы) | D51: =D36*D49 -> 7.272 | E51: =E36*E49 -> 4.8 | F51: =F36*F49 -> 4.823 | G51: =G36*G49 -> 0.816 | H51: =H36*H49 -> 1.68 | I51: =I36*I49 -> 0 | J51: =J36*J49 -> 9.9627 | K51: =K36*K49 -> 21.00006 | ... BR51: =BR36*BR49 -> 0 | BS51: =SUM(D51:BQ51) -> 178.11201 | BT51: =BS51/$C$10 -> 178.11201
B52: Израсходовано на сумму (за кг) | D52: =D36*D49 -> 7.272 | E52: =E36*E49 -> 4.8 | F52: =F36*F49 -> 4.823 | G52: =G36*G49 -> 0.816 | H52: =H36*H49 -> 1.68 | I52: =I36*I49 -> 0 | J52: =J36*J49 -> 9.9627 | K52: =K36*K49 -> 21.00006 | ... BR52: =BR36*BR49 -> 0 | BS52: =SUM(D52:BQ52) -> 178.11201 | BT52: =BS52/$C$10 -> 178.11201
B53: P/S: Итого к выдаче Яйцо- указано в шт.
B54: Цена за яйцо, указана за 1 шт. | BT54: =BT69+BT87+BT103+BT119 -> 149.7188
B57: Наименование продуктов | C57: Кол-во человек | D57: =D8 -> Хлеб пшеничный | E57: =E8 -> Хлеб ржано-пшеничный | F57: =F8 -> Сахар | G57: =G8 -> Чай | H57: =H8 -> Какао | I57: =I8 -> Кофейный напиток | J57: =J8 -> Молоко 2,5% | K57: =K8 -> Масло сливочное | ... BR57: =BR8 -> Лимонная кислота | BS57: Итого расход за день | BT57: ИТОГО на 1 Чел
B58: Меню
A59: Завтрак | B59: Каша молочная "Геркулес" | C59: =$F$7 -> 1 | D59: =D10 -> 0 | E59: =E10 -> 0 | F59: =F10 -> 0.005 | G59: =G10 -> 0 | H59: =H10 -> 0 | I59: =I10 -> 0 | J59: =J10 -> 0 | K59: =K10 -> 0.003 | ... BR59: =BR10 -> 0
...

Sheet  3-7 лет (день 5)
A1: Утверждаю
A2: Заведующий МКДОУ Ташаринский детский сад "Лесовичок" | H2: Меню - требование на выдачу продуктов питания
A3: _________________ Чугуева Т.В.
A4: подпись | H4: Учреждение МКДОУ "Ташаринский детский сад"Лесовичок"
H5: Ответственное лицо Романашенко Г.М.
D7: детей в количестве | F7: 1 | G7: человек (3 - 7 лет) на | K7: 46303
B8: Наименование продуктов | C8: Кол-во человек | D8: =[1]Цены!A1 -> Хлеб пшеничный | E8: =[1]Цены!B1 -> Хлеб ржано-пшеничный | F8: =[1]Цены!C1 -> Сахар | G8: =[1]Цены!D1 -> Чай | H8: =[1]Цены!E1 -> Какао | I8: =[1]Цены!F1 -> Кофейный напиток | J8: =[1]Цены!G1 -> Молоко 2,5% | K8: =[1]Цены!H1 -> Масло сливочное | ... AE8: =[1]Цены!AB1 -> Ягода свежемороженная | AF8: Апельсин | AG8: Банан | AH8: =[1]Цены!AC1 -> Лимон | AI8: Яблоко | AJ8: =[1]Цены!AD1 -> Кисель | AK8: =[1]Цены!AE1 -> Сок | AL8: =[1]Цены!AF1 -> Макаронные изделия | AM8: =[1]Цены!AG1 -> Мука | AN8: =[1]Цены!AH1 -> Дрожжи | AO8: =[1]Цены!AI1 -> Печенье | AP8: =[1]Цены!AJ1 -> Пряники | AQ8: =[1]Цены!AK1 -> Вафли | ... BQ8: =[1]Цены!BK1 -> Соль | BR8: Лимонная кислота | BS8: Итого расход за день | BT8: ИТОГО на 1 Чел
B9: Меню
A10: Завтрак | B10: Каша молочная "Геркулес" | C10: =$F$7 -> 1 | F10: 0.005 | K10: 0.003 | M10: 0.0165 | AT10: 0.02 | BQ10: 0.0005
B11: Бутерброд с маслом | D11: 0.03 | K11: 0.005
B12: Какао с молоком | F12: 0.01 | H12: 0.0012 | J12: 0.096
A15: Второй завтрак | B15: Яблоко | C15: =F7 -> 1
B16: Банан | AG16: 0.158
A17: Обед | B17: Суп картофельный с гренками | C17: =$F$7 -> 1 | BD17: 0.04 | BJ17: 0.15 | BK17: 0.013 | BL17: 0.012 | BP17: 0.003 | BQ17: 0.002
B18: Рыба, тушенная в сметанном соусе | L18: 0.009 | AM18: 0.0006 | BH18: 0.05 | BK18: 0.035 | BL18: 0.019 | BP18: 0.007 | BQ18: 0.001
B19: Рис отварной | K19: 0.003 | BC19: 0.035 | BQ19: 0.002
B20: Хлеб пшеничный | D20: 0.03
B21: Хлеб ржано-пшеничный | E21: 0.05
B22: Компот из чернослива | F22: 0.013 | AB22: 0.015 | BR22: 5e-05
A25: Полдник | B25: Чай с лимоном | C25: =$F$7 -> 1 | F25: 0.011 | G25: 0.0006 | AH25: 0.006
B26: Крендель сахарный | F26: 0.003225 | J26: 0.014 | K26: 0.003 | X26: 0.1 | AM26: 0.039 | AN26: 0.000857 | BP26: 0.003
B27: Яблоко
A30: Ужин | B30: Рагу из овощей | C30: =$F$7 -> 1 | K30: 0.004 | BJ30: 0.114 | BK30: 0.036 | BL30: 0.017 | BM30: 0.045 | BP30: 0.003 | BQ30: 0.0005
B31: Хлеб пшеничный | D31: 0.02
B32: Чай с сахаром | F32: 0.011 | G32: 0.0006
B35: Итого на 1 чел | D35: =SUM(D10:D34) -> 0.08 | E35: =SUM(E10:E34) -> 0.05 | F35: =SUM(F10:F34) -> 0.053225 | G35: =SUM(G10:G34) -> 0.0012 | H35: =SUM(H10:H34) -> 0.0012 | I35: =SUM(I10:I34) -> 0 | J35: =SUM(J10:J34) -> 0.11 | K35: =SUM(K10:K34) -> 0.018 | ... BR35: =SUM(BR10:BR34) -> 5e-05
B36: К выдаче, ГРАММ (на всех) | D36: =ROUND(PRODUCT(D35,$F$7),3) -> 0.08 | E36: =ROUND(PRODUCT(E35,$F$7),3) -> 0.05 | F36: =ROUND(PRODUCT(F35,$F$7),3) -> 0.053 | G36: =ROUND(PRODUCT(G35,$F$7),3) -> 0.001 | H36: =ROUND(PRODUCT(H35,$F$7),3) -> 0.001 | I36: =ROUND(PRODUCT(I35,$F$7),3) -> 0 | J36: =ROUND(PRODUCT(J35,$F$7),3) -> 0.11 | K36: =ROUND(PRODUCT(K35,$F$7),3) -> 0.018 | ... BR36: =ROUND(PRODUCT(BR35,$F$7),3) -> 0
D37: =D36+' 1,5-2 года (день 5)'!D36+'СВО 3-7 лет'!D36+'ОВЗ 3-7 лет '!D36 -> 0.3 | E37: =E36+' 1,5-2 года (день 5)'!E36+'СВО 3-7 лет'!E36+'ОВЗ 3-7 лет '!E36 -> 0.19 | F37: =F36+' 1,5-2 года (день 5)'!F36+'СВО 3-7 лет'!F36+'ОВЗ 3-7 лет '!F36 -> 0.205 | G37: =G36+' 1,5-2 года (день 5)'!G36+'СВО 3-7 лет'!G36+'ОВЗ 3-7 лет '!G36 -> 0.004 | H37: =H36+' 1,5-2 года (день 5)'!H36+'СВО 3-7 лет'!H36+'ОВЗ 3-7 лет '!H36 -> 0.004 | I37: =I36+' 1,5-2 года (день 5)'!I36+'СВО 3-7 лет'!I36+'ОВЗ 3-7 лет '!I36 -> 0 | J37: =J36+' 1,5-2 года (день 5)'!J36+'СВО 3-7 лет'!J36+'ОВЗ 3-7 лет '!J36 -> 0.422 | K37: =K36+' 1,5-2 года (день 5)'!K36+'СВО 3-7 лет'!K36+'ОВЗ 3-7 лет '!K36 -> 0.068 | ... BR37: =BR36+' 1,5-2 года (день 5)'!BR36+'СВО 3-7 лет'!BR36+'ОВЗ 3-7 лет '!BR36 -> 0 | BS37: =SUM(D37:BQ37) -> 4.905
D39: Ответственный калькулятор | H39: _________________ | K39: С.В.Залевская
D40: исполнитель | F40: должность | H40: подпись
F42: Повар | H42: ___________________
H43: подпись
B51: ЦЕНА ЗА КИЛОГРАММ (покупная) | C51: руб | D51: 90.9 | E51: 96 | F51: 91 | G51: 816 | H51: 1680 | I51: 1050 | J51: 90.57 | K51: 1166.67 | L51: 255.2 | M51: 833 | N51: 126.38 | O51: 387.53 | P51: 663.16 | Q51: 526.67 | R51: 1295 | U51: 1012 | V51: 470.67 | W51: 348 | X51: 9.4 | Y51: 266.5 | Z51: 367 | AA51: 524 | AB51: 330 | AC51: 299 | AD51: 148 | AE51: 842 | AG51: 180 | AH51: 359 | AI51: 160 | AJ51: 309.1 | AK51: 94 | AL51: 73 | AM51: 51.6 | AN51: 250 | AO51: 272 | AQ51: 425 | AR51: 800 | AS51: 294.25 | AT51: 95 | AU51: 87.33 | AV51: 73.33 | AW51: 80 | AX51: 89.29 | AY51: 63.75 | AZ51: 104.62 | BA51: 81.33 | BB51: 71.67 | BC51: 152.67 | BD51: 378 | BE51: 574 | BF51: 696 | BG51: 324 | BH51: 604 | BJ51: 38 | BK51: 38 | BL51: 33 | BM51: 43 | BN51: 43 | BO51: 306.32 | BP51: 190 | BQ51: 26
B52: ЦЕНА ЗА ГРАММ (покупная) | C52: руб | D52: =D51/1000 -> 0.0909 | E52: =E51/1000 -> 0.096 | F52: =F51/1000 -> 0.091 | G52: =G51/1000 -> 0.816 | H52: =H51/1000 -> 1.68 | I52: =I51/1000 -> 1.05 | J52: =J51/1000 -> 0.09057 | K52: =K51/1000 -> 1.16667 | ... BR52: =BR51/1000 -> 0
B53: Израсходовано на сумму (за граммы) | D53: =D36*D51 -> 7.272 | E53: =E36*E51 -> 4.8 | F53: =F36*F51 -> 4.823 | G53: =G36*G51 -> 0.816 | H53: =H36*H51 -> 1.68 | I53: =I36*I51 -> 0 | J53: =J36*J51 -> 9.9627 | K53: =K36*K51 -> 21.00006 | ... BR53: =BR36*BR51 -> 0 | BS53: =SUM(D53:BQ53) -> 178.11201 | BT53: =BS53/$C$10 -> 178.11201
B54: Израсходовано на сумму (за кг) | D54: =D36*D51 -> 7.272 | E54: =E36*E51 -> 4.8 | F54: =F36*F51 -> 4.823 | G54: =G36*G51 -> 0.816 | H54: =H36*H51 -> 1.68 | I54: =I36*I51 -> 0 | J54: =J36*J51 -> 9.9627 | K54: =K36*K51 -> 21.00006 | ... BR54: =BR36*BR51 -> 0 | BS54: =SUM(D54:BQ54) -> 178.11201 | BT54: =BS54/$C$10 -> 178.11201
B55: P/S: Итого к выдаче Яйцо- указано в шт.
B56: Цена за яйцо, указана за 1 шт. | BT56: =BT71+BT89+BT105+BT121 -> 149.7188
B59: Наименование продуктов | C59: Кол-во человек | D59: =D8 -> Хлеб пшеничный | E59: =E8 -> Хлеб ржано-пшеничный | F59: =F8 -> Сахар | G59: =G8 -> Чай | H59: =H8 -> Какао | I59: =I8 -> Кофейный напиток | J59: =J8 -> Молоко 2,5% | K59: =K8 -> Масло сливочное | ... BR59: =BR8 -> Лимонная кислота | BS59: Итого расход за день | BT59: ИТОГО на 1 Чел
B60: Меню
...

Sheet День 5 до 3 лет
J1: Утверждаю
J2: Заведующий МК ДОУ
J3: Ташаринский детский сад "Лесовичок"
J4: _____________________Т.В. Чугуева
E5: Меню на | G5: =' 3-7 лет (день 5)'!K7 -> 46303
A6: Прием пищи | B6: Наименование блюда | C6: Выход блюда | D6: Белки, г | E6: Жиры, г | F6: Углеводы, г | G6: Эн. Цен (ккал) | H6: Ca | I6: Fe | J6: B1 | K6: B2 | L6: C | M6: № рецептуры
A7: День 5 | B7: Дети с 1,5 - 3 лет
A8: Завтрак | B8: =' 3-7 лет (день 5)'!B10 -> Каша молочная "Геркулес" | C8: 150 | D8: 4.76 | E8: 6.38 | F8: 16.4 | G8: 140.25 | H8: 141.71 | I8: 0.62 | J8: 0.1 | K8: 0.03 | L8: 1.46 | M8: 93
B9: =' 3-7 лет (день 5)'!B11 -> Бутерброд с маслом | C9: 20/4 | D9: 1.54 | E9: 3.46 | F9: 9.75 | G9: 78 | H9: 4.48 | I9: 0.23 | J9: 0.02 | K9: 0.02 | L9: 0 | M9: 1
B10: =' 3-7 лет (день 5)'!B12 -> Какао с молоком | C10: 150 | D10: 1.25 | E10: 1.33 | F10: 10.08 | G10: 50 | H10: 83.33 | I10: 0.01 | J10: 0.02 | K10: 0.01 | L10: 0.54 | M10: 248
A12: Второй завтрак | B12: Банан | C12: 95 | D12: 0.67 | E12: 0.14 | F12: 17.25 | G12: 73 | H12: 25.8 | I12: 0.26 | J12: 0.02 | K12: 0.02 | L12: 44.86
A14: Обед | B14: Суп картофельный | C14: 200 | D14: 2.34 | E14: 2.82 | F14: 16.63 | G14: 101 | H14: 25.8 | I14: 1.17 | J14: 0.13 | K14: 0.08 | L14: 12 | M14: 77
B15: Банан | C15: 95 | D15: 0.67 | E15: 0.14 | F15: 17.25 | G15: 73 | H15: 25.8 | I15: 0.26 | J15: 0.02 | K15: 0.02 | L15: 44.86
B16: Гренки | C16: 20 | D16: 44 | E16: 0.16 | F16: 9.04 | G16: 36 | H16: 4.4 | I16: 0.32 | J16: 0.02 | K16: 0.01 | L16: 0 | M16: 58
B17: Рыба, тушенная в сметанном соусе | C17: 70/18 | D17: 10.74 | E17: 5.72 | F17: 48.58 | G17: 121.62 | H17: 49.13 | I17: 0.94 | J17: 0.1 | K17: 0.1 | L17: 1.98 | M17: 139
B18: Рис отварной с овощами | C18: 100 | D18: 2.57 | E18: 4.67 | F18: 17 | G18: 141.33 | H18: 3.21 | I18: 0.57 | J18: 0.03 | K18: 0.01 | L18: 3.97 | M18: 191
B19: Хлеб пшеничный | C19: 20 | D19: 1.57 | E19: 0.2 | F19: 9.65 | G19: 48 | H19: 4.6 | I19: 0.4 | J19: 0.03 | K19: 0.005 | L19: 0
B20: Хлеб ржаной | C20: 40 | D20: 2.64 | E20: 0.48 | F20: 13.36 | G20: 69.6 | H20: 14 | I20: 1.56 | J20: 0.072 | K20: 0.032 | L20: 0
B21: Компот из чернослива | C21: 150 | D21: 0.23 | E21: 0 | F21: 18.6 | G21: 71.28 | H21: 8.24 | I21: 1.34 | J21: 0.01 | K21: 0.02 | L21: 0.3 | M21: 250
A23: Полдник | B23: =' 3-7 лет (день 5)'!B25 -> Чай с лимоном | C23: 150/9/4 | D23: 0.04 | E23: 0 | F23: 9.1 | G23: 35 | H23: 1.87 | I23: 0.08 | J23: 0 | K23: 0 | L23: 0 | M23: 200, 264
B24: =' 3-7 лет (день 5)'!B26 -> Крендель сахарный | C24: 60 | D24: 4.66 | E24: 7.92 | F24: 30.71 | G24: 224.4 | H24: 22.58 | I24: 0.48 | J24: 0.07 | K24: 0.06 | L24: 0.16 | M24: 415
B25: =' 3-7 лет (день 5)'!B27 -> Яблоко | C25: 75 | D25: 0.3 | E25: 0.3 | F25: 7.35 | G25: 33 | H25: 12 | I25: 1.65 | J25: 0.02 | K25: 0.01 | L25: 7.5
A28: Ужин | B28: =' 3-7 лет (день 5)'!B30 -> Рагу из овощей | C28: 150 | D28: 2.23 | E28: 4.04 | F28: 10.16 | G28: 86.67 | H28: 50.12 | I28: 0.83 | J28: 0.05 | K28: 0.04 | L28: 14.33 | M28: 77
B29: =' 3-7 лет (день 5)'!B31 -> Хлеб пшеничный | C29: 30 | D29: 2.355 | E29: 0.3 | F29: 14.475 | G29: 72 | H29: 6.9 | I29: 0.6 | J29: 0.045 | K29: 0.0075 | L29: 0
B30: =' 3-7 лет (день 5)'!B32 -> Чай с сахаром | C30: 150/9 | D30: 0 | E30: 0 | F30: 8.98 | G30: 30 | H30: 0.27 | I30: 0.05 | J30: 0 | K30: 0 | L30: 0.27 | M30: 263, 264
B32: ВСЕГО за день | D32: =SUM(D8:D31) -> 82.565 | E32: =SUM(E8:E31) -> 38.06 | F32: =SUM(F8:F31) -> 249.865 | G32: =SUM(G8:G31) -> 1484.15 | H32: =SUM(H8:H31) -> 484.24 | I32: =SUM(I8:I31) -> 11.37 | J32: =SUM(J8:J31) -> 0.757 | K32: =SUM(K8:K31) -> 0.4745 | L32: =SUM(L8:L31) -> 132.23
A34: Ответственный за питание _________________________ С.В.Залевская

Sheet День 5 от 3 лет
J1: Утверждаю
J2: Заведующий МК ДОУ
J3: Ташаринский детский сад "Лесовичок"
J4: ______________________Т.В. Чугуева
E5: Меню на | G5: =' 3-7 лет (день 5)'!K7 -> 46303
A6: Прием пищи | B6: Наименование блюда | C6: Выход блюда | D6: Белки, г | E6: Жиры, г | F6: Углеводы, г | G6: Эн. Цен (ккал) | H6: Ca | I6: Fe | J6: B1 | K6: B2 | L6: C | M6: № рецептуры
A7: День 5 | B7: Дети с 3 - 7 лет
A8: Завтрак | B8: =' 3-7 лет (день 5)'!B10 -> Каша молочная "Геркулес" | C8: 200 | D8: 6.35 | E8: 8.51 | F8: 21.86 | G8: 187 | H8: 188.95 | I8: 0.82 | J8: 0.13 | K8: 0.04 | L8: 1.95 | M8: 93
B9: =' 3-7 лет (день 5)'!B11 -> Бутерброд с маслом | C9: 30/5 | D9: 2.3 | E9: 4.36 | F9: 14.62 | G9: 108 | H9: 6.6 | I9: 0.34 | J9: 0.03 | K9: 0.03 | L9: 0 | M9: 1
B10: =' 3-7 лет (день 5)'!B12 -> Какао с молоком | C10: 180 | D10: 1.5 | E10: 1.6 | F10: 12.1 | G10: 60 | H10: 100 | I10: 0.02 | J10: 0.02 | K10: 0.01 | L10: 0.65 | M10: 248
B11: =' 3-7 лет (день 5)'!B13 -> 0
A12: Второй завтрак
B13: Банан | C13: 100 | D13: 0.9 | E13: 0.2 | F13: 23.07 | G13: 98 | H13: 34.5 | I13: 0.35 | J13: 0.04 | K13: 0.03 | L13: 60
A15: Обед | B15: Суп картофельный | C15: 250 | D15: 2.34 | E15: 2.82 | F15: 16.63 | G15: 101 | H15: 25.8 | I15: 1.17 | J15: 0.13 | K15: 0.08 | L15: 12 | M15: 77
B16: Гренки | C16: 35 | D16: 2.52 | E16: 0.28 | F16: 15.82 | G16: 63 | H16: 7.7 | I16: 0.56 | J16: 0.04 | K16: 0.01 | L16: 0 | M16: 58
B17: Рыба, тушенная в сметанном соусе | C17: 80/20 | D17: 12.2 | E17: 6.5 | F17: 55.2 | G17: 138.2 | H17: 55.83 | I17: 1.07 | J17: 0.11 | K17: 0.11 | L17: 2.23 | M17: 139
B18: Рис отварной с овощами | C18: 180 | D18: 4.63 | E18: 8.4 | F18: 30.72 | G18: 254.4 | H18: 5.8 | I18: 1.02 | J18: 0.05 | K18: 0.024 | L18: 7.14 | M18: 191
B19: Хлеб пшеничный | C19: 20 | D19: 1.57 | E19: 0.2 | F19: 9.65 | G19: 48 | H19: 4.6 | I19: 0.4 | J19: 0.03 | K19: 0.005 | L19: 0
B20: Хлеб ржаной | C20: 50 | D20: 3.3 | E20: 0.6 | F20: 16.7 | G20: 87 | H20: 17.5 | I20: 1.95 | J20: 0.09 | K20: 0.04 | L20: 0
B21: Компот из чернослива | C21: 200 | D21: 0.36 | E21: 0 | F21: 23.9 | G21: 91.96 | H21: 12.28 | I21: 2 | J21: 0.015 | K21: 0.03 | L21: 0.45 | M21: 250
A23: Полдник | B23: =' 3-7 лет (день 5)'!B25 -> Чай с лимоном | C23: 180/12/5 | D23: 0.04 | E23: 0 | F23: 12.13 | G23: 47 | H23: 2.35 | I23: 0.09 | J23: 0 | K23: 0 | L23: 2 | M23: 200, 264
B24: =' 3-7 лет (день 5)'!B26 -> Крендель сахарный | C24: 70 | D24: 5.43 | E24: 9.24 | F24: 35.83 | G24: 261.8 | H24: 26.35 | I24: 0.56 | J24: 0.08 | K24: 0.07 | L24: 0.18 | M24: 415
B25: =' 3-7 лет (день 5)'!B27 -> Яблоко | C25: 100 | D25: 0.4 | E25: 0.4 | F25: 9.8 | G25: 44 | H25: 16 | I25: 2.2 | J25: 0.03 | K25: 0.02 | L25: 10
A27: Ужин | B27: ='День 5 до 3 лет'!B28 -> Рагу из овощей | C27: 180 | D27: 2.67 | E27: 4.82 | F27: 12.19 | G27: 104 | H27: 60.14 | I27: 1.01 | J27: 0.06 | K27: 0.05 | L27: 17.2 | M27: 77
B28: ='День 5 до 3 лет'!B29 -> Хлеб пшеничный | C28: 30 | D28: 2.355 | E28: 0.3 | F28: 14.475 | G28: 72 | H28: 6.9 | I28: 0.6 | J28: 0.045 | K28: 0.0075 | L28: 0
B29: ='День 5 до 3 лет'!B30 -> Чай с сахаром | C29: 180/12 | D29: 0 | E29: 0 | F29: 11.98 | G29: 43 | H29: 0.35 | I29: 0.06 | J29: 0 | K29: 0 | L29: 0 | M29: 263, 264
B31: ВСЕГО за день | D31: =SUM(D8:D30) -> 48.865 | E31: =SUM(E8:E30) -> 48.23 | F31: =SUM(F8:F30) -> 336.675 | G31: =SUM(G8:G30) -> 1808.36 | H31: =SUM(H8:H30) -> 571.65 | I31: =SUM(I8:I30) -> 14.22 | J31: =SUM(J8:J30) -> 0.9 | K31: =SUM(K8:K30) -> 0.5565 | L31: =SUM(L8:L30) -> 113.8
A33: Ответственный за питание _________________________ С.В.Залевская

Sheet БГП  день 5
A1: =' 3-7 лет (день 5)'!K7 -> 46303
A2: Час изготовления блюда | B2: Время снятия бракеража | C2: Наименование блюда, кулинарного изделия | D2: Результаты органолептической оценки и степени готовности блюда, кулинарного изделия | E2: Разрешение к реализации блюда, кулинарного изделия | F2: Подписи членов бракеражной комиссии | G2: Примечание
A5: Завтрак 7:00-8:30 | B5: 0.36111111 | C5: =' 3-7 лет (день 5)'!B10 -> Каша молочная "Геркулес" | D5: отлично | E5: разрешено
C6: =' 3-7 лет (день 5)'!B11 -> Бутерброд с маслом | D6: отлично | E6: разрешено
C7: =' 3-7 лет (день 5)'!B12 -> Какао с молоком | D7: отлично | E7: разрешено
A8: Второй завтрак 10:00-10:20 | B8: 0.4375 | C8: Банан | D8: отлично | E8: разрешено
A10: Обед 9:00-11:30 | B10: 0.48611111 | C10: =' 3-7 лет (день 5)'!B17 -> Суп картофельный с гренками | D10: отлично | E10: разрешено
C11: =' 3-7 лет (день 5)'!B18 -> Рыба, тушенная в сметанном соусе | D11: отлично | E11: разрешено
C12: =' 3-7 лет (день 5)'!B19 -> Рис отварной | D12: отлично | E12: разрешено
C13: =' 3-7 лет (день 5)'!B20 -> Хлеб пшеничный | D13: отлично | E13: разрешено
C14: =' 3-7 лет (день 5)'!B21 -> Хлеб ржано-пшеничный | D14: отлично | E14: разрешено
C15: =' 3-7 лет (день 5)'!B22 -> Компот из чернослива | D15: отлично | E15: разрешено
A17: Полдник 13:00-15:00 | B17: 0.63888889 | C17: =' 3-7 лет (день 5)'!B25 -> Чай с лимоном | D17: отлично | E17: разрешено
C18: Крендель сахарный | D18: отлично | E18: разрешено
C19: Яблоко | D19: отлично | E19: разрешено
A20: Ужин 15:00-16:30 | B20: 0.69444444 | C20: =' 3-7 лет (день 5)'!B30 -> Рагу из овощей | D20: отлично | E20: разрешено
C21: =' 3-7 лет (день 5)'!B31 -> Хлеб пшеничный | D21: отлично | E21: разрешено
C22: =' 3-7 лет (день 5)'!B32 -> Чай с сахаром | D22: отлично | E22: разрешено
