Workbook

Sheet  1,5-2 года (день 5)
A1: Утверждаю
A2: Заведующий МКДОУ Ташаринский детский сад "Лесовичок" | H2: Меню - требование на выдачу продуктов питания
A3: _________________ Чугуева Т.В.
A4: подпись | H4: Учреждение МКДОУ "Ташаринский детский сад"Лесовичок"
H5: Ответственное лицо Романашенко Г.М.
C7: детей в количестве | E7: 1 | F7: человек (1,5 - 3 года) на | K7: =' 3-7 лет (день 5)'!K7 -> 46303
B8: Наименование продуктов | C8: Кол-во человек | D8: =[1]Цены!A1 -> Хлеб пшеничный | E8: =[1]Цены!B1 -> Хлеб ржано-пшеничный | F8: =[1]Цены!C1 -> Сахар | G8: =[1]Цены!D1 -> Чай | H8: =[1]Цены!E1 -> Какао | I8: =[1]Цены!F1 -> Кофейный напиток | J8: =[1]Цены!G1 -> Молоко 2,5% | K8: =[1]Цены!H1 -> Масло сливочное | ... AE8: =[1]Цены!AB1 -> Ягода свежемороженная | AF8: =' 3-7 лет (день 5)'!AF8:AF9 -> Апельсин | AG8: =' 3-7 лет (день 5)'!AG8:AG9 -> Банан | AH8: =' 3-7 лет (день 5)'!AH8:AH9 -> Лимон | AI8: =' 3-7 лет (день 5)'!AI8:AI9 -> Яблоко | AJ8: =[1]Цены!AD1 -> Кисель | AK8: =[1]Цены!AE1 -> Сок | AL8: =[1]Цены!AF1 -> Макаронные изделия | AM8: =[1]Цены!AG1 -> Мука | AN8: =[1]Цены!AH1 -> Дрожжи | AO8: =[1]Цены!AI1 -> Печенье | AP8: =[1]Цены!AJ1 -> Пряники | AQ8: =[1]Цены!AK1 -> Вафли | ... BQ8: =[1]Цены!BK1 -> Соль | BR8: Лимонная кислота | BS8: Итого расход за день | BT8: ИТОГО на 1 Чел
B9: Меню
A10: Завтрак | B10: =' 3-7 лет (день 5)'!B10 -> Каша молочная "Геркулес" | C10: =$E$7 -> 1 | F10: 0.004 | K10: 0.002 | M10: 0.0124 | AT10: 0.015 | BQ10: 0.0005
B11: =' 3-7 лет (день 5)'!B11 -> Бутерброд с маслом | D11: 0.02 | K11: 0.004
B12: =' 3-7 лет (день 5)'!B12 -> Какао с молоком | F12: 0.009 | H12: 0.001 | J12: 0.08
A15: Второй завтрак | B15: Яблоко | C15: =E7 -> 1
B16: Банан | AG16: 0.145
A17: Обед | B17: =' 3-7 лет (день 5)'!B17 -> Суп картофельный с гренками | C17: =$E$7 -> 1 | D17: 0.02 | BD17: 0.05 | BJ17: 0.12 | BK17: 0.01 | BL17: 0.01 | BP17: 0.002 | BQ17: 0.001
B18: =' 3-7 лет (день 5)'!B18 -> Рыба, тушенная в сметанном соусе | L18: 0.009 | AM18: 0.00053 | BH18: 0.04 | BK18: 0.03 | BL18: 0.017 | BP18: 0.006 | BQ18: 0.001
B19: =' 3-7 лет (день 5)'!B19 -> Рис отварной | K19: 0.002 | BC19: 0.03 | BQ19: 0.001
B20: =' 3-7 лет (день 5)'!B20 -> Хлеб пшеничный
B21: =' 3-7 лет (день 5)'!B21 -> Хлеб ржано-пшеничный | E21: 0.04
B22: =' 3-7 лет (день 5)'!B22 -> Компот из чернослива | F22: 0.012 | AB22: 0.01 | BR22: 3.5e-05
A25: Полдник | B25: =' 3-7 лет (день 5)'!B25 -> Чай с лимоном | C25: =$E$7 -> 1 | F25: 0.009 | G25: 0.0005 | AH25: 0.005
B26: =' 3-7 лет (день 5)'!B26 -> Крендель сахарный | F26: 0.003225 | J26: 0.012 | K26: 0.003 | X26: 0.0909 | AM26: 0.034 | AN26: 0.0003 | BP26: 0.003
B27: =' 3-7 лет (день 5)'!B27 -> Яблоко
A30: Ужин | B30: =' 3-7 лет (день 5)'!B30 -> Рагу из овощей | C30: =$E$7 -> 1 | K30: 0.003 | BJ30: 0.12 | BK30: 0.032 | BL30: 0.014 | BM30: 0.038 | BP30: 0.002 | BQ30: 0.0005
B31: =' 3-7 лет (день 5)'!B31 -> Хлеб пшеничный | D31: 0.02
B32: =' 3-7 лет (день 5)'!B32 -> Чай с сахаром | F32: 0.009 | G32: 0.0005
B35: Итого на 1 чел | D35: =SUM(D10:D34) -> 0.06 | E35: =SUM(E10:E34) -> 0.04 | F35: =SUM(F10:F34) -> 0.046225 | G35: =SUM(G10:G34) -> 0.001 | H35: =SUM(H10:H34) -> 0.001 | I35: =SUM(I10:I34) -> 0 | J35: =SUM(J10:J34) -> 0.092 | K35: =SUM(K10:K34) -> 0.014 | ... BR35: =SUM(BR10:BR34) -> 3.5e-05
B36: Итого к выдаче, ГРАММ (на всех) | D36: =ROUND(PRODUCT(D35,$E$7),3) -> 0.06 | E36: =ROUND(PRODUCT(E35,$E$7),3) -> 0.04 | F36: =ROUND(PRODUCT(F35,$E$7),3) -> 0.046 | G36: =ROUND(PRODUCT(G35,$E$7),3) -> 0.001 | H36: =ROUND(PRODUCT(H35,$E$7),3) -> 0.001 | I36: =ROUND(PRODUCT(I35,$E$7),3) -> 0 | J36: =ROUND(PRODUCT(J35,$E$7),3) -> 0.092 | K36: =ROUND(PRODUCT(K35,$E$7),3) -> 0.014 | ... BR36: =ROUND(PRODUCT(BR35,$E$7),3) -> 0
D38: Ответственный калькулятор | H38: _________________ | K38: С.В.Залевская
D39: исполнитель | F39: должность | H39: подпись
F41: Повар | H41: ___________________ | K41: =' 3-7 лет (день 5)'!K42 -> 0
H42: подпись
B48: ЦЕНА ЗА КИЛОГРАММ (покупная) | C48: руб | D48: 90.9 | E48: 96 | F48: 91 | G48: 816 | H48: 1680 | I48: 1050 | J48: 90.57 | K48: 1166.67 | L48: 255.2 | M48: 833 | N48: 126.38 | O48: 387.53 | P48: 663.16 | Q48: 526.67 | R48: 1295 | U48: 1012 | V48: 470.67 | W48: 348 | X48: 9.4 | Y48: 266.5 | Z48: 367 | AA48: 524 | AB48: 330 | AC48: 299 | AD48: 148 | AE48: 842 | AG48: 180 | AH48: 359 | AI48: 160 | AJ48: 309.1 | AK48: 94 | AL48: 73 | AM48: 51.6 | AN48: 250 | AO48: 272 | AQ48: 425 | AR48: 800 | AS48: 294.25 | AT48: 95 | AU48: 87.33 | AV48: 73.33 | AW48: 80 | AX48: 89.29 | AY48: 63.75 | AZ48: 104.62 | BA48: 81.33 | BB48: 71.67 | BC48: 152.67 | BD48: 378 | BE48: 574 | BF48: 696 | BG48: 324 | BH48: 604 | BJ48: 38 | BK48: 38 | BL48: 33 | BM48: 43 | BN48: 43 | BO48: 306.32 | BP48: 190 | BQ48: 26
B49: ЦЕНА ЗА ГРАММ (покупная) | C49: руб | D49: =D48/1000 -> 0.0909 | E49: =E48/1000 -> 0.096 | F49: =F48/1000 -> 0.091 | G49: =G48/1000 -> 0.816 | H49: =H48/1000 -> 1.68 | I49: =I48/1000 -> 1.05 | J49: =J48/1000 -> 0.09057 | K49: =K48/1000 -> 1.16667 | ... BR49: =BR48/1000 -> 0
B50: Израсходовано на сумму (за граммы) | D50: =D36*D48 -> 5.454 | E50: =E36*E48 -> 3.84 | F50: =F36*F48 -> 4.186 | G50: =G36*G48 -> 0.816 | H50: =H36*H48 -> 1.68 | I50: =I36*I48 -> 0 | J50: =J36*J48 -> 8.33244 | K50: =K36*K48 -> 16.33338 | ... BR50: =BR36*BR48 -> 0 | BS50: =SUM(D50:BQ50) -> 153.27312 | BT50: =BS50/$C$10 -> 153.27312
B51: Израсходовано на сумму (за кг) | D51: =D36*D48 -> 5.454 | E51: =E36*E48 -> 3.84 | F51: =F36*F48 -> 4.186 | G51: =G36*G48 -> 0.816 | H51: =H36*H48 -> 1.68 | I51: =I36*I48 -> 0 | J51: =J36*J48 -> 8.33244 | K51: =K36*K48 -> 16.33338 | ... BR51: =BR36*BR48 -> 0 | BS51: =SUM(D51:BQ51) -> 153.27312 | BT51: =BS51/$C$10 -> 153.27312
B52: P/S: Итого к выдаче Яйцо- указано в шт.
B53: Цена за яйцо, указана за 1 шт. | BT53: =BT68+BT87+BT102+BT118 -> 136.12214
J55: 9 | K55: детей в количестве | AB55: человек (1,5 - 3 года)
B56: Наименование продуктов | C56: Кол-во человек | D56: =D8 -> Хлеб пшеничный | E56: =E8 -> Хлеб ржано-пшеничный | F56: =F8 -> Сахар | G56: =G8 -> Чай | H56: =H8 -> Какао | I56: =I8 -> Кофейный напиток | J56: =J8 -> Молоко 2,5% | K56: =K8 -> Масло сливочное | ... BR56: =BR8 -> Лимонная кислота | BS56: Итого расход за день | BT56: ИТОГО на 1 Чел
B57: Меню
A58: Завтрак | B58: Каша молочная "Геркулес" | C58: =$E$7 -> 1 | D58: =D10 -> 0 | E58: =E10 -> 0 | F58: =F10 -> 0.004 | G58: =G10 -> 0 | H58: =H10 -> 0 | I58: =I10 -> 0 | J58: =J10 -> 0 | K58: =K10 -> 0.002 | ... BR58: =BR10 -> 0
B59: Бутерброд с джемом | D59: =D11 -> 0.02 | E59: =E11 -> 0 | F59: =F11 -> 0 | G59: =G11 -> 0 | H59: =H11 -> 0 | I59: =I11 -> 0 | J59: =J11 -> 0 | K59: =K11 -> 0.004 | ... BR59: =BR11 -> 0
B60: Какао с молоком | D60: =D12 -> 0 | E60: =E12 -> 0 | F60: =F12 -> 0.009 | G60: =G12 -> 0 | H60: =H12 -> 0.001 | I60: =I12 -> 0 | J60: =J12 -> 0.08 | K60: =K12 -> 0 | ... BR60: =BR12 -> 0
D61: =D13 -> 0 | E61: =E13 -> 0 | F61: =F13 -> 0 | G61: =G13 -> 0 | H61: =H13 -> 0 | I61: =I13 -> 0 | J61: =J13 -> 0 | K61: =K13 -> 0 | ... BR61: =BR13 -> 0
D62: =D14 -> 0 | E62: =E14 -> 0 | F62: =F14 -> 0 | G62: =G14 -> 0 | H62: =H14 -> 0 | I62: =I14 -> 0 | J62: =J14 -> 0 | K62: =K14 -> 0 | ... BR62: =BR14 -> 0
B63: Итого на 1 чел | D63: =SUM(D58:D62) -> 0.02 | E63: =SUM(E58:E62) -> 0 | F63: =SUM(F58:F62) -> 0.013 | G63: =SUM(G58:G62) -> 0 | H63: =SUM(H58:H62) -> 0.001 | I63: =SUM(I58:I62) -> 0 | J63: =SUM(J58:J62) -> 0.08 | K63: =SUM(K58:K62) -> 0.006 | ... BR63: =SUM(BR58:BR62) -> 0
B64: Итого к выдаче, ГРАММ (на всех) | D64: =PRODUCT(D63,$E$7) -> 0.02 | E64: =PRODUCT(E63,$E$7) -> 0 | F64: =PRODUCT(F63,$E$7) -> 0.013 | G64: =PRODUCT(G63,$E$7) -> 0 | H64: =PRODUCT(H63,$E$7) -> 0.001 | I64: =PRODUCT(I63,$E$7) -> 0 | J64: =PRODUCT(J63,$E$7) -> 0.08 | K64: =PRODUCT(K63,$E$7) -> 0.006 | ... BR64: =PRODUCT(BR63,$E$7) -> 0
B66: ЦЕНА ЗА КИЛОГРАММ (покупная) | C66: руб | D66: =D48 -> 90.9 | E66: =E48 -> 96 | F66: =F48 -> 91 | G66: =G48 -> 816 | H66: =H48 -> 1680 | I66: =I48 -> 1050 | J66: =J48 -> 90.57 | K66: =K48 -> 1166.67 | ... AE66: =AE48 -> 842 | AH66: =AH48 -> 359 | AJ66: =AJ48 -> 309.1 | AK66: =AK48 -> 94 | AL66: =AL48 -> 73 | AM66: =AM48 -> 51.6 | AN66: =AN48 -> 250 | AO66: =AO48 -> 272 | AP66: =AP48 -> 0 | AQ66: =AQ48 -> 425 | ... BR66: =BR48 -> 0
B67: ЦЕНА ЗА ГРАММ (покупная) | C67: руб | D67: =D66/1000 -> 0.0909 | E67: =E66/1000 -> 0.096 | F67: =F66/1000 -> 0.091 | G67: =G66/1000 -> 0.816 | H67: =H66/1000 -> 1.68 | I67: =I66/1000 -> 1.05 | J67: =J66/1000 -> 0.09057 | K67: =K66/1000 -> 1.16667 | ... BR67: =BR66/1000 -> 0
B68: Израсходовано на сумму (за граммы) | D68: =D64*D66 -> 1.818 | E68: =E64*E66 -> 0 | F68: =F64*F66 -> 1.183 | G68: =G64*G66 -> 0 | H68: =H64*H66 -> 1.68 | I68: =I64*I66 -> 0 | J68: =J64*J66 -> 7.2456 | K68: =K64*K66 -> 7.00002 | ... BR68: =BR64*BR66 -> 0 | BS68: =SUM(D68:BQ68) -> 30.69382 | BT68: =BS68/$C$10 -> 30.69382
B69: Израсходовано на сумму (за кг) | D69: =D64*D66 -> 1.818 | E69: =E64*E66 -> 0 | F69: =F64*F66 -> 1.183 | G69: =G64*G66 -> 0 | H69: =H64*H66 -> 1.68 | I69: =I64*I66 -> 0 | J69: =J64*J66 -> 7.2456 | K69: =K64*K66 -> 7.00002 | ... BR69: =BR64*BR66 -> 0 | BS69: =SUM(D69:BQ69) -> 30.69382 | BT69: =BS69/$C$10 -> 30.69382
J71: 9 | K71: детей в количестве | AB71: человек (1,5 - 3 года)
B72: Наименование продуктов | C72: Кол-во человек | D72: =D8 -> Хлеб пшеничный | E72: =E8 -> Хлеб ржано-пшеничный | F72: =F8 -> Сахар | G72: =G8 -> Чай | H72: =H8 -> Какао | I72: =I8 -> Кофейный напиток | J72: =J8 -> Молоко 2,5% | K72: =K8 -> Масло сливочное | ... BR72: =BR8 -> Лимонная кислота | BS72: Итого расход за день | BT72: ИТОГО на 1 Чел
B73: Меню
A74: Обед | B74: Суп картофельный с гренками | C74: =$E$7 -> 1 | D74: =D17 -> 0.02 | E74: =E17 -> 0 | F74: =F17 -> 0 | G74: =G17 -> 0 | H74: =H17 -> 0 | I74: =I17 -> 0 | J74: =J17 -> 0 | K74: =K17 -> 0 | ... BR74: =BR17 -> 0
B75: Рыба, тушеннная в сметанном соусе | D75: =D18 -> 0 | E75: =E18 -> 0 | F75: =F18 -> 0 | G75: =G18 -> 0 | H75: =H18 -> 0 | I75: =I18 -> 0 | J75: =J18 -> 0 | K75: =K18 -> 0 | ... BR75: =BR18 -> 0
B76: Рис отварной | D76: =D19 -> 0 | E76: =E19 -> 0 | F76: =F19 -> 0 | G76: =G19 -> 0 | H76: =H19 -> 0 | I76: =I19 -> 0 | J76: =J19 -> 0 | K76: =K19 -> 0.002 | ... BR76: =BR19 -> 0
B77: Хлеб пшеничный | D77: =D20 -> 0 | E77: =E20 -> 0 | F77: =F20 -> 0 | G77: =G20 -> 0 | H77: =H20 -> 0 | I77: =I20 -> 0 | J77: =J20 -> 0 | K77: =K20 -> 0 | ... BR77: =BR20 -> 0
B78: Хлеб ржано-пшеничный | D78: =D21 -> 0 | E78: =E21 -> 0.04 | F78: =F21 -> 0 | G78: =G21 -> 0 | H78: =H21 -> 0 | I78: =I21 -> 0 | J78: =J21 -> 0 | K78: =K21 -> 0 | ... BR78: =BR21 -> 0
B79: Компот из чернослива | D79: =D22 -> 0 | E79: =E22 -> 0 | F79: =F22 -> 0.012 | G79: =G22 -> 0 | H79: =H22 -> 0 | I79: =I22 -> 0 | J79: =J22 -> 0 | K79: =K22 -> 0 | ... BR79: =BR22 -> 3.5e-05
D80: =D23 -> 0 | E80: =E23 -> 0 | F80: =F23 -> 0 | G80: =G23 -> 0 | H80: =H23 -> 0 | I80: =I23 -> 0 | J80: =J23 -> 0 | K80: =K23 -> 0 | ... BR80: =BR23 -> 0
B81: Итого на 1 чел | D81: =SUM(D74:D80) -> 0.02 | E81: =SUM(E74:E80) -> 0.04 | F81: =SUM(F74:F80) -> 0.012 | G81: =SUM(G74:G80) -> 0 | H81: =SUM(H74:H80) -> 0 | I81: =SUM(I74:I80) -> 0 | J81: =SUM(J74:J80) -> 0 | K81: =SUM(K74:K80) -> 0.002 | ... BR81: =SUM(BR74:BR80) -> 3.5e-05
B82: Итого к выдаче, ГРАММ (на всех) | D82: =PRODUCT(D81,$E$7) -> 0.02 | E82: =PRODUCT(E81,$E$7) -> 0.04 | F82: =PRODUCT(F81,$E$7) -> 0.012 | G82: =PRODUCT(G81,$E$7) -> 0 | H82: =PRODUCT(H81,$E$7) -> 0 | I82: =PRODUCT(I81,$E$7) -> 0 | J82: =PRODUCT(J81,$E$7) -> 0 | K82: =PRODUCT(K81,$E$7) -> 0.002 | ... BR82: =PRODUCT(BR81,$E$7) -> 3.5e-05
B84: ЦЕНА ЗА КИЛОГРАММ (покупная) | C84: руб | D84: =D48 -> 90.9 | E84: =E48 -> 96 | F84: =F48 -> 91 | G84: =G48 -> 816 | H84: =H48 -> 1680 | I84: =I48 -> 1050 | J84: =J48 -> 90.57 | K84: =K48 -> 1166.67 | ... AE84: =AE48 -> 842 | AH84: =AH48 -> 359 | AJ84: =AJ48 -> 309.1 | AK84: =AK48 -> 94 | AL84: =AL48 -> 73 | AM84: =AM48 -> 51.6 | AN84: =AN48 -> 250 | AO84: =AO48 -> 272 | AP84: =AP48 -> 0 | AQ84: =AQ48 -> 425 | ... BR84: =BR48 -> 0
B85: ЦЕНА ЗА ГРАММ (покупная) | C85: руб | D85: =D84/1000 -> 0.0909 | E85: =E84/1000 -> 0.096 | F85: =F84/1000 -> 0.091 | G85: =G84/1000 -> 0.816 | H85: =H84/1000 -> 1.68 | I85: =I84/1000 -> 1.05 | J85: =J84/1000 -> 0.09057 | K85: =K84/1000 -> 1.16667 | ... BR85: =BR84/1000 -> 0
B86: Израсходовано на сумму (за граммы) | D86: =D82*D84 -> 1.818 | E86: =E82*E84 -> 3.84 | F86: =F82*F84 -> 1.092 | G86: =G82*G84 -> 0 | H86: =H82*H84 -> 0 | I86: =I82*I84 -> 0 | J86: =J82*J84 -> 0 | K86: =K82*K84 -> 2.33334 | ... BR86: =BR82*BR84 -> 0 | BS86: =SUM(D86:BQ86) -> 70.916588 | BT86: =BS86/$C$10 -> 70.916588
B87: Израсходовано на сумму (за кг) | D87: =D82*D84 -> 1.818 | E87: =E82*E84 -> 3.84 | F87: =F82*F84 -> 1.092 | G87: =G82*G84 -> 0 | H87: =H82*H84 -> 0 | I87: =I82*I84 -> 0 | J87: =J82*J84 -> 0 | K87: =K82*K84 -> 2.33334 | ... BR87: =BR82*BR84 -> 0 | BS87: =SUM(D87:BQ87) -> 70.916588 | BT87: =BS87/$C$10 -> 70.916588
J89: 9 | K89: детей в количестве | AB89: человек (1,5 - 3 года)
B90: Наименование продуктов | C90: Кол-во человек | D90: =D8 -> Хлеб пшеничный | E90: =E8 -> Хлеб ржано-пшеничный | F90: =F8 -> Сахар | G90: =G8 -> Чай | H90: =H8 -> Какао | I90: =I8 -> Кофейный напиток | J90: =J8 -> Молоко 2,5% | K90: =K8 -> Масло сливочное | ... BR90: =BR8 -> Лимонная кислота | BS90: Итого расход за день | BT90: ИТОГО на 1 Чел
B91: Меню
A92: Полдник | B92: Чай с лимоном | C92: =$E$7 -> 1 | D92: =D25 -> 0 | E92: =E25 -> 0 | F92: =F25 -> 0.009 | G92: =G25 -> 0.0005 | H92: =H25 -> 0 | I92: =I25 -> 0 | J92: =J25 -> 0 | K92: =K25 -> 0 | ... BR92: =BR25 -> 0
B93: Крендель сахарный | D93: =D26 -> 0 | E93: =E26 -> 0 | F93: =F26 -> 0.003225 | G93: =G26 -> 0 | H93: =H26 -> 0 | I93: =I26 -> 0 | J93: =J26 -> 0.012 | K93: =K26 -> 0.003 | ... BR93: =BR26 -> 0
D94: =D27 -> 0 | E94: =E27 -> 0 | F94: =F27 -> 0 | G94: =G27 -> 0 | H94: =H27 -> 0 | I94: =I27 -> 0 | J94: =J27 -> 0 | K94: =K27 -> 0 | ... BR94: =BR27 -> 0
D95: =D28 -> 0 | E95: =E28 -> 0 | F95: =F28 -> 0 | G95: =G28 -> 0 | H95: =H28 -> 0 | I95: =I28 -> 0 | J95: =J28 -> 0 | K95: =K28 -> 0 | ... BR95: =BR28 -> 0
D96: =D29 -> 0 | E96: =E29 -> 0 | F96: =F29 -> 0 | G96: =G29 -> 0 | H96: =H29 -> 0 | I96: =I29 -> 0 | J96: =J29 -> 0 | K96: =K29 -> 0 | ... BR96: =BR29 -> 0
B97: Итого на 1 чел | D97: =SUM(D92:D96) -> 0 | E97: =SUM(E92:E96) -> 0 | F97: =SUM(F92:F96) -> 0.012225 | G97: =SUM(G92:G96) -> 0.0005 | H97: =SUM(H92:H96) -> 0 | I97: =SUM(I92:I96) -> 0 | J97: =SUM(J92:J96) -> 0.012 | K97: =SUM(K92:K96) -> 0.003 | ... BR97: =SUM(BR92:BR96) -> 0
B98: Итого к выдаче, ГРАММ (на всех) | D98: =PRODUCT(D97,$E$7) -> 0 | E98: =PRODUCT(E97,$E$7) -> 0 | F98: =PRODUCT(F97,$E$7) -> 0.012225 | G98: =PRODUCT(G97,$E$7) -> 0.0005 | H98: =PRODUCT(H97,$E$7) -> 0 | I98: =PRODUCT(I97,$E$7) -> 0 | J98: =PRODUCT(J97,$E$7) -> 0.012 | K98: =PRODUCT(K97,$E$7) -> 0.003 | ... W98: =PRODUCT(W97,$E$7) -> 0 | X98: 1 | Y98: =PRODUCT(Y97,$E$7) -> 0 | Z98: =PRODUCT(Z97,$E$7) -> 0 | AA98: =PRODUCT(AA97,$E$7) -> 0 | AB98: =PRODUCT(AB97,$E$7) -> 0 | AC98: =PRODUCT(AC97,$E$7) -> 0 | AD98: =PRODUCT(AD97,$E$7) -> 0 | AE98: =PRODUCT(AE97,$E$7) -> 0 | AF98: =PRODUCT(AF97,$E$7) -> 0 | ... BR98: =PRODUCT(BR97,$E$7) -> 0
B100: ЦЕНА ЗА КИЛОГРАММ (покупная) | C100: руб | D100: =D48 -> 90.9 | E100: =E48 -> 96 | F100: =F48 -> 91 | G100: =G48 -> 816 | H100: =H48 -> 1680 | I100: =I48 -> 1050 | J100: =J48 -> 90.57 | K100: =K48 -> 1166.67 | ... AE100: =AE48 -> 842 | AH100: =AH48 -> 359 | AJ100: =AJ48 -> 309.1 | AK100: =AK48 -> 94 | AL100: =AL48 -> 73 | AM100: =AM48 -> 51.6 | AN100: =AN48 -> 250 | AO100: =AO48 -> 272 | AP100: =AP48 -> 0 | AQ100: =AQ48 -> 425 | ... BR100: =BR48 -> 0
B101: ЦЕНА ЗА ГРАММ (покупная) | C101: руб | D101: =D100/1000 -> 0.0909 | E101: =E100/1000 -> 0.096 | F101: =F100/1000 -> 0.091 | G101: =G100/1000 -> 0.816 | H101: =H100/1000 -> 1.68 | I101: =I100/1000 -> 1.05 | J101: =J100/1000 -> 0.09057 | K101: =K100/1000 -> 1.16667 | ... BR101: =BR100/1000 -> 0
B102: Израсходовано на сумму (за граммы) | D102: =D98*D100 -> 0 | E102: =E98*E100 -> 0 | F102: =F98*F100 -> 1.112475 | G102: =G98*G100 -> 0.408 | H102: =H98*H100 -> 0 | I102: =I98*I100 -> 0 | J102: =J98*J100 -> 1.08684 | K102: =K98*K100 -> 3.50001 | ... BR102: =BR98*BR100 -> 0 | BS102: =SUM(D102:BQ102) -> 19.701725 | BT102: =BS102/$C$10 -> 19.701725
B103: Израсходовано на сумму (за кг) | D103: =D98*D100 -> 0 | E103: =E98*E100 -> 0 | F103: =F98*F100 -> 1.112475 | G103: =G98*G100 -> 0.408 | H103: =H98*H100 -> 0 | I103: =I98*I100 -> 0 | J103: =J98*J100 -> 1.08684 | K103: =K98*K100 -> 3.50001 | ... BR103: =BR98*BR100 -> 0 | BS103: =SUM(D103:BQ103) -> 19.701725 | BT103: =BS103/$C$10 -> 19.701725
J105: 9 | K105: детей в количестве | AB105: человек (1,5 - 3 года)
B106: Наименование продуктов | C106: Кол-во человек | D106: =D8 -> Хлеб пшеничный | E106: =E8 -> Хлеб ржано-пшеничный | F106: =F8 -> Сахар | G106: =G8 -> Чай | H106: =H8 -> Какао | I106: =I8 -> Кофейный напиток | J106: =J8 -> Молоко 2,5% | K106: =K8 -> Масло сливочное | ... BR106: =BR8 -> Лимонная кислота | BS106: Итого расход за день | BT106: ИТОГО на 1 Чел
B107: Меню
A108: Ужин | B108: Рагу из овощей | C108: =$E$7 -> 1 | D108: =D30 -> 0 | E108: =E30 -> 0 | F108: =F30 -> 0 | G108: =G30 -> 0 | H108: =H30 -> 0 | I108: =I30 -> 0 | J108: =J30 -> 0 | K108: =K30 -> 0.003 | ... BR108: =BR30 -> 0
B109: Хлеб пшеничный | D109: =D31 -> 0.02 | E109: =E31 -> 0 | F109: =F31 -> 0 | G109: =G31 -> 0 | H109: =H31 -> 0 | I109: =I31 -> 0 | J109: =J31 -> 0 | K109: =K31 -> 0 | ... BR109: =BR31 -> 0
B110: Чай с сахаром | D110: =D32 -> 0 | E110: =E32 -> 0 | F110: =F32 -> 0.009 | G110: =G32 -> 0.0005 | H110: =H32 -> 0 | I110: =I32 -> 0 | J110: =J32 -> 0 | K110: =K32 -> 0 | ... BR110: =BR32 -> 0
D111: =D33 -> 0 | E111: =E33 -> 0 | F111: =F33 -> 0 | G111: =G33 -> 0 | H111: =H33 -> 0 | I111: =I33 -> 0 | J111: =J33 -> 0 | K111: =K33 -> 0 | ... BR111: =BR33 -> 0
D112: =D34 -> 0 | E112: =E34 -> 0 | F112: =F34 -> 0 | G112: =G34 -> 0 | H112: =H34 -> 0 | I112: =I34 -> 0 | J112: =J34 -> 0 | K112: =K34 -> 0 | ... BR112: =BR34 -> 0
B113: Итого на 1 чел | D113: =SUM(D108:D112) -> 0.02 | E113: =SUM(E108:E112) -> 0 | F113: =SUM(F108:F112) -> 0.009 | G113: =SUM(G108:G112) -> 0.0005 | H113: =SUM(H108:H112) -> 0 | I113: =SUM(I108:I112) -> 0 | J113: =SUM(J108:J112) -> 0 | K113: =SUM(K108:K112) -> 0.003 | ... BR113: =SUM(BR108:BR112) -> 0
B114: Итого к выдаче, ГРАММ (на всех) | D114: =PRODUCT(D113,$E$7) -> 0.02 | E114: =PRODUCT(E113,$E$7) -> 0 | F114: =PRODUCT(F113,$E$7) -> 0.009 | G114: =PRODUCT(G113,$E$7) -> 0.0005 | H114: =PRODUCT(H113,$E$7) -> 0 | I114: =PRODUCT(I113,$E$7) -> 0 | J114: =PRODUCT(J113,$E$7) -> 0 | K114: =PRODUCT(K113,$E$7) -> 0.003 | ... BR114: =PRODUCT(BR113,$E$7) -> 0
B116: ЦЕНА ЗА КИЛОГРАММ (покупная) | C116: руб | D116: =D48 -> 90.9 | E116: =E48 -> 96 | F116: =F48 -> 91 | G116: =G48 -> 816 | H116: =H48 -> 1680 | I116: =I48 -> 1050 | J116: =J48 -> 90.57 | K116: =K48 -> 1166.67 | ... AE116: =AE48 -> 842 | AH116: =AH48 -> 359 | AJ116: =AJ48 -> 309.1 | AK116: =AK48 -> 94 | AL116: =AL48 -> 73 | AM116: =AM48 -> 51.6 | AN116: =AN48 -> 250 | AO116: =AO48 -> 272 | AP116: =AP48 -> 0 | AQ116: =AQ48 -> 425 | ... BR116: =BR48 -> 0
B117: ЦЕНА ЗА ГРАММ (покупная) | C117: руб | D117: =D116/1000 -> 0.0909 | E117: =E116/1000 -> 0.096 | F117: =F116/1000 -> 0.091 | G117: =G116/1000 -> 0.816 | H117: =H116/1000 -> 1.68 | I117: =I116/1000 -> 1.05 | J117: =J116/1000 -> 0.09057 | K117: =K116/1000 -> 1.16667 | ... BR117: =BR116/1000 -> 0
B118: Израсходовано на сумму (за граммы) | D118: =D114*D116 -> 1.818 | E118: =E114*E116 -> 0 | F118: =F114*F116 -> 0.819 | G118: =G114*G116 -> 0.408 | H118: =H114*H116 -> 0 | I118: =I114*I116 -> 0 | J118: =J114*J116 -> 0 | K118: =K114*K116 -> 3.50001 | ... BR118: =BR114*BR116 -> 0 | BS118: =SUM(D118:BQ118) -> 14.81001 | BT118: =BS118/$C$10 -> 14.81001
B119: Израсходовано на сумму (за кг) | D119: =D114*D116 -> 1.818 | E119: =E114*E116 -> 0 | F119: =F114*F116 -> 0.819 | G119: =G114*G116 -> 0.408 | H119: =H114*H116 -> 0 | I119: =I114*I116 -> 0 | J119: =J114*J116 -> 0 | K119: =K114*K116 -> 3.50001 | ... BR119: =BR114*BR116 -> 0 | BS119: =SUM(D119:BQ119) -> 14.81001 | BT119: =BS119/$C$10 -> 14.81001

Sheet ОВЗ 3-7 лет 
A1: Утверждаю
A2: Заведующий МКДОУ Ташаринский детский сад "Лесовичок" | H2: Меню - требование на выдачу продуктов питания
A3: _________________ Чугуева Т.В.
A4: подпись | H4: Учреждение МКДОУ "Ташаринский детский сад"Лесовичок"
H5: Ответственное лицо Романашенко Г.М.
B7: ОВЗ | D7: детей в количестве | F7: 1 | G7: человек (3 - 7 лет) на | K7: =' 3-7 лет (день 5)'!K7 -> 46303
B8: Наименование продуктов | C8: Кол-во человек | D8: =[1]Цены!A1 -> Хлеб пшеничный | E8: =[1]Цены!B1 -> Хлеб ржано-пшеничный | F8: =[1]Цены!C1 -> Сахар | G8: =[1]Цены!D1 -> Чай | H8: =[1]Цены!E1 -> Какао | I8: =[1]Цены!F1 -> Кофейный напиток | J8: =[1]Цены!G1 -> Молоко 2,5% | K8: =[1]Цены!H1 -> Масло сливочное | ... AE8: =[1]Цены!AB1 -> Ягода свежемороженная | AF8: =' 3-7 лет (день 5)'!AF8:AF9 -> Апельсин | AG8: =' 3-7 лет (день 5)'!AG8:AG9 -> Банан | AH8: =' 3-7 лет (день 5)'!AH8:AH9 -> Лимон | AI8: =' 3-7 лет (день 5)'!AI8:AI9 -> Яблоко | AJ8: =[1]Цены!AD1 -> Кисель | AK8: =[1]Цены!AE1 -> Сок | AL8: =[1]Цены!AF1 -> Макаронные изделия | AM8: =[1]Цены!AG1 -> Мука | AN8: =[1]Цены!AH1 -> Дрожжи | AO8: =[1]Цены!AI1 -> Печенье | AP8: =[1]Цены!AJ1 -> Пряники | AQ8: =[1]Цены!AK1 -> Вафли | ... BQ8: =[1]Цены!BK1 -> Соль | BR8: Лимонная кислота | BS8: Итого расход за день | BT8: ИТОГО на 1 Чел
B9: Меню
A10: Завтрак | B10: =' 3-7 лет (день 5)'!B10 -> Каша молочная "Геркулес" | C10: =$F$7 -> 1 | F10: 0.005 | K10: 0.003 | M10: 0.0165 | AT10: 0.02 | BQ10: 0.0005
B11: =' 3-7 лет (день 5)'!B11 -> Бутерброд с маслом | D11: 0.03 | K11: 0.005
B12: =' 3-7 лет (день 5)'!B12 -> Какао с молоком | F12: 0.01 | H12: 0.0012 | J12: 0.096
A15: Второй завтрак | B15: Яблоко | C15: =F7 -> 1
B16: Банан | AG16: 0.158
A17: Обед | B17: =' 3-7 лет (день 5)'!B17 -> Суп картофельный с гренками | C17: =$F$7 -> 1 | BD17: 0.04 | BJ17: 0.15 | BK17: 0.013 | BL17: 0.012 | BP17: 0.003 | BQ17: 0.002
B18: =' 3-7 лет (день 5)'!B18 -> Рыба, тушенная в сметанном соусе | L18: 0.009 | AM18: 0.0006 | BH18: 0.05 | BK18: 0.035 | BL18: 0.019 | BP18: 0.007 | BQ18: 0.001
B19: =' 3-7 лет (день 5)'!B19 -> Рис отварной | K19: 0.003 | BC19: 0.035 | BQ19: 0.002
B20: =' 3-7 лет (день 5)'!B20 -> Хлеб пшеничный | D20: 0.03
B21: =' 3-7 лет (день 5)'!B21 -> Хлеб ржано-пшеничный | E21: 0.05
B22: =' 3-7 лет (день 5)'!B22 -> Компот из чернослива | F22: 0.013 | AB22: 0.015 | BR22: 5e-05
A25: Полдник | B25: =' 3-7 лет (день 5)'!B25 -> Чай с лимоном | C25: =$F$7 -> 1 | F25: 0.011 | G25: 0.0006 | AH25: 0.006
B26: =' 3-7 лет (день 5)'!B26 -> Крендель сахарный | F26: 0.003225 | J26: 0.014 | K26: 0.003 | X26: 0.1 | AM26: 0.039 | AN26: 0.000857 | BP26: 0.003
B27: =' 3-7 лет (день 5)'!B27 -> Яблоко
A30: Ужин | B30: =' 3-7 лет (день 5)'!B30 -> Рагу из овощей | C30: =$F$7 -> 1 | K30: 0.004 | BJ30: 0.114 | BK30: 0.036 | BL30: 0.017 | BM30: 0.045 | BP30: 0.003 | BQ30: 0.0005
B31: =' 3-7 лет (день 5)'!B31 -> Хлеб пшеничный | D31: 0.02
B32: =' 3-7 лет (день 5)'!B32 -> Чай с сахаром | F32: 0.011 | G32: 0.0006
B35: Итого на 1 чел | D35: =SUM(D10:D34) -> 0.08 | E35: =SUM(E10:E34) -> 0.05 | F35: =SUM(F10:F34) -> 0.053225 | G35: =SUM(G10:G34) -> 0.0012 | H35: =SUM(H10:H34) -> 0.0012 | I35: =SUM(I10:I34) -> 0 | J35: =SUM(J10:J34) -> 0.11 | K35: =SUM(K10:K34) -> 0.018 | ... BR35: =SUM(BR10:BR34) -> 5e-05
B36: К выдаче, ГРАММ (на всех) | D36: =ROUND(PRODUCT(D35,$F$7),3) -> 0.08 | E36: =ROUND(PRODUCT(E35,$F$7),3) -> 0.05 | F36: =ROUND(PRODUCT(F35,$F$7),3) -> 0.053 | G36: =ROUND(PRODUCT(G35,$F$7),3) -> 0.001 | H36: =ROUND(PRODUCT(H35,$F$7),3) -> 0.001 | I36: =ROUND(PRODUCT(I35,$F$7),3) -> 0 | J36: =ROUND(PRODUCT(J35,$F$7),3) -> 0.11 | K36: =ROUND(PRODUCT(K35,$F$7),3) -> 0.018 | ... BR36: =ROUND(PRODUCT(BR35,$F$7),3) -> 0
D39: Ответственный калькулятор | H39: _________________ | K39: С.В.Залевская
D40: исполнитель | F40: должность | H40: подпись
F42: Повар | H42: ___________________ | K42: =' 3-7 лет (день 5)'!K42 -> 0
H43: подпись
B51: ЦЕНА ЗА КИЛОГРАММ (покупная) | C51: руб | D51: 90.9 | E51: 96 | F51: 91 | G51: 816 | H51: 1680 | I51: 1050 | J51: 90.57 | K51: 1166.67 | L51: 255.2 | M51: 833 | N51: 126.38 | O51: 387.53 | P51: 663.16 | Q51: 526.67 | R51: 1295 | U51: 1012 | V51: 470.67 | W51: 348 | X51: 9.4 | Y51: 266.5 | Z51: 367 | AA51: 524 | AB51: 330 | AC51: 299 | AD51: 148 | AE51: 842 | AG51: 180 | AH51: 359 | AI51: 160 | AJ51: 309.1 | AK51: 94 | AL51: 73 | AM51: 51.6 | AN51: 250 | AO51: 272 | AQ51: 425 | AR51: 800 | AS51: 294.25 | AT51: 95 | AU51: 87.33 | AV51: 73.33 | AW51: 80 | AX51: 89.29 | AY51: 63.75 | AZ51: 104.62 | BA51: 81.33 | BB51: 71.67 | BC51: 152.67 | BD51: 378 | BE51: 574 | BF51: 696 | BG51: 324 | BH51: 604 | BJ51: 38 | BK51: 38 | BL51: 33 | BM51: 43 | BN51: 43 | BO51: 306.32 | BP51: 190 | BQ51: 26
B52: ЦЕНА ЗА ГРАММ (покупная) | C52: руб | D52: =D51/1000 -> 0.0909 | E52: =E51/1000 -> 0.096 | F52: =F51/1000 -> 0.091 | G52: =G51/1000 -> 0.816 | H52: =H51/1000 -> 1.68 | I52: =I51/1000 -> 1.05 | J52: =J51/1000 -> 0.09057 | K52: =K51/1000 -> 1.16667 | ... BR52: =BR51/1000 -> 0
B53: Израсходовано на сумму (за граммы) | D53: =D36*D51 -> 7.272 | E53: =E36*E51 -> 4.8 | F53: =F36*F51 -> 4.823 | G53: =G36*G51 -> 0.816 | H53: =H36*H51 -> 1.68 | I53: =I36*I51 -> 0 | J53: =J36*J51 -> 9.9627 | K53: =K36*K51 -> 21.00006 | ... BR53: =BR36*BR51 -> 0 | BS53: =SUM(D53:BQ53) -> 178.11201 | BT53: =BS53/$C$10 -> 178.11201
B54: Израсходовано на сумму (за кг) | D54: =D36*D51 -> 7.272 | E54: =E36*E51 -> 4.8 | F54: =F36*F51 -> 4.823 | G54: =G36*G51 -> 0.816 | H54: =H36*H51 -> 1.68 | I54: =I36*I51 -> 0 | J54: =J36*J51 -> 9.9627 | K54: =K36*K51 -> 21.00006 | ... BR54: =BR36*BR51 -> 0 | BS54: =SUM(D54:BQ54) -> 178.11201 | BT54: =BS54/$C$10 -> 178.11201
B55: P/S: Итого к выдаче Яйцо- указано в шт.
B56: Цена за яйцо, указана за 1 шт. | BT56: =BT71+BT89+BT105+BT121 -> 149.7188
B59: Наименование продуктов | C59: Кол-во человек | D59: =D8 -> Хлеб пшеничный | E59: =E8 -> Хлеб ржано-пшеничный | F59: =F8 -> Сахар | G59: =G8 -> Чай | H59: =H8 -> Какао | I59: =I8 -> Кофейный напиток | J59: =J8 -> Молоко 2,5% | K59: =K8 -> Масло сливочное | ... BR59: =BR8 -> Лимонная кислота | BS59: Итого расход за день | BT59: ИТОГО на 1 Чел
B60: Меню
A61: Завтрак | B61: Каша молочная "Геркулес" | C61: =$F$7 -> 1 | D61: =D10 -> 0 | E61: =E10 -> 0 | F61: =F10 -> 0.005 | G61: =G10 -> 0 | H61: =H10 -> 0 | I61: =I10 -> 0 | J61: =J10 -> 0 | K61: =K10 -> 0.003 | ... BR61: =BR10 -> 0
B62: Бутерброд с джемом | D62: =D11 -> 0.03 | E62: =E11 -> 0 | F62: =F11 -> 0 | G62: =G11 -> 0 | H62: =H11 -> 0 | I62: =I11 -> 0 | J62: =J11 -> 0 | K62: =K11 -> 0.005 | ... BR62: =BR11 -> 0
B63: Какао с молоком | D63: =D12 -> 0 | E63: =E12 -> 0 | F63: =F12 -> 0.01 | G63: =G12 -> 0 | H63: =H12 -> 0.0012 | I63: =I12 -> 0 | J63: =J12 -> 0.096 | K63: =K12 -> 0 | ... BR63: =BR12 -> 0
D64: =D13 -> 0 | E64: =E13 -> 0 | F64: =F13 -> 0 | G64: =G13 -> 0 | H64: =H13 -> 0 | I64: =I13 -> 0 | J64: =J13 -> 0 | K64: =K13 -> 0 | ... BR64: =BR13 -> 0
D65: =D14 -> 0 | E65: =E14 -> 0 | F65: =F14 -> 0 | G65: =G14 -> 0 | H65: =H14 -> 0 | I65: =I14 -> 0 | J65: =J14 -> 0 | K65: =K14 -> 0 | ... BR65: =BR14 -> 0
B66: Итого на 1 чел | D66: =SUM(D61:D65) -> 0.03 | E66: =SUM(E61:E65) -> 0 | F66: =SUM(F61:F65) -> 0.015 | G66: =SUM(G61:G65) -> 0 | H66: =SUM(H61:H65) -> 0.0012 | I66: =SUM(I61:I65) -> 0 | J66: =SUM(J61:J65) -> 0.096 | K66: =SUM(K61:K65) -> 0.008 | ... BR66: =SUM(BR61:BR65) -> 0
B67: Итого к выдаче, ГРАММ (на всех) | D67: =PRODUCT(D66,$F$7) -> 0.03 | E67: =PRODUCT(E66,$F$7) -> 0 | F67: =PRODUCT(F66,$F$7) -> 0.015 | G67: =PRODUCT(G66,$F$7) -> 0 | H67: =PRODUCT(H66,$F$7) -> 0.0012 | I67: =PRODUCT(I66,$F$7) -> 0 | J67: =PRODUCT(J66,$F$7) -> 0.096 | K67: =PRODUCT(K66,$F$7) -> 0.008 | ... BR67: =PRODUCT(BR66,$F$7) -> 0
B69: ЦЕНА ЗА КИЛОГРАММ (покупная) | C69: руб | D69: =D51 -> 90.9 | E69: =E51 -> 96 | F69: =F51 -> 91 | G69: =G51 -> 816 | H69: =H51 -> 1680 | I69: =I51 -> 1050 | J69: =J51 -> 90.57 | K69: =K51 -> 1166.67 | ... AE69: =AE51 -> 842 | AH69: =AH51 -> 359 | AJ69: =AJ51 -> 309.1 | AK69: =AK51 -> 94 | AL69: =AL51 -> 73 | AM69: =AM51 -> 51.6 | AN69: =AN51 -> 250 | AO69: =AO51 -> 272 | AP69: =AP51 -> 0 | AQ69: =AQ51 -> 425 | ... BR69: =BR51 -> 0
B70: ЦЕНА ЗА ГРАММ (покупная) | C70: руб | D70: =D69/1000 -> 0.0909 | E70: =E69/1000 -> 0.096 | F70: =F69/1000 -> 0.091 | G70: =G69/1000 -> 0.816 | H70: =H69/1000 -> 1.68 | I70: =I69/1000 -> 1.05 | J70: =J69/1000 -> 0.09057 | K70: =K69/1000 -> 1.16667 | ... BR70: =BR69/1000 -> 0
B71: Израсходовано на сумму (за граммы) | D71: =D67*D69 -> 2.727 | E71: =E67*E69 -> 0 | F71: =F67*F69 -> 1.365 | G71: =G67*G69 -> 0 | H71: =H67*H69 -> 2.016 | I71: =I67*I69 -> 0 | J71: =J67*J69 -> 8.69472 | K71: =K67*K69 -> 9.33336 | ... BR71: =BR67*BR69 -> 0 | BS71: =SUM(D71:BQ71) -> 39.79358 | BT71: =BS71/$C$10 -> 39.79358
B72: Израсходовано на сумму (за кг) | D72: =D67*D69 -> 2.727 | E72: =E67*E69 -> 0 | F72: =F67*F69 -> 1.365 | G72: =G67*G69 -> 0 | H72: =H67*H69 -> 2.016 | I72: =I67*I69 -> 0 | J72: =J67*J69 -> 8.69472 | K72: =K67*K69 -> 9.33336 | ... BR72: =BR67*BR69 -> 0 | BS72: =SUM(D72:BQ72) -> 39.79358 | BT72: =BS72/$C$10 -> 39.79358
B75: Наименование продуктов | C75: Кол-во человек | D75: =D8 -> Хлеб пшеничный | E75: =E8 -> Хлеб ржано-пшеничный | F75: =F8 -> Сахар | G75: =G8 -> Чай | H75: =H8 -> Какао | I75: =I8 -> Кофейный напиток | J75: =J8 -> Молоко 2,5% | K75: =K8 -> Масло сливочное | ... BR75: =BR8 -> Лимонная кислота | BS75: Итого расход за день | BT75: ИТОГО на 1 Чел
B76: Меню
A77: Обед | B77: Суп картофельный с гренками | C77: =$F$7 -> 1 | D77: =D17 -> 0 | E77: =E17 -> 0 | F77: =F17 -> 0 | G77: =G17 -> 0 | H77: =H17 -> 0 | I77: =I17 -> 0 | J77: =J17 -> 0 | K77: =K17 -> 0 | ... BR77: =BR17 -> 0
B78: Рыба, тушеннная в сметанном соусе | D78: =D18 -> 0 | E78: =E18 -> 0 | F78: =F18 -> 0 | G78: =G18 -> 0 | H78: =H18 -> 0 | I78: =I18 -> 0 | J78: =J18 -> 0 | K78: =K18 -> 0 | ... BR78: =BR18 -> 0
B79: Рис отварной | D79: =D19 -> 0 | E79: =E19 -> 0 | F79: =F19 -> 0 | G79: =G19 -> 0 | H79: =H19 -> 0 | I79: =I19 -> 0 | J79: =J19 -> 0 | K79: =K19 -> 0.003 | ... BR79: =BR19 -> 0
B80: Хлеб пшеничный | D80: =D20 -> 0.03 | E80: =E20 -> 0 | F80: =F20 -> 0 | G80: =G20 -> 0 | H80: =H20 -> 0 | I80: =I20 -> 0 | J80: =J20 -> 0 | K80: =K20 -> 0 | ... BR80: =BR20 -> 0
B81: Хлеб ржано-пшеничный | D81: =D21 -> 0 | E81: =E21 -> 0.05 | F81: =F21 -> 0 | G81: =G21 -> 0 | H81: =H21 -> 0 | I81: =I21 -> 0 | J81: =J21 -> 0 | K81: =K21 -> 0 | ... BR81: =BR21 -> 0
B82: Компот из чернослива | D82: =D22 -> 0 | E82: =E22 -> 0 | F82: =F22 -> 0.013 | G82: =G22 -> 0 | H82: =H22 -> 0 | I82: =I22 -> 0 | J82: =J22 -> 0 | K82: =K22 -> 0 | ... BR82: =BR22 -> 5e-05
D83: =D23 -> 0 | E83: =E23 -> 0 | F83: =F23 -> 0 | G83: =G23 -> 0 | H83: =H23 -> 0 | I83: =I23 -> 0 | J83: =J23 -> 0 | K83: =K23 -> 0 | ... BR83: =BR23 -> 0
B84: Итого на 1 чел | D84: =SUM(D77:D83) -> 0.03 | E84: =SUM(E77:E83) -> 0.05 | F84: =SUM(F77:F83) -> 0.013 | G84: =SUM(G77:G83) -> 0 | H84: =SUM(H77:H83) -> 0 | I84: =SUM(I77:I83) -> 0 | J84: =SUM(J77:J83) -> 0 | K84: =SUM(K77:K83) -> 0.003 | ... BR84: =SUM(BR77:BR83) -> 5e-05
B85: Итого к выдаче, ГРАММ (на всех) | D85: =PRODUCT(D84,$F$7) -> 0.03 | E85: =PRODUCT(E84,$F$7) -> 0.05 | F85: =PRODUCT(F84,$F$7) -> 0.013 | G85: =PRODUCT(G84,$F$7) -> 0 | H85: =PRODUCT(H84,$F$7) -> 0 | I85: =PRODUCT(I84,$F$7) -> 0 | J85: =PRODUCT(J84,$F$7) -> 0 | K85: =PRODUCT(K84,$F$7) -> 0.003 | ... BR85: =PRODUCT(BR84,$F$7) -> 5e-05
B87: ЦЕНА ЗА КИЛОГРАММ (покупная) | C87: руб | D87: =D51 -> 90.9 | E87: =E51 -> 96 | F87: =F51 -> 91 | G87: =G51 -> 816 | H87: =H51 -> 1680 | I87: =I51 -> 1050 | J87: =J51 -> 90.57 | K87: =K51 -> 1166.67 | ... AE87: =AE51 -> 842 | AH87: =AH51 -> 359 | AJ87: =AJ51 -> 309.1 | AK87: =AK51 -> 94 | AL87: =AL51 -> 73 | AM87: =AM51 -> 51.6 | AN87: =AN51 -> 250 | AO87: =AO51 -> 272 | AP87: =AP51 -> 0 | AQ87: =AQ51 -> 425 | ... BR87: =BR51 -> 0
B88: ЦЕНА ЗА ГРАММ (покупная) | C88: руб | D88: =D87/1000 -> 0.0909 | E88: =E87/1000 -> 0.096 | F88: =F87/1000 -> 0.091 | G88: =G87/1000 -> 0.816 | H88: =H87/1000 -> 1.68 | I88: =I87/1000 -> 1.05 | J88: =J87/1000 -> 0.09057 | K88: =K87/1000 -> 1.16667 | ... BR88: =BR87/1000 -> 0
B89: Израсходовано на сумму (за граммы) | D89: =D85*D87 -> 2.727 | E89: =E85*E87 -> 4.8 | F89: =F85*F87 -> 1.183 | G89: =G85*G87 -> 0 | H89: =H85*H87 -> 0 | I89: =I85*I87 -> 0 | J89: =J85*J87 -> 0 | K89: =K85*K87 -> 3.50001 | ... BR89: =BR85*BR87 -> 0 | BS89: =SUM(D89:BQ89) -> 80.72822 | BT89: =BS89/$C$10 -> 80.72822
B90: Израсходовано на сумму (за кг) | D90: =D85*D87 -> 2.727 | E90: =E85*E87 -> 4.8 | F90: =F85*F87 -> 1.183 | G90: =G85*G87 -> 0 | H90: =H85*H87 -> 0 | I90: =I85*I87 -> 0 | J90: =J85*J87 -> 0 | K90: =K85*K87 -> 3.50001 | ... BR90: =BR85*BR87 -> 0 | BS90: =SUM(D90:BQ90) -> 80.72822 | BT90: =BS90/$C$10 -> 80.72822
B93: Наименование продуктов | C93: Кол-во человек | D93: =D8 -> Хлеб пшеничный | E93: =E8 -> Хлеб ржано-пшеничный | F93: =F8 -> Сахар | G93: =G8 -> Чай | H93: =H8 -> Какао | I93: =I8 -> Кофейный напиток | J93: =J8 -> Молоко 2,5% | K93: =K8 -> Масло сливочное | ... BR93: =BR8 -> Лимонная кислота | BS93: Итого расход за день | BT93: ИТОГО на 1 Чел
B94: Меню
A95: Полдник | B95: Чай с лимоном | C95: =$F$7 -> 1 | D95: =D25 -> 0 | E95: =E25 -> 0 | F95: =F25 -> 0.011 | G95: =G25 -> 0.0006 | H95: =H25 -> 0 | I95: =I25 -> 0 | J95: =J25 -> 0 | K95: =K25 -> 0 | ... BR95: =BR25 -> 0
B96: Крендель сахарный | D96: =D26 -> 0 | E96: =E26 -> 0 | F96: =F26 -> 0.003225 | G96: =G26 -> 0 | H96: =H26 -> 0 | I96: =I26 -> 0 | J96: =J26 -> 0.014 | K96: =K26 -> 0.003 | ... BR96: =BR26 -> 0
D97: =D27 -> 0 | E97: =E27 -> 0 | F97: =F27 -> 0 | G97: =G27 -> 0 | H97: =H27 -> 0 | I97: =I27 -> 0 | J97: =J27 -> 0 | K97: =K27 -> 0 | ... BR97: =BR27 -> 0
D98: =D28 -> 0 | E98: =E28 -> 0 | F98: =F28 -> 0 | G98: =G28 -> 0 | H98: =H28 -> 0 | I98: =I28 -> 0 | J98: =J28 -> 0 | K98: =K28 -> 0 | ... BR98: =BR28 -> 0
D99: =D29 -> 0 | E99: =E29 -> 0 | F99: =F29 -> 0 | G99: =G29 -> 0 | H99: =H29 -> 0 | I99: =I29 -> 0 | J99: =J29 -> 0 | K99: =K29 -> 0 | ... BR99: =BR29 -> 0
B100: Итого на 1 чел | D100: =SUM(D95:D99) -> 0 | E100: =SUM(E95:E99) -> 0 | F100: =SUM(F95:F99) -> 0.014225 | G100: =SUM(G95:G99) -> 0.0006 | H100: =SUM(H95:H99) -> 0 | I100: =SUM(I95:I99) -> 0 | J100: =SUM(J95:J99) -> 0.014 | K100: =SUM(K95:K99) -> 0.003 | ... BR100: =SUM(BR95:BR99) -> 0
B101: Итого к выдаче, ГРАММ (на всех) | D101: =PRODUCT(D100,$F$7) -> 0 | E101: =PRODUCT(E100,$F$7) -> 0 | F101: =PRODUCT(F100,$F$7) -> 0.014225 | G101: =PRODUCT(G100,$F$7) -> 0.0006 | H101: =PRODUCT(H100,$F$7) -> 0 | I101: =PRODUCT(I100,$F$7) -> 0 | J101: =PRODUCT(J100,$F$7) -> 0.014 | K101: =PRODUCT(K100,$F$7) -> 0.003 | ... BR101: =PRODUCT(BR100,$F$7) -> 0
B103: ЦЕНА ЗА КИЛОГРАММ (покупная) | C103: руб | D103: =D51 -> 90.9 | E103: =E51 -> 96 | F103: =F51 -> 91 | G103: =G51 -> 816 | H103: =H51 -> 1680 | I103: =I51 -> 1050 | J103: =J51 -> 90.57 | K103: =K51 -> 1166.67 | ... AE103: =AE51 -> 842 | AH103: =AH51 -> 359 | AJ103: =AJ51 -> 309.1 | AK103: =AK51 -> 94 | AL103: =AL51 -> 73 | AM103: =AM51 -> 51.6 | AN103: =AN51 -> 250 | AO103: =AO51 -> 272 | AP103: =AP51 -> 0 | AQ103: =AQ51 -> 425 | ... BR103: =BR51 -> 0
B104: ЦЕНА ЗА ГРАММ (покупная) | C104: руб | D104: =D103/1000 -> 0.0909 | E104: =E103/1000 -> 0.096 | F104: =F103/1000 -> 0.091 | G104: =G103/1000 -> 0.816 | H104: =H103/1000 -> 1.68 | I104: =I103/1000 -> 1.05 | J104: =J103/1000 -> 0.09057 | K104: =K103/1000 -> 1.16667 | ... BR104: =BR103/1000 -> 0
B105: Израсходовано на сумму (за граммы) | D105: =D101*D103 -> 0 | E105: =E101*E103 -> 0 | F105: =F101*F103 -> 1.294475 | G105: =G101*G103 -> 0.4896 | H105: =H101*H103 -> 0 | I105: =I101*I103 -> 0 | J105: =J101*J103 -> 1.26798 | K105: =K101*K103 -> 3.50001 | ... BR105: =BR101*BR103 -> 0 | BS105: =SUM(D105:BQ105) -> 12.442715 | BT105: =BS105/$C$10 -> 12.442715
B106: Израсходовано на сумму (за кг) | D106: =D101*D103 -> 0 | E106: =E101*E103 -> 0 | F106: =F101*F103 -> 1.294475 | G106: =G101*G103 -> 0.4896 | H106: =H101*H103 -> 0 | I106: =I101*I103 -> 0 | J106: =J101*J103 -> 1.26798 | K106: =K101*K103 -> 3.50001 | ... BR106: =BR101*BR103 -> 0 | BS106: =SUM(D106:BQ106) -> 12.442715 | BT106: =BS106/$C$10 -> 12.442715
B109: Наименование продуктов | C109: Кол-во человек | D109: =D8 -> Хлеб пшеничный | E109: =E8 -> Хлеб ржано-пшеничный | F109: =F8 -> Сахар | G109: =G8 -> Чай | H109: =H8 -> Какао | I109: =I8 -> Кофейный напиток | J109: =J8 -> Молоко 2,5% | K109: =K8 -> Масло сливочное | ... BR109: =BR8 -> Лимонная кислота | BS109: Итого расход за день | BT109: ИТОГО на 1 Чел
B110: Меню
A111: Ужин | B111: Рагу из овощей | C111: =$F$7 -> 1 | D111: =D30 -> 0 | E111: =E30 -> 0 | F111: =F30 -> 0 | G111: =G30 -> 0 | H111: =H30 -> 0 | I111: =I30 -> 0 | J111: =J30 -> 0 | K111: =K30 -> 0.004 | ... BR111: =BR30 -> 0
B112: Хлеб пшеничный | D112: =D31 -> 0.02 | E112: =E31 -> 0 | F112: =F31 -> 0 | G112: =G31 -> 0 | H112: =H31 -> 0 | I112: =I31 -> 0 | J112: =J31 -> 0 | K112: =K31 -> 0 | ... BR112: =BR31 -> 0
B113: Чай с сахаром | D113: =D32 -> 0 | E113: =E32 -> 0 | F113: =F32 -> 0.011 | G113: =G32 -> 0.0006 | H113: =H32 -> 0 | I113: =I32 -> 0 | J113: =J32 -> 0 | K113: =K32 -> 0 | ... BR113: =BR32 -> 0
D114: =D33 -> 0 | E114: =E33 -> 0 | F114: =F33 -> 0 | G114: =G33 -> 0 | H114: =H33 -> 0 | I114: =I33 -> 0 | J114: =J33 -> 0 | K114: =K33 -> 0 | ... BR114: =BR33 -> 0
D115: =D34 -> 0 | E115: =E34 -> 0 | F115: =F34 -> 0 | G115: =G34 -> 0 | H115: =H34 -> 0 | I115: =I34 -> 0 | J115: =J34 -> 0 | K115: =K34 -> 0 | ... BR115: =BR34 -> 0
B116: Итого на 1 чел | D116: =SUM(D111:D115) -> 0.02 | E116: =SUM(E111:E115) -> 0 | F116: =SUM(F111:F115) -> 0.011 | G116: =SUM(G111:G115) -> 0.0006 | H116: =SUM(H111:H115) -> 0 | I116: =SUM(I111:I115) -> 0 | J116: =SUM(J111:J115) -> 0 | K116: =SUM(K111:K115) -> 0.004 | ... BR116: =SUM(BR111:BR115) -> 0
B117: Итого к выдаче, ГРАММ (на всех) | D117: =PRODUCT(D116,$F$7) -> 0.02 | E117: =PRODUCT(E116,$F$7) -> 0 | F117: =PRODUCT(F116,$F$7) -> 0.011 | G117: =PRODUCT(G116,$F$7) -> 0.0006 | H117: =PRODUCT(H116,$F$7) -> 0 | I117: =PRODUCT(I116,$F$7) -> 0 | J117: =PRODUCT(J116,$F$7) -> 0 | K117: =PRODUCT(K116,$F$7) -> 0.004 | ... BR117: =PRODUCT(BR116,$F$7) -> 0
B119: ЦЕНА ЗА КИЛОГРАММ (покупная) | C119: руб | D119: =D51 -> 90.9 | E119: =E51 -> 96 | F119: =F51 -> 91 | G119: =G51 -> 816 | H119: =H51 -> 1680 | I119: =I51 -> 1050 | J119: =J51 -> 90.57 | K119: =K51 -> 1166.67 | ... AE119: =AE51 -> 842 | AH119: =AH51 -> 359 | AJ119: =AJ51 -> 309.1 | AK119: =AK51 -> 94 | AL119: =AL51 -> 73 | AM119: =AM51 -> 51.6 | AN119: =AN51 -> 250 | AO119: =AO51 -> 272 | AP119: =AP51 -> 0 | AQ119: =AQ51 -> 425 | ... BR119: =BR51 -> 0
B120: ЦЕНА ЗА ГРАММ (покупная) | C120: руб | D120: =D119/1000 -> 0.0909 | E120: =E119/1000 -> 0.096 | F120: =F119/1000 -> 0.091 | G120: =G119/1000 -> 0.816 | H120: =H119/1000 -> 1.68 | I120: =I119/1000 -> 1.05 | J120: =J119/1000 -> 0.09057 | K120: =K119/1000 -> 1.16667 | ... BR120: =BR119/1000 -> 0
B121: Израсходовано на сумму (за граммы) | D121: =D117*D119 -> 1.818 | E121: =E117*E119 -> 0 | F121: =F117*F119 -> 1.001 | G121: =G117*G119 -> 0.4896 | H121: =H117*H119 -> 0 | I121: =I117*I119 -> 0 | J121: =J117*J119 -> 0 | K121: =K117*K119 -> 4.66668 | ... BR121: =BR117*BR119 -> 0 | BS121: =SUM(D121:BQ121) -> 16.75428 | BT121: =BS121/$C$10 -> 16.75428
B122: Израсходовано на сумму (за кг) | D122: =D117*D119 -> 1.818 | E122: =E117*E119 -> 0 | F122: =F117*F119 -> 1.001 | G122: =G117*G119 -> 0.4896 | H122: =H117*H119 -> 0 | I122: =I117*I119 -> 0 | J122: =J117*J119 -> 0 | K122: =K117*K119 -> 4.66668 | ... BR122: =BR117*BR119 -> 0 | BS122: =SUM(D122:BQ122) -> 16.75428 | BT122: =BS122/$C$10 -> 16.75428

Sheet СВО 3-7 лет
A1: Утверждаю
A2: Заведующий МКДОУ Ташаринский детский сад "Лесовичок" | H2: Меню - требование на выдачу продуктов питания
A3: _________________ Чугуева Т.В.
A4: подпись | H4: Учреждение МКДОУ "Ташаринский детский сад"Лесовичок"
H5: Ответственное лицо Романашенко Г.М.
B7: СВО | D7: детей в количестве | F7: 1 | G7: человек (3 - 7 лет) на | K7: =' 3-7 лет (день 5)'!K7 -> 46303
B8: Наименование продуктов | C8: Кол-во человек | D8: =[1]Цены!A1 -> Хлеб пшеничный | E8: =[1]Цены!B1 -> Хлеб ржано-пшеничный | F8: =[1]Цены!C1 -> Сахар | G8: =[1]Цены!D1 -> Чай | H8: =[1]Цены!E1 -> Какао | I8: =[1]Цены!F1 -> Кофейный напиток | J8: =[1]Цены!G1 -> Молоко 2,5% | K8: =[1]Цены!H1 -> Масло сливочное | ... AE8: =[1]Цены!AB1 -> Ягода свежемороженная | AF8: =' 3-7 лет (день 5)'!AF8:AF9 -> Апельсин | AG8: =' 3-7 лет (день 5)'!AG8:AG9 -> Банан | AH8: =' 3-7 лет (день 5)'!AH8:AH9 -> Лимон | AI8: =' 3-7 лет (день 5)'!AI8:AI9 -> Яблоко | AJ8: =[1]Цены!AD1 -> Кисель | AK8: =[1]Цены!AE1 -> Сок | AL8: =[1]Цены!AF1 -> Макаронные изделия | AM8: =[1]Цены!AG1 -> Мука | AN8: =[1]Цены!AH1 -> Дрожжи | AO8: =[1]Цены!AI1 -> Печенье | AP8: =[1]Цены!AJ1 -> Пряники | AQ8: =[1]Цены!AK1 -> Вафли | ... BQ8: =[1]Цены!BK1 -> Соль | BR8: Лимонная кислота | BS8: Итого расход за день | BT8: ИТОГО на 1 Чел
B9: Меню
A10: Завтрак | B10: =' 3-7 лет (день 5)'!B10 -> Каша молочная "Геркулес" | C10: =$F$7 -> 1 | F10: 0.005 | K10: 0.003 | M10: 0.0165 | AT10: 0.02 | BQ10: 0.0005
B11: =' 3-7 лет (день 5)'!B11 -> Бутерброд с маслом | D11: 0.03 | K11: 0.005
B12: =' 3-7 лет (день 5)'!B12 -> Какао с молоком | F12: 0.01 | H12: 0.0012 | J12: 0.096
A15: Второй завтрак | B15: Яблоко | C15: =F7 -> 1
B16: Банан | AG16: 0.158
A17: Обед | B17: =' 3-7 лет (день 5)'!B17 -> Суп картофельный с гренками | C17: =$F$7 -> 1 | BD17: 0.04 | BJ17: 0.15 | BK17: 0.013 | BL17: 0.012 | BP17: 0.003 | BQ17: 0.002
B18: =' 3-7 лет (день 5)'!B18 -> Рыба, тушенная в сметанном соусе | L18: 0.009 | AM18: 0.0006 | BH18: 0.05 | BK18: 0.035 | BL18: 0.019 | BP18: 0.007 | BQ18: 0.001
B19: =' 3-7 лет (день 5)'!B19 -> Рис отварной | K19: 0.003 | BC19: 0.035 | BQ19: 0.002
B20: =' 3-7 лет (день 5)'!B20 -> Хлеб пшеничный | D20: 0.03
B21: =' 3-7 лет (день 5)'!B21 -> Хлеб ржано-пшеничный | E21: 0.05
B22: =' 3-7 лет (день 5)'!B22 -> Компот из чернослива | F22: 0.013 | AB22: 0.015 | BR22: 5e-05
A25: Полдник | B25: =' 3-7 лет (день 5)'!B25 -> Чай с лимоном | C25: =$F$7 -> 1 | F25: 0.011 | G25: 0.0006 | AH25: 0.006
B26: =' 3-7 лет (день 5)'!B26 -> Крендель сахарный | F26: 0.003225 | J26: 0.014 | K26: 0.003 | X26: 0.1 | AM26: 0.039 | AN26: 0.000857 | BP26: 0.003
B27: =' 3-7 лет (день 5)'!B27 -> Яблоко
A30: Ужин | B30: =' 3-7 лет (день 5)'!B30 -> Рагу из овощей | C30: =$F$7 -> 1 | K30: 0.004 | BJ30: 0.114 | BK30: 0.036 | BL30: 0.017 | BM30: 0.045 | BP30: 0.003 | BQ30: 0.0005
B31: =' 3-7 лет (день 5)'!B31 -> Хлеб пшеничный | D31: 0.02
B32: =' 3-7 лет (день 5)'!B32 -> Чай с сахаром | F32: 0.011 | G32: 0.0006
B35: Итого на 1 чел | D35: =SUM(D10:D34) -> 0.08 | E35: =SUM(E10:E34) -> 0.05 | F35: =SUM(F10:F34) -> 0.053225 | G35: =SUM(G10:G34) -> 0.0012 | H35: =SUM(H10:H34) -> 0.0012 | I35: =SUM(I10:I34) -> 0 | J35: =SUM(J10:J34) -> 0.11 | K35: =SUM(K10:K34) -> 0.018 | ... BR35: =SUM(BR10:BR34) -> 5e-05
B36: К выдаче, ГРАММ (на всех) | D36: =ROUND(PRODUCT(D35,$F$7),3) -> 0.08 | E36: =ROUND(PRODUCT(E35,$F$7),3) -> 0.05 | F36: =ROUND(PRODUCT(F35,$F$7),3) -> 0.053 | G36: =ROUND(PRODUCT(G35,$F$7),3) -> 0.001 | H36: =ROUND(PRODUCT(H35,$F$7),3) -> 0.001 | I36: =ROUND(PRODUCT(I35,$F$7),3) -> 0 | J36: =ROUND(PRODUCT(J35,$F$7),3) -> 0.11 | K36: =ROUND(PRODUCT(K35,$F$7),3) -> 0.018 | ... BR36: =ROUND(PRODUCT(BR35,$F$7),3) -> 0
D39: Ответственный калькулятор | H39: _________________ | K39: С.В.Залевская
D40: исполнитель | F40: должность | H40: подпись
F42: Повар | H42: ___________________ | K42: =' 3-7 лет (день 5)'!K42 -> 0
H43: подпись
B49: ЦЕНА ЗА КИЛОГРАММ (покупная) | C49: руб | D49: 90.9 | E49: 96 | F49: 91 | G49: 816 | H49: 1680 | I49: 1050 | J49: 90.57 | K49: 1166.67 | L49: 255.2 | M49: 833 | N49: 126.38 | O49: 387.53 | P49: 663.16 | Q49: 526.67 | R49: 1295 | U49: 1012 | V49: 470.67 | W49: 348 | X49: 9.4 | Y49: 266.5 | Z49: 367 | AA49: 524 | AB49: 330 | AC49: 299 | AD49: 148 | AE49: 842 | AG49: 180 | AH49: 359 | AI49: 160 | AJ49: 309.1 | AK49: 94 | AL49: 73 | AM49: 51.6 | AN49: 250 | AO49: 272 | AQ49: 425 | AR49: 800 | AS49: 294.25 | AT49: 95 | AU49: 87.33 | AV49: 73.33 | AW49: 80 | AX49: 89.29 | AY49: 63.75 | AZ49: 104.62 | BA49: 81.33 | BB49: 71.67 | BC49: 152.67 | BD49: 378 | BE49: 574 | BF49: 696 | BG49: 324 | BH49: 604 | BJ49: 38 | BK49: 38 | BL49: 33 | BM49: 43 | BN49: 43 | BO49: 306.32 | BP49: 190 | BQ49: 26
B50: ЦЕНА ЗА ГРАММ (покупная) | C50: руб | D50: =D49/1000 -> 0.0909 | E50: =E49/1000 -> 0.096 | F50: =F49/1000 -> 0.091 | G50: =G49/1000 -> 0.816 | H50: =H49/1000 -> 1.68 | I50: =I49/1000 -> 1.05 | J50: =J49/1000 -> 0.09057 | K50: =K49/1000 -> 1.16667 | ... BR50: =BR49/1000 -> 0
B51: Израсходовано на сумму (за граммы) | D51: =D36*D49 -> 7.272 | E51: =E36*E49 -> 4.8 | F51: =F36*F49 -> 4.823 | G51: =G36*G49 -> 0.816 | H51: =H36*H49 -> 1.68 | I51: =I36*I49 -> 0 | J51: =J36*J49 -> 9.9627 | K51: =K36*K49 -> 21.00006 | ... BR51: =BR36*BR49 -> 0 | BS51: =SUM(D51:BQ51) -> 178.11201 | BT51: =BS51/$C$10 -> 178.11201
B52: Израсходовано на сумму (за кг) | D52: =D36*D49 -> 7.272 | E52: =E36*E49 -> 4.8 | F52: =F36*F49 -> 4.823 | G52: =G36*G49 -> 0.816 | H52: =H36*H49 -> 1.68 | I52: =I36*I49 -> 0 | J52: =J36*J49 -> 9.9627 | K52: =K36*K49 -> 21.00006 | ... BR52: =BR36*BR49 -> 0 | BS52: =SUM(D52:BQ52) -> 178.11201 | BT52: =BS52/$C$10 -> 178.11201
B53: P/S: Итого к выдаче Яйцо- указано в шт.
B54: Цена за яйцо, указана за 1 шт. | BT54: =BT69+BT87+BT103+BT119 -> 149.7188
B57: Наименование продуктов | C57: Кол-во человек | D57: =D8 -> Хлеб пшеничный | E57: =E8 -> Хлеб ржано-пшеничный | F57: =F8 -> Сахар | G57: =G8 -> Чай | H57: =H8 -> Какао | I57: =I8 -> Кофейный напиток | J57: =J8 -> Молоко 2,5% | K57: =K8 -> Масло сливочное | ... BR57: =BR8 -> Лимонная кислота | BS57: Итого расход за день | BT57: ИТОГО на 1 Чел
B58: Меню
A59: Завтрак | B59: Каша молочная "Геркулес" | C59: =$F$7 -> 1 | D59: =D10 -> 0 | E59: =E10 -> 0 | F59: =F10 -> 0.005 | G59: =G10 -> 0 | H59: =H10 -> 0 | I59: =I10 -> 0 | J59: =J10 -> 0 | K59: =K10 -> 0.003 | ... BR59: =BR10 -> 0
B60: Бутерброд с джемом | D60: =D11 -> 0.03 | E60: =E11 -> 0 | F60: =F11 -> 0 | G60: =G11 -> 0 | H60: =H11 -> 0 | I60: =I11 -> 0 | J60: =J11 -> 0 | K60: =K11 -> 0.005 | ... BR60: =BR11 -> 0
B61: Какао с молоком | D61: =D12 -> 0 | E61: =E12 -> 0 | F61: =F12 -> 0.01 | G61: =G12 -> 0 | H61: =H12 -> 0.0012 | I61: =I12 -> 0 | J61: =J12 -> 0.096 | K61: =K12 -> 0 | ... BR61: =BR12 -> 0
D62: =D13 -> 0 | E62: =E13 -> 0 | F62: =F13 -> 0 | G62: =G13 -> 0 | H62: =H13 -> 0 | I62: =I13 -> 0 | J62: =J13 -> 0 | K62: =K13 -> 0 | ... BR62: =BR13 -> 0
D63: =D14 -> 0 | E63: =E14 -> 0 | F63: =F14 -> 0 | G63: =G14 -> 0 | H63: =H14 -> 0 | I63: =I14 -> 0 | J63: =J14 -> 0 | K63: =K14 -> 0 | ... BR63: =BR14 -> 0
B64: Итого на 1 чел | D64: =SUM(D59:D63) -> 0.03 | E64: =SUM(E59:E63) -> 0 | F64: =SUM(F59:F63) -> 0.015 | G64: =SUM(G59:G63) -> 0 | H64: =SUM(H59:H63) -> 0.0012 | I64: =SUM(I59:I63) -> 0 | J64: =SUM(J59:J63) -> 0.096 | K64: =SUM(K59:K63) -> 0.008 | ... BR64: =SUM(BR59:BR63) -> 0
B65: Итого к выдаче, ГРАММ (на всех) | D65: =PRODUCT(D64,$F$7) -> 0.03 | E65: =PRODUCT(E64,$F$7) -> 0 | F65: =PRODUCT(F64,$F$7) -> 0.015 | G65: =PRODUCT(G64,$F$7) -> 0 | H65: =PRODUCT(H64,$F$7) -> 0.0012 | I65: =PRODUCT(I64,$F$7) -> 0 | J65: =PRODUCT(J64,$F$7) -> 0.096 | K65: =PRODUCT(K64,$F$7) -> 0.008 | ... BR65: =PRODUCT(BR64,$F$7) -> 0
B67: ЦЕНА ЗА КИЛОГРАММ (покупная) | C67: руб | D67: =D49 -> 90.9 | E67: =E49 -> 96 | F67: =F49 -> 91 | G67: =G49 -> 816 | H67: =H49 -> 1680 | I67: =I49 -> 1050 | J67: =J49 -> 90.57 | K67: =K49 -> 1166.67 | ... AE67: =AE49 -> 842 | AH67: =AH49 -> 359 | AJ67: =AJ49 -> 309.1 | AK67: =AK49 -> 94 | AL67: =AL49 -> 73 | AM67: =AM49 -> 51.6 | AN67: =AN49 -> 250 | AO67: =AO49 -> 272 | AP67: =AP49 -> 0 | AQ67: =AQ49 -> 425 | ... BR67: =BR49 -> 0
B68: ЦЕНА ЗА ГРАММ (покупная) | C68: руб | D68: =D67/1000 -> 0.0909 | E68: =E67/1000 -> 0.096 | F68: =F67/1000 -> 0.091 | G68: =G67/1000 -> 0.816 | H68: =H67/1000 -> 1.68 | I68: =I67/1000 -> 1.05 | J68: =J67/1000 -> 0.09057 | K68: =K67/1000 -> 1.16667 | ... BR68: =BR67/1000 -> 0
B69: Израсходовано на сумму (за граммы) | D69: =D65*D67 -> 2.727 | E69: =E65*E67 -> 0 | F69: =F65*F67 -> 1.365 | G69: =G65*G67 -> 0 | H69: =H65*H67 -> 2.016 | I69: =I65*I67 -> 0 | J69: =J65*J67 -> 8.69472 | K69: =K65*K67 -> 9.33336 | ... BR69: =BR65*BR67 -> 0 | BS69: =SUM(D69:BQ69) -> 39.79358 | BT69: =BS69/$C$10 -> 39.79358
B70: Израсходовано на сумму (за кг) | D70: =D65*D67 -> 2.727 | E70: =E65*E67 -> 0 | F70: =F65*F67 -> 1.365 | G70: =G65*G67 -> 0 | H70: =H65*H67 -> 2.016 | I70: =I65*I67 -> 0 | J70: =J65*J67 -> 8.69472 | K70: =K65*K67 -> 9.33336 | ... BR70: =BR65*BR67 -> 0 | BS70: =SUM(D70:BQ70) -> 39.79358 | BT70: =BS70/$C$10 -> 39.79358
B73: Наименование продуктов | C73: Кол-во человек | D73: =D8 -> Хлеб пшеничный | E73: =E8 -> Хлеб ржано-пшеничный | F73: =F8 -> Сахар | G73: =G8 -> Чай | H73: =H8 -> Какао | I73: =I8 -> Кофейный напиток | J73: =J8 -> Молоко 2,5% | K73: =K8 -> Масло сливочное | ... BR73: =BR8 -> Лимонная кислота | BS73: Итого расход за день | BT73: ИТОГО на 1 Чел
B74: Меню
A75: Обед | B75: Суп картофельный с гренками | C75: =$F$7 -> 1 | D75: =D17 -> 0 | E75: =E17 -> 0 | F75: =F17 -> 0 | G75: =G17 -> 0 | H75: =H17 -> 0 | I75: =I17 -> 0 | J75: =J17 -> 0 | K75: =K17 -> 0 | ... BR75: =BR17 -> 0
B76: Рыба, тушеннная в сметанном соусе | D76: =D18 -> 0 | E76: =E18 -> 0 | F76: =F18 -> 0 | G76: =G18 -> 0 | H76: =H18 -> 0 | I76: =I18 -> 0 | J76: =J18 -> 0 | K76: =K18 -> 0 | ... BR76: =BR18 -> 0
B77: Рис отварной | D77: =D19 -> 0 | E77: =E19 -> 0 | F77: =F19 -> 0 | G77: =G19 -> 0 | H77: =H19 -> 0 | I77: =I19 -> 0 | J77: =J19 -> 0 | K77: =K19 -> 0.003 | ... BR77: =BR19 -> 0
B78: Хлеб пшеничный | D78: =D20 -> 0.03 | E78: =E20 -> 0 | F78: =F20 -> 0 | G78: =G20 -> 0 | H78: =H20 -> 0 | I78: =I20 -> 0 | J78: =J20 -> 0 | K78: =K20 -> 0 | ... BR78: =BR20 -> 0
B79: Хлеб ржано-пшеничный | D79: =D21 -> 0 | E79: =E21 -> 0.05 | F79: =F21 -> 0 | G79: =G21 -> 0 | H79: =H21 -> 0 | I79: =I21 -> 0 | J79: =J21 -> 0 | K79: =K21 -> 0 | ... BR79: =BR21 -> 0
B80: Компот из чернослива | D80: =D22 -> 0 | E80: =E22 -> 0 | F80: =F22 -> 0.013 | G80: =G22 -> 0 | H80: =H22 -> 0 | I80: =I22 -> 0 | J80: =J22 -> 0 | K80: =K22 -> 0 | ... BR80: =BR22 -> 5e-05
D81: =D23 -> 0 | E81: =E23 -> 0 | F81: =F23 -> 0 | G81: =G23 -> 0 | H81: =H23 -> 0 | I81: =I23 -> 0 | J81: =J23 -> 0 | K81: =K23 -> 0 | ... BR81: =BR23 -> 0
B82: Итого на 1 чел | D82: =SUM(D75:D81) -> 0.03 | E82: =SUM(E75:E81) -> 0.05 | F82: =SUM(F75:F81) -> 0.013 | G82: =SUM(G75:G81) -> 0 | H82: =SUM(H75:H81) -> 0 | I82: =SUM(I75:I81) -> 0 | J82: =SUM(J75:J81) -> 0 | K82: =SUM(K75:K81) -> 0.003 | ... BR82: =SUM(BR75:BR81) -> 5e-05
B83: Итого к выдаче, ГРАММ (на всех) | D83: =PRODUCT(D82,$F$7) -> 0.03 | E83: =PRODUCT(E82,$F$7) -> 0.05 | F83: =PRODUCT(F82,$F$7) -> 0.013 | G83: =PRODUCT(G82,$F$7) -> 0 | H83: =PRODUCT(H82,$F$7) -> 0 | I83: =PRODUCT(I82,$F$7) -> 0 | J83: =PRODUCT(J82,$F$7) -> 0 | K83: =PRODUCT(K82,$F$7) -> 0.003 | ... BR83: =PRODUCT(BR82,$F$7) -> 5e-05
B85: ЦЕНА ЗА КИЛОГРАММ (покупная) | C85: руб | D85: =D49 -> 90.9 | E85: =E49 -> 96 | F85: =F49 -> 91 | G85: =G49 -> 816 | H85: =H49 -> 1680 | I85: =I49 -> 1050 | J85: =J49 -> 90.57 | K85: =K49 -> 1166.67 | ... AE85: =AE49 -> 842 | AH85: =AH49 -> 359 | AJ85: =AJ49 -> 309.1 | AK85: =AK49 -> 94 | AL85: =AL49 -> 73 | AM85: =AM49 -> 51.6 | AN85: =AN49 -> 250 | AO85: =AO49 -> 272 | AP85: =AP49 -> 0 | AQ85: =AQ49 -> 425 | ... BR85: =BR49 -> 0
B86: ЦЕНА ЗА ГРАММ (покупная) | C86: руб | D86: =D85/1000 -> 0.0909 | E86: =E85/1000 -> 0.096 | F86: =F85/1000 -> 0.091 | G86: =G85/1000 -> 0.816 | H86: =H85/1000 -> 1.68 | I86: =I85/1000 -> 1.05 | J86: =J85/1000 -> 0.09057 | K86: =K85/1000 -> 1.16667 | ... BR86: =BR85/1000 -> 0
B87: Израсходовано на сумму (за граммы) | D87: =D83*D85 -> 2.727 | E87: =E83*E85 -> 4.8 | F87: =F83*F85 -> 1.183 | G87: =G83*G85 -> 0 | H87: =H83*H85 -> 0 | I87: =I83*I85 -> 0 | J87: =J83*J85 -> 0 | K87: =K83*K85 -> 3.50001 | ... BR87: =BR83*BR85 -> 0 | BS87: =SUM(D87:BQ87) -> 80.72822 | BT87: =BS87/$C$10 -> 80.72822
B88: Израсходовано на сумму (за кг) | D88: =D83*D85 -> 2.727 | E88: =E83*E85 -> 4.8 | F88: =F83*F85 -> 1.183 | G88: =G83*G85 -> 0 | H88: =H83*H85 -> 0 | I88: =I83*I85 -> 0 | J88: =J83*J85 -> 0 | K88: =K83*K85 -> 3.50001 | ... BR88: =BR83*BR85 -> 0 | BS88: =SUM(D88:BQ88) -> 80.72822 | BT88: =BS88/$C$10 -> 80.72822
B91: Наименование продуктов | C91: Кол-во человек | D91: =D8 -> Хлеб пшеничный | E91: =E8 -> Хлеб ржано-пшеничный | F91: =F8 -> Сахар | G91: =G8 -> Чай | H91: =H8 -> Какао | I91: =I8 -> Кофейный напиток | J91: =J8 -> Молоко 2,5% | K91: =K8 -> Масло сливочное | ... BR91: =BR8 -> Лимонная кислота | BS91: Итого расход за день | BT91: ИТОГО на 1 Чел
B92: Меню
A93: Полдник | B93: Чай с лимоном | C93: =$F$7 -> 1 | D93: =D25 -> 0 | E93: =E25 -> 0 | F93: =F25 -> 0.011 | G93: =G25 -> 0.0006 | H93: =H25 -> 0 | I93: =I25 -> 0 | J93: =J25 -> 0 | K93: =K25 -> 0 | ... BR93: =BR25 -> 0
B94: Крендель сахарный | D94: =D26 -> 0 | E94: =E26 -> 0 | F94: =F26 -> 0.003225 | G94: =G26 -> 0 | H94: =H26 -> 0 | I94: =I26 -> 0 | J94: =J26 -> 0.014 | K94: =K26 -> 0.003 | ... BR94: =BR26 -> 0
D95: =D27 -> 0 | E95: =E27 -> 0 | F95: =F27 -> 0 | G95: =G27 -> 0 | H95: =H27 -> 0 | I95: =I27 -> 0 | J95: =J27 -> 0 | K95: =K27 -> 0 | ... BR95: =BR27 -> 0
D96: =D28 -> 0 | E96: =E28 -> 0 | F96: =F28 -> 0 | G96: =G28 -> 0 | H96: =H28 -> 0 | I96: =I28 -> 0 | J96: =J28 -> 0 | K96: =K28 -> 0 | ... BR96: =BR28 -> 0
D97: =D29 -> 0 | E97: =E29 -> 0 | F97: =F29 -> 0 | G97: =G29 -> 0 | H97: =H29 -> 0 | I97: =I29 -> 0 | J97: =J29 -> 0 | K97: =K29 -> 0 | ... BR97: =BR29 -> 0
B98: Итого на 1 чел | D98: =SUM(D93:D97) -> 0 | E98: =SUM(E93:E97) -> 0 | F98: =SUM(F93:F97) -> 0.014225 | G98: =SUM(G93:G97) -> 0.0006 | H98: =SUM(H93:H97) -> 0 | I98: =SUM(I93:I97) -> 0 | J98: =SUM(J93:J97) -> 0.014 | K98: =SUM(K93:K97) -> 0.003 | ... BR98: =SUM(BR93:BR97) -> 0
B99: Итого к выдаче, ГРАММ (на всех) | D99: =PRODUCT(D98,$F$7) -> 0 | E99: =PRODUCT(E98,$F$7) -> 0 | F99: =PRODUCT(F98,$F$7) -> 0.014225 | G99: =PRODUCT(G98,$F$7) -> 0.0006 | H99: =PRODUCT(H98,$F$7) -> 0 | I99: =PRODUCT(I98,$F$7) -> 0 | J99: =PRODUCT(J98,$F$7) -> 0.014 | K99: =PRODUCT(K98,$F$7) -> 0.003 | ... BR99: =PRODUCT(BR98,$F$7) -> 0
B101: ЦЕНА ЗА КИЛОГРАММ (покупная) | C101: руб | D101: =D49 -> 90.9 | E101: =E49 -> 96 | F101: =F49 -> 91 | G101: =G49 -> 816 | H101: =H49 -> 1680 | I101: =I49 -> 1050 | J101: =J49 -> 90.57 | K101: =K49 -> 1166.67 | ... AE101: =AE49 -> 842 | AH101: =AH49 -> 359 | AJ101: =AJ49 -> 309.1 | AK101: =AK49 -> 94 | AL101: =AL49 -> 73 | AM101: =AM49 -> 51.6 | AN101: =AN49 -> 250 | AO101: =AO49 -> 272 | AP101: =AP49 -> 0 | AQ101: =AQ49 -> 425 | ... BR101: =BR49 -> 0
B102: ЦЕНА ЗА ГРАММ (покупная) | C102: руб | D102: =D101/1000 -> 0.0909 | E102: =E101/1000 -> 0.096 | F102: =F101/1000 -> 0.091 | G102: =G101/1000 -> 0.816 | H102: =H101/1000 -> 1.68 | I102: =I101/1000 -> 1.05 | J102: =J101/1000 -> 0.09057 | K102: =K101/1000 -> 1.16667 | ... BR102: =BR101/1000 -> 0
B103: Израсходовано на сумму (за граммы) | D103: =D99*D101 -> 0 | E103: =E99*E101 -> 0 | F103: =F99*F101 -> 1.294475 | G103: =G99*G101 -> 0.4896 | H103: =H99*H101 -> 0 | I103: =I99*I101 -> 0 | J103: =J99*J101 -> 1.26798 | K103: =K99*K101 -> 3.50001 | ... BR103: =BR99*BR101 -> 0 | BS103: =SUM(D103:BQ103) -> 12.442715 | BT103: =BS103/$C$10 -> 12.442715
B104: Израсходовано на сумму (за кг) | D104: =D99*D101 -> 0 | E104: =E99*E101 -> 0 | F104: =F99*F101 -> 1.294475 | G104: =G99*G101 -> 0.4896 | H104: =H99*H101 -> 0 | I104: =I99*I101 -> 0 | J104: =J99*J101 -> 1.26798 | K104: =K99*K101 -> 3.50001 | ... BR104: =BR99*BR101 -> 0 | BS104: =SUM(D104:BQ104) -> 12.442715 | BT104: =BS104/$C$10 -> 12.442715
B107: Наименование продуктов | C107: Кол-во человек | D107: =D8 -> Хлеб пшеничный | E107: =E8 -> Хлеб ржано-пшеничный | F107: =F8 -> Сахар | G107: =G8 -> Чай | H107: =H8 -> Какао | I107: =I8 -> Кофейный напиток | J107: =J8 -> Молоко 2,5% | K107: =K8 -> Масло сливочное | ... BR107: =BR8 -> Лимонная кислота | BS107: Итого расход за день | BT107: ИТОГО на 1 Чел
B108: Меню
A109: Ужин | B109: Рагу из овощей | C109: =$F$7 -> 1 | D109: =D30 -> 0 | E109: =E30 -> 0 | F109: =F30 -> 0 | G109: =G30 -> 0 | H109: =H30 -> 0 | I109: =I30 -> 0 | J109: =J30 -> 0 | K109: =K30 -> 0.004 | ... BR109: =BR30 -> 0
B110: Хлеб пшеничный | D110: =D31 -> 0.02 | E110: =E31 -> 0 | F110: =F31 -> 0 | G110: =G31 -> 0 | H110: =H31 -> 0 | I110: =I31 -> 0 | J110: =J31 -> 0 | K110: =K31 -> 0 | ... BR110: =BR31 -> 0
B111: Чай с сахаром | D111: =D32 -> 0 | E111: =E32 -> 0 | F111: =F32 -> 0.011 | G111: =G32 -> 0.0006 | H111: =H32 -> 0 | I111: =I32 -> 0 | J111: =J32 -> 0 | K111: =K32 -> 0 | ... BR111: =BR32 -> 0
D112: =D33 -> 0 | E112: =E33 -> 0 | F112: =F33 -> 0 | G112: =G33 -> 0 | H112: =H33 -> 0 | I112: =I33 -> 0 | J112: =J33 -> 0 | K112: =K33 -> 0 | ... BR112: =BR33 -> 0
D113: =D34 -> 0 | E113: =E34 -> 0 | F113: =F34 -> 0 | G113: =G34 -> 0 | H113: =H34 -> 0 | I113: =I34 -> 0 | J113: =J34 -> 0 | K113: =K34 -> 0 | ... BR113: =BR34 -> 0
B114: Итого на 1 чел | D114: =SUM(D109:D113) -> 0.02 | E114: =SUM(E109:E113) -> 0 | F114: =SUM(F109:F113) -> 0.011 | G114: =SUM(G109:G113) -> 0.0006 | H114: =SUM(H109:H113) -> 0 | I114: =SUM(I109:I113) -> 0 | J114: =SUM(J109:J113) -> 0 | K114: =SUM(K109:K113) -> 0.004 | ... BR114: =SUM(BR109:BR113) -> 0
B115: Итого к выдаче, ГРАММ (на всех) | D115: =PRODUCT(D114,$F$7) -> 0.02 | E115: =PRODUCT(E114,$F$7) -> 0 | F115: =PRODUCT(F114,$F$7) -> 0.011 | G115: =PRODUCT(G114,$F$7) -> 0.0006 | H115: =PRODUCT(H114,$F$7) -> 0 | I115: =PRODUCT(I114,$F$7) -> 0 | J115: =PRODUCT(J114,$F$7) -> 0 | K115: =PRODUCT(K114,$F$7) -> 0.004 | ... BR115: =PRODUCT(BR114,$F$7) -> 0
B117: ЦЕНА ЗА КИЛОГРАММ (покупная) | C117: руб | D117: =D49 -> 90.9 | E117: =E49 -> 96 | F117: =F49 -> 91 | G117: =G49 -> 816 | H117: =H49 -> 1680 | I117: =I49 -> 1050 | J117: =J49 -> 90.57 | K117: =K49 -> 1166.67 | ... AE117: =AE49 -> 842 | AH117: =AH49 -> 359 | AJ117: =AJ49 -> 309.1 | AK117: =AK49 -> 94 | AL117: =AL49 -> 73 | AM117: =AM49 -> 51.6 | AN117: =AN49 -> 250 | AO117: =AO49 -> 272 | AP117: =AP49 -> 0 | AQ117: =AQ49 -> 425 | ... BR117: =BR49 -> 0
B118: ЦЕНА ЗА ГРАММ (покупная) | C118: руб | D118: =D117/1000 -> 0.0909 | E118: =E117/1000 -> 0.096 | F118: =F117/1000 -> 0.091 | G118: =G117/1000 -> 0.816 | H118: =H117/1000 -> 1.68 | I118: =I117/1000 -> 1.05 | J118: =J117/1000 -> 0.09057 | K118: =K117/1000 -> 1.16667 | ... BR118: =BR117/1000 -> 0
B119: Израсходовано на сумму (за граммы) | D119: =D115*D117 -> 1.818 | E119: =E115*E117 -> 0 | F119: =F115*F117 -> 1.001 | G119: =G115*G117 -> 0.4896 | H119: =H115*H117 -> 0 | I119: =I115*I117 -> 0 | J119: =J115*J117 -> 0 | K119: =K115*K117 -> 4.66668 | ... BR119: =BR115*BR117 -> 0 | BS119: =SUM(D119:BQ119) -> 16.75428 | BT119: =BS119/$C$10 -> 16.75428
B120: Израсходовано на сумму (за кг) | D120: =D115*D117 -> 1.818 | E120: =E115*E117 -> 0 | F120: =F115*F117 -> 1.001 | G120: =G115*G117 -> 0.4896 | H120: =H115*H117 -> 0 | I120: =I115*I117 -> 0 | J120: =J115*J117 -> 0 | K120: =K115*K117 -> 4.66668 | ... BR120: =BR115*BR117 -> 0 | BS120: =SUM(D120:BQ120) -> 16.75428 | BT120: =BS120/$C$10 -> 16.75428

Sheet  3-7 лет (день 5)
A1: Утверждаю
A2: Заведующий МКДОУ Ташаринский детский сад "Лесовичок" | H2: Меню - требование на выдачу продуктов питания
A3: _________________ Чугуева Т.В.
A4: подпись | H4: Учреждение МКДОУ "Ташаринский детский сад"Лесовичок"
H5: Ответственное лицо Романашенко Г.М.
D7: детей в количестве | F7: 1 | G7: человек (3 - 7 лет) на | K7: 46303
B8: Наименование продуктов | C8: Кол-во человек | D8: =[1]Цены!A1 -> Хлеб пшеничный | E8: =[1]Цены!B1 -> Хлеб ржано-пшеничный | F8: =[1]Цены!C1 -> Сахар | G8: =[1]Цены!D1 -> Чай | H8: =[1]Цены!E1 -> Какао | I8: =[1]Цены!F1 -> Кофейный напиток | J8: =[1]Цены!G1 -> Молоко 2,5% | K8: =[1]Цены!H1 -> Масло сливочное | ... AE8: =[1]Цены!AB1 -> Ягода свежемороженная | AF8: Апельсин | AG8: Банан | AH8: =[1]Цены!AC1 -> Лимон | AI8: Яблоко | AJ8: =[1]Цены!AD1 -> Кисель | AK8: =[1]Цены!AE1 -> Сок | AL8: =[1]Цены!AF1 -> Макаронные изделия | AM8: =[1]Цены!AG1 -> Мука | AN8: =[1]Цены!AH1 -> Дрожжи | AO8: =[1]Цены!AI1 -> Печенье | AP8: =[1]Цены!AJ1 -> Пряники | AQ8: =[1]Цены!AK1 -> Вафли | ... BQ8: =[1]Цены!BK1 -> Соль | BR8: Лимонная кислота | BS8: Итого расход за день | BT8: ИТОГО на 1 Чел
B9: Меню
A10: Завтрак | B10: Каша молочная "Геркулес" | C10: =$F$7 -> 1 | F10: 0.005 | K10: 0.003 | M10: 0.0165 | AT10: 0.02 | BQ10: 0.0005
B11: Бутерброд с маслом | D11: 0.03 | K11: 0.005
B12: Какао с молоком | F12: 0.01 | H12: 0.0012 | J12: 0.096
A15: Второй завтрак | B15: Яблоко | C15: =F7 -> 1
B16: Банан | AG16: 0.158
A17: Обед | B17: Суп картофельный с гренками | C17: =$F$7 -> 1 | BD17: 0.04 | BJ17: 0.15 | BK17: 0.013 | BL17: 0.012 | BP17: 0.003 | BQ17: 0.002
B18: Рыба, тушенная в сметанном соусе | L18: 0.009 | AM18: 0.0006 | BH18: 0.05 | BK18: 0.035 | BL18: 0.019 | BP18: 0.007 | BQ18: 0.001
B19: Рис отварной | K19: 0.003 | BC19: 0.035 | BQ19: 0.002
B20: Хлеб пшеничный | D20: 0.03
B21: Хлеб ржано-пшеничный | E21: 0.05
B22: Компот из чернослива | F22: 0.013 | AB22: 0.015 | BR22: 5e-05
A25: Полдник | B25: Чай с лимоном | C25: =$F$7 -> 1 | F25: 0.011 | G25: 0.0006 | AH25: 0.006
B26: Крендель сахарный | F26: 0.003225 | J26: 0.014 | K26: 0.003 | X26: 0.1 | AM26: 0.039 | AN26: 0.000857 | BP26: 0.003
B27: Яблоко
A30: Ужин | B30: Рагу из овощей | C30: =$F$7 -> 1 | K30: 0.004 | BJ30: 0.114 | BK30: 0.036 | BL30: 0.017 | BM30: 0.045 | BP30: 0.003 | BQ30: 0.0005
B31: Хлеб пшеничный | D31: 0.02
B32: Чай с сахаром | F32: 0.011 | G32: 0.0006
B35: Итого на 1 чел | D35: =SUM(D10:D34) -> 0.08 | E35: =SUM(E10:E34) -> 0.05 | F35: =SUM(F10:F34) -> 0.053225 | G35: =SUM(G10:G34) -> 0.0012 | H35: =SUM(H10:H34) -> 0.0012 | I35: =SUM(I10:I34) -> 0 | J35: =SUM(J10:J34) -> 0.11 | K35: =SUM(K10:K34) -> 0.018 | ... BR35: =SUM(BR10:BR34) -> 5e-05
B36: К выдаче, ГРАММ (на всех) | D36: =ROUND(PRODUCT(D35,$F$7),3) -> 0.08 | E36: =ROUND(PRODUCT(E35,$F$7),3) -> 0.05 | F36: =ROUND(PRODUCT(F35,$F$7),3) -> 0.053 | G36: =ROUND(PRODUCT(G35,$F$7),3) -> 0.001 | H36: =ROUND(PRODUCT(H35,$F$7),3) -> 0.001 | I36: =ROUND(PRODUCT(I35,$F$7),3) -> 0 | J36: =ROUND(PRODUCT(J35,$F$7),3) -> 0.11 | K36: =ROUND(PRODUCT(K35,$F$7),3) -> 0.018 | ... BR36: =ROUND(PRODUCT(BR35,$F$7),3) -> 0
D37: =D36+' 1,5-2 года (день 5)'!D36+'СВО 3-7 лет'!D36+'ОВЗ 3-7 лет '!D36 -> 0.3 | E37: =E36+' 1,5-2 года (день 5)'!E36+'СВО 3-7 лет'!E36+'ОВЗ 3-7 лет '!E36 -> 0.19 | F37: =F36+' 1,5-2 года (день 5)'!F36+'СВО 3-7 лет'!F36+'ОВЗ 3-7 лет '!F36 -> 0.205 | G37: =G36+' 1,5-2 года (день 5)'!G36+'СВО 3-7 лет'!G36+'ОВЗ 3-7 лет '!G36 -> 0.004 | H37: =H36+' 1,5-2 года (день 5)'!H36+'СВО 3-7 лет'!H36+'ОВЗ 3-7 лет '!H36 -> 0.004 | I37: =I36+' 1,5-2 года (день 5)'!I36+'СВО 3-7 лет'!I36+'ОВЗ 3-7 лет '!I36 -> 0 | J37: =J36+' 1,5-2 года (день 5)'!J36+'СВО 3-7 лет'!J36+'ОВЗ 3-7 лет '!J36 -> 0.422 | K37: =K36+' 1,5-2 года (день 5)'!K36+'СВО 3-7 лет'!K36+'ОВЗ 3-7 лет '!K36 -> 0.068 | ... BR37: =BR36+' 1,5-2 года (день 5)'!BR36+'СВО 3-7 лет'!BR36+'ОВЗ 3-7 лет '!BR36 -> 0 | BS37: =SUM(D37:BQ37) -> 4.905
D39: Ответственный калькулятор | H39: _________________ | K39: С.В.Залевская
D40: исполнитель | F40: должность | H40: подпись
F42: Повар | H42: ___________________
H43: подпись
B51: ЦЕНА ЗА КИЛОГРАММ (покупная) | C51: руб | D51: 90.9 | E51: 96 | F51: 91 | G51: 816 | H51: 1680 | I51: 1050 | J51: 90.57 | K51: 1166.67 | L51: 255.2 | M51: 833 | N51: 126.38 | O51: 387.53 | P51: 663.16 | Q51: 526.67 | R51: 1295 | U51: 1012 | V51: 470.67 | W51: 348 | X51: 9.4 | Y51: 266.5 | Z51: 367 | AA51: 524 | AB51: 330 | AC51: 299 | AD51: 148 | AE51: 842 | AG51: 180 | AH51: 359 | AI51: 160 | AJ51: 309.1 | AK51: 94 | AL51: 73 | AM51: 51.6 | AN51: 250 | AO51: 272 | AQ51: 425 | AR51: 800 | AS51: 294.25 | AT51: 95 | AU51: 87.33 | AV51: 73.33 | AW51: 80 | AX51: 89.29 | AY51: 63.75 | AZ51: 104.62 | BA51: 81.33 | BB51: 71.67 | BC51: 152.67 | BD51: 378 | BE51: 574 | BF51: 696 | BG51: 324 | BH51: 604 | BJ51: 38 | BK51: 38 | BL51: 33 | BM51: 43 | BN51: 43 | BO51: 306.32 | BP51: 190 | BQ51: 26
B52: ЦЕНА ЗА ГРАММ (покупная) | C52: руб | D52: =D51/1000 -> 0.0909 | E52: =E51/1000 -> 0.096 | F52: =F51/1000 -> 0.091 | G52: =G51/1000 -> 0.816 | H52: =H51/1000 -> 1.68 | I52: =I51/1000 -> 1.05 | J52: =J51/1000 -> 0.09057 | K52: =K51/1000 -> 1.16667 | ... BR52: =BR51/1000 -> 0
B53: Израсходовано на сумму (за граммы) | D53: =D36*D51 -> 7.272 | E53: =E36*E51 -> 4.8 | F53: =F36*F51 -> 4.823 | G53: =G36*G51 -> 0.816 | H53: =H36*H51 -> 1.68 | I53: =I36*I51 -> 0 | J53: =J36*J51 -> 9.9627 | K53: =K36*K51 -> 21.00006 | ... BR53: =BR36*BR51 -> 0 | BS53: =SUM(D53:BQ53) -> 178.11201 | BT53: =BS53/$C$10 -> 178.11201
B54: Израсходовано на сумму (за кг) | D54: =D36*D51 -> 7.272 | E54: =E36*E51 -> 4.8 | F54: =F36*F51 -> 4.823 | G54: =G36*G51 -> 0.816 | H54: =H36*H51 -> 1.68 | I54: =I36*I51 -> 0 | J54: =J36*J51 -> 9.9627 | K54: =K36*K51 -> 21.00006 | ... BR54: =BR36*BR51 -> 0 | BS54: =SUM(D54:BQ54) -> 178.11201 | BT54: =BS54/$C$10 -> 178.11201
B55: P/S: Итого к выдаче Яйцо- указано в шт.
B56: Цена за яйцо, указана за 1 шт. | BT56: =BT71+BT89+BT105+BT121 -> 149.7188
B59: Наименование продуктов | C59: Кол-во человек | D59: =D8 -> Хлеб пшеничный | E59: =E8 -> Хлеб ржано-пшеничный | F59: =F8 -> Сахар | G59: =G8 -> Чай | H59: =H8 -> Какао | I59: =I8 -> Кофейный напиток | J59: =J8 -> Молоко 2,5% | K59: =K8 -> Масло сливочное | ... BR59: =BR8 -> Лимонная кислота | BS59: Итого расход за день | BT59: ИТОГО на 1 Чел
B60: Меню
A61: Завтрак | B61: Каша молочная "Геркулес" | C61: =$F$7 -> 1 | D61: =D10 -> 0 | E61: =E10 -> 0 | F61: =F10 -> 0.005 | G61: =G10 -> 0 | H61: =H10 -> 0 | I61: =I10 -> 0 | J61: =J10 -> 0 | K61: =K10 -> 0.003 | ... BR61: =BR10 -> 0
B62: Бутерброд с джемом | D62: =D11 -> 0.03 | E62: =E11 -> 0 | F62: =F11 -> 0 | G62: =G11 -> 0 | H62: =H11 -> 0 | I62: =I11 -> 0 | J62: =J11 -> 0 | K62: =K11 -> 0.005 | ... BR62: =BR11 -> 0
B63: Какао с молоком | D63: =D12 -> 0 | E63: =E12 -> 0 | F63: =F12 -> 0.01 | G63: =G12 -> 0 | H63: =H12 -> 0.0012 | I63: =I12 -> 0 | J63: =J12 -> 0.096 | K63: =K12 -> 0 | ... BR63: =BR12 -> 0
D64: =D13 -> 0 | E64: =E13 -> 0 | F64: =F13 -> 0 | G64: =G13 -> 0 | H64: =H13 -> 0 | I64: =I13 -> 0 | J64: =J13 -> 0 | K64: =K13 -> 0 | ... BR64: =BR13 -> 0
D65: =D14 -> 0 | E65: =E14 -> 0 | F65: =F14 -> 0 | G65: =G14 -> 0 | H65: =H14 -> 0 | I65: =I14 -> 0 | J65: =J14 -> 0 | K65: =K14 -> 0 | ... BR65: =BR14 -> 0
B66: Итого на 1 чел | D66: =SUM(D61:D65) -> 0.03 | E66: =SUM(E61:E65) -> 0 | F66: =SUM(F61:F65) -> 0.015 | G66: =SUM(G61:G65) -> 0 | H66: =SUM(H61:H65) -> 0.0012 | I66: =SUM(I61:I65) -> 0 | J66: =SUM(J61:J65) -> 0.096 | K66: =SUM(K61:K65) -> 0.008 | ... BR66: =SUM(BR61:BR65) -> 0
B67: Итого к выдаче, ГРАММ (на всех) | D67: =PRODUCT(D66,$F$7) -> 0.03 | E67: =PRODUCT(E66,$F$7) -> 0 | F67: =PRODUCT(F66,$F$7) -> 0.015 | G67: =PRODUCT(G66,$F$7) -> 0 | H67: =PRODUCT(H66,$F$7) -> 0.0012 | I67: =PRODUCT(I66,$F$7) -> 0 | J67: =PRODUCT(J66,$F$7) -> 0.096 | K67: =PRODUCT(K66,$F$7) -> 0.008 | ... BR67: =PRODUCT(BR66,$F$7) -> 0
B69: ЦЕНА ЗА КИЛОГРАММ (покупная) | C69: руб | D69: =D51 -> 90.9 | E69: =E51 -> 96 | F69: =F51 -> 91 | G69: =G51 -> 816 | H69: =H51 -> 1680 | I69: =I51 -> 1050 | J69: =J51 -> 90.57 | K69: =K51 -> 1166.67 | ... AE69: =AE51 -> 842 | AH69: =AH51 -> 359 | AJ69: =AJ51 -> 309.1 | AK69: =AK51 -> 94 | AL69: =AL51 -> 73 | AM69: =AM51 -> 51.6 | AN69: =AN51 -> 250 | AO69: =AO51 -> 272 | AP69: =AP51 -> 0 | AQ69: =AQ51 -> 425 | ... BR69: =BR51 -> 0
B70: ЦЕНА ЗА ГРАММ (покупная) | C70: руб | D70: =D69/1000 -> 0.0909 | E70: =E69/1000 -> 0.096 | F70: =F69/1000 -> 0.091 | G70: =G69/1000 -> 0.816 | H70: =H69/1000 -> 1.68 | I70: =I69/1000 -> 1.05 | J70: =J69/1000 -> 0.09057 | K70: =K69/1000 -> 1.16667 | ... BR70: =BR69/1000 -> 0
B71: Израсходовано на сумму (за граммы) | D71: =D67*D69 -> 2.727 | E71: =E67*E69 -> 0 | F71: =F67*F69 -> 1.365 | G71: =G67*G69 -> 0 | H71: =H67*H69 -> 2.016 | I71: =I67*I69 -> 0 | J71: =J67*J69 -> 8.69472 | K71: =K67*K69 -> 9.33336 | ... BR71: =BR67*BR69 -> 0 | BS71: =SUM(D71:BQ71) -> 39.79358 | BT71: =BS71/$C$10 -> 39.79358
B72: Израсходовано на сумму (за кг) | D72: =D67*D69 -> 2.727 | E72: =E67*E69 -> 0 | F72: =F67*F69 -> 1.365 | G72: =G67*G69 -> 0 | H72: =H67*H69 -> 2.016 | I72: =I67*I69 -> 0 | J72: =J67*J69 -> 8.69472 | K72: =K67*K69 -> 9.33336 | ... BR72: =BR67*BR69 -> 0 | BS72: =SUM(D72:BQ72) -> 39.79358 | BT72: =BS72/$C$10 -> 39.79358
B75: Наименование продуктов | C75: Кол-во человек | D75: =D8 -> Хлеб пшеничный | E75: =E8 -> Хлеб ржано-пшеничный | F75: =F8 -> Сахар | G75: =G8 -> Чай | H75: =H8 -> Какао | I75: =I8 -> Кофейный напиток | J75: =J8 -> Молоко 2,5% | K75: =K8 -> Масло сливочное | ... BR75: =BR8 -> Лимонная кислота | BS75: Итого расход за день | BT75: ИТОГО на 1 Чел
B76: Меню
A77: Обед | B77: Суп картофельный с гренками | C77: =$F$7 -> 1 | D77: =D17 -> 0 | E77: =E17 -> 0 | F77: =F17 -> 0 | G77: =G17 -> 0 | H77: =H17 -> 0 | I77: =I17 -> 0 | J77: =J17 -> 0 | K77: =K17 -> 0 | ... BR77: =BR17 -> 0
B78: Рыба, тушеннная в сметанном соусе | D78: =D18 -> 0 | E78: =E18 -> 0 | F78: =F18 -> 0 | G78: =G18 -> 0 | H78: =H18 -> 0 | I78: =I18 -> 0 | J78: =J18 -> 0 | K78: =K18 -> 0 | ... BR78: =BR18 -> 0
B79: Рис отварной | D79: =D19 -> 0 | E79: =E19 -> 0 | F79: =F19 -> 0 | G79: =G19 -> 0 | H79: =H19 -> 0 | I79: =I19 -> 0 | J79: =J19 -> 0 | K79: =K19 -> 0.003 | ... BR79: =BR19 -> 0
B80: Хлеб пшеничный | D80: =D20 -> 0.03 | E80: =E20 -> 0 | F80: =F20 -> 0 | G80: =G20 -> 0 | H80: =H20 -> 0 | I80: =I20 -> 0 | J80: =J20 -> 0 | K80: =K20 -> 0 | ... BR80: =BR20 -> 0
B81: Хлеб ржано-пшеничный | D81: =D21 -> 0 | E81: =E21 -> 0.05 | F81: =F21 -> 0 | G81: =G21 -> 0 | H81: =H21 -> 0 | I81: =I21 -> 0 | J81: =J21 -> 0 | K81: =K21 -> 0 | ... BR81: =BR21 -> 0
B82: Компот из чернослива | D82: =D22 -> 0 | E82: =E22 -> 0 | F82: =F22 -> 0.013 | G82: =G22 -> 0 | H82: =H22 -> 0 | I82: =I22 -> 0 | J82: =J22 -> 0 | K82: =K22 -> 0 | ... BR82: =BR22 -> 5e-05
D83: =D23 -> 0 | E83: =E23 -> 0 | F83: =F23 -> 0 | G83: =G23 -> 0 | H83: =H23 -> 0 | I83: =I23 -> 0 | J83: =J23 -> 0 | K83: =K23 -> 0 | ... BR83: =BR23 -> 0
B84: Итого на 1 чел | D84: =SUM(D77:D83) -> 0.03 | E84: =SUM(E77:E83) -> 0.05 | F84: =SUM(F77:F83) -> 0.013 | G84: =SUM(G77:G83) -> 0 | H84: =SUM(H77:H83) -> 0 | I84: =SUM(I77:I83) -> 0 | J84: =SUM(J77:J83) -> 0 | K84: =SUM(K77:K83) -> 0.003 | ... BR84: =SUM(BR77:BR83) -> 5e-05
B85: Итого к выдаче, ГРАММ (на всех) | D85: =PRODUCT(D84,$F$7) -> 0.03 | E85: =PRODUCT(E84,$F$7) -> 0.05 | F85: =PRODUCT(F84,$F$7) -> 0.013 | G85: =PRODUCT(G84,$F$7) -> 0 | H85: =PRODUCT(H84,$F$7) -> 0 | I85: =PRODUCT(I84,$F$7) -> 0 | J85: =PRODUCT(J84,$F$7) -> 0 | K85: =PRODUCT(K84,$F$7) -> 0.003 | ... BR85: =PRODUCT(BR84,$F$7) -> 5e-05
B87: ЦЕНА ЗА КИЛОГРАММ (покупная) | C87: руб | D87: =D51 -> 90.9 | E87: =E51 -> 96 | F87: =F51 -> 91 | G87: =G51 -> 816 | H87: =H51 -> 1680 | I87: =I51 -> 1050 | J87: =J51 -> 90.57 | K87: =K51 -> 1166.67 | ... AE87: =AE51 -> 842 | AH87: =AH51 -> 359 | AJ87: =AJ51 -> 309.1 | AK87: =AK51 -> 94 | AL87: =AL51 -> 73 | AM87: =AM51 -> 51.6 | AN87: =AN51 -> 250 | AO87: =AO51 -> 272 | AP87: =AP51 -> 0 | AQ87: =AQ51 -> 425 | ... BR87: =BR51 -> 0
B88: ЦЕНА ЗА ГРАММ (покупная) | C88: руб | D88: =D87/1000 -> 0.0909 | E88: =E87/1000 -> 0.096 | F88: =F87/1000 -> 0.091 | G88: =G87/1000 -> 0.816 | H88: =H87/1000 -> 1.68 | I88: =I87/1000 -> 1.05 | J88: =J87/1000 -> 0.09057 | K88: =K87/1000 -> 1.16667 | ... BR88: =BR87/1000 -> 0
B89: Израсходовано на сумму (за граммы) | D89: =D85*D87 -> 2.727 | E89: =E85*E87 -> 4.8 | F89: =F85*F87 -> 1.183 | G89: =G85*G87 -> 0 | H89: =H85*H87 -> 0 | I89: =I85*I87 -> 0 | J89: =J85*J87 -> 0 | K89: =K85*K87 -> 3.50001 | ... BR89: =BR85*BR87 -> 0 | BS89: =SUM(D89:BQ89) -> 80.72822 | BT89: =BS89/$C$10 -> 80.72822
B90: Израсходовано на сумму (за кг) | D90: =D85*D87 -> 2.727 | E90: =E85*E87 -> 4.8 | F90: =F85*F87 -> 1.183 | G90: =G85*G87 -> 0 | H90: =H85*H87 -> 0 | I90: =I85*I87 -> 0 | J90: =J85*J87 -> 0 | K90: =K85*K87 -> 3.50001 | ... BR90: =BR85*BR87 -> 0 | BS90: =SUM(D90:BQ90) -> 80.72822 | BT90: =BS90/$C$10 -> 80.72822
B93: Наименование продуктов | C93: Кол-во человек | D93: =D8 -> Хлеб пшеничный | E93: =E8 -> Хлеб ржано-пшеничный | F93: =F8 -> Сахар | G93: =G8 -> Чай | H93: =H8 -> Какао | I93: =I8 -> Кофейный напиток | J93: =J8 -> Молоко 2,5% | K93: =K8 -> Масло сливочное | ... BR93: =BR8 -> Лимонная кислота | BS93: Итого расход за день | BT93: ИТОГО на 1 Чел
B94: Меню
A95: Полдник | B95: Чай с лимоном | C95: =$F$7 -> 1 | D95: =D25 -> 0 | E95: =E25 -> 0 | F95: =F25 -> 0.011 | G95: =G25 -> 0.0006 | H95: =H25 -> 0 | I95: =I25 -> 0 | J95: =J25 -> 0 | K95: =K25 -> 0 | ... BR95: =BR25 -> 0
B96: Крендель сахарный | D96: =D26 -> 0 | E96: =E26 -> 0 | F96: =F26 -> 0.003225 | G96: =G26 -> 0 | H96: =H26 -> 0 | I96: =I26 -> 0 | J96: =J26 -> 0.014 | K96: =K26 -> 0.003 | ... BR96: =BR26 -> 0
D97: =D27 -> 0 | E97: =E27 -> 0 | F97: =F27 -> 0 | G97: =G27 -> 0 | H97: =H27 -> 0 | I97: =I27 -> 0 | J97: =J27 -> 0 | K97: =K27 -> 0 | ... BR97: =BR27 -> 0
D98: =D28 -> 0 | E98: =E28 -> 0 | F98: =F28 -> 0 | G98: =G28 -> 0 | H98: =H28 -> 0 | I98: =I28 -> 0 | J98: =J28 -> 0 | K98: =K28 -> 0 | ... BR98: =BR28 -> 0
D99: =D29 -> 0 | E99: =E29 -> 0 | F99: =F29 -> 0 | G99: =G29 -> 0 | H99: =H29 -> 0 | I99: =I29 -> 0 | J99: =J29 -> 0 | K99: =K29 -> 0 | ... BR99: =BR29 -> 0
B100: Итого на 1 чел | D100: =SUM(D95:D99) -> 0 | E100: =SUM(E95:E99) -> 0 | F100: =SUM(F95:F99) -> 0.014225 | G100: =SUM(G95:G99) -> 0.0006 | H100: =SUM(H95:H99) -> 0 | I100: =SUM(I95:I99) -> 0 | J100: =SUM(J95:J99) -> 0.014 | K100: =SUM(K95:K99) -> 0.003 | ... BR100: =SUM(BR95:BR99) -> 0
B101: Итого к выдаче, ГРАММ (на всех) | D101: =PRODUCT(D100,$F$7) -> 0 | E101: =PRODUCT(E100,$F$7) -> 0 | F101: =PRODUCT(F100,$F$7) -> 0.014225 | G101: =PRODUCT(G100,$F$7) -> 0.0006 | H101: =PRODUCT(H100,$F$7) -> 0 | I101: =PRODUCT(I100,$F$7) -> 0 | J101: =PRODUCT(J100,$F$7) -> 0.014 | K101: =PRODUCT(K100,$F$7) -> 0.003 | ... BR101: =PRODUCT(BR100,$F$7) -> 0
B103: ЦЕНА ЗА КИЛОГРАММ (покупная) | C103: руб | D103: =D51 -> 90.9 | E103: =E51 -> 96 | F103: =F51 -> 91 | G103: =G51 -> 816 | H103: =H51 -> 1680 | I103: =I51 -> 1050 | J103: =J51 -> 90.57 | K103: =K51 -> 1166.67 | ... AE103: =AE51 -> 842 | AH103: =AH51 -> 359 | AJ103: =AJ51 -> 309.1 | AK103: =AK51 -> 94 | AL103: =AL51 -> 73 | AM103: =AM51 -> 51.6 | AN103: =AN51 -> 250 | AO103: =AO51 -> 272 | AP103: =AP51 -> 0 | AQ103: =AQ51 -> 425 | ... BR103: =BR51 -> 0
B104: ЦЕНА ЗА ГРАММ (покупная) | C104: руб | D104: =D103/1000 -> 0.0909 | E104: =E103/1000 -> 0.096 | F104: =F103/1000 -> 0.091 | G104: =G103/1000 -> 0.816 | H104: =H103/1000 -> 1.68 | I104: =I103/1000 -> 1.05 | J104: =J103/1000 -> 0.09057 | K104: =K103/1000 -> 1.16667 | ... BR104: =BR103/1000 -> 0
B105: Израсходовано на сумму (за граммы) | D105: =D101*D103 -> 0 | E105: =E101*E103 -> 0 | F105: =F101*F103 -> 1.294475 | G105: =G101*G103 -> 0.4896 | H105: =H101*H103 -> 0 | I105: =I101*I103 -> 0 | J105: =J101*J103 -> 1.26798 | K105: =K101*K103 -> 3.50001 | ... BR105: =BR101*BR103 -> 0 | BS105: =SUM(D105:BQ105) -> 12.442715 | BT105: =BS105/$C$10 -> 12.442715
B106: Израсходовано на сумму (за кг) | D106: =D101*D103 -> 0 | E106: =E101*E103 -> 0 | F106: =F101*F103 -> 1.294475 | G106: =G101*G103 -> 0.4896 | H106: =H101*H103 -> 0 | I106: =I101*I103 -> 0 | J106: =J101*J103 -> 1.26798 | K106: =K101*K103 -> 3.50001 | ... BR106: =BR101*BR103 -> 0 | BS106: =SUM(D106:BQ106) -> 12.442715 | BT106: =BS106/$C$10 -> 12.442715
B109: Наименование продуктов | C109: Кол-во человек | D109: =D8 -> Хлеб пшеничный | E109: =E8 -> Хлеб ржано-пшеничный | F109: =F8 -> Сахар | G109: =G8 -> Чай | H109: =H8 -> Какао | I109: =I8 -> Кофейный напиток | J109: =J8 -> Молоко 2,5% | K109: =K8 -> Масло сливочное | ... BR109: =BR8 -> Лимонная кислота | BS109: Итого расход за день | BT109: ИТОГО на 1 Чел
B110: Меню
A111: Ужин | B111: Рагу из овощей | C111: =$F$7 -> 1 | D111: =D30 -> 0 | E111: =E30 -> 0 | F111: =F30 -> 0 | G111: =G30 -> 0 | H111: =H30 -> 0 | I111: =I30 -> 0 | J111: =J30 -> 0 | K111: =K30 -> 0.004 | ... BR111: =BR30 -> 0
B112: Хлеб пшеничный | D112: =D31 -> 0.02 | E112: =E31 -> 0 | F112: =F31 -> 0 | G112: =G31 -> 0 | H112: =H31 -> 0 | I112: =I31 -> 0 | J112: =J31 -> 0 | K112: =K31 -> 0 | ... BR112: =BR31 -> 0
B113: Чай с сахаром | D113: =D32 -> 0 | E113: =E32 -> 0 | F113: =F32 -> 0.011 | G113: =G32 -> 0.0006 | H113: =H32 -> 0 | I113: =I32 -> 0 | J113: =J32 -> 0 | K113: =K32 -> 0 | ... BR113: =BR32 -> 0
D114: =D33 -> 0 | E114: =E33 -> 0 | F114: =F33 -> 0 | G114: =G33 -> 0 | H114: =H33 -> 0 | I114: =I33 -> 0 | J114: =J33 -> 0 | K114: =K33 -> 0 | ... BR114: =BR33 -> 0
D115: =D34 -> 0 | E115: =E34 -> 0 | F115: =F34 -> 0 | G115: =G34 -> 0 | H115: =H34 -> 0 | I115: =I34 -> 0 | J115: =J34 -> 0 | K115: =K34 -> 0 | ... BR115: =BR34 -> 0
B116: Итого на 1 чел | D116: =SUM(D111:D115) -> 0.02 | E116: =SUM(E111:E115) -> 0 | F116: =SUM(F111:F115) -> 0.011 | G116: =SUM(G111:G115) -> 0.0006 | H116: =SUM(H111:H115) -> 0 | I116: =SUM(I111:I115) -> 0 | J116: =SUM(J111:J115) -> 0 | K116: =SUM(K111:K115) -> 0.004 | ... BR116: =SUM(BR111:BR115) -> 0
B117: Итого к выдаче, ГРАММ (на всех) | D117: =PRODUCT(D116,$F$7) -> 0.02 | E117: =PRODUCT(E116,$F$7) -> 0 | F117: =PRODUCT(F116,$F$7) -> 0.011 | G117: =PRODUCT(G116,$F$7) -> 0.0006 | H117: =PRODUCT(H116,$F$7) -> 0 | I117: =PRODUCT(I116,$F$7) -> 0 | J117: =PRODUCT(J116,$F$7) -> 0 | K117: =PRODUCT(K116,$F$7) -> 0.004 | ... BR117: =PRODUCT(BR116,$F$7) -> 0
B119: ЦЕНА ЗА КИЛОГРАММ (покупная) | C119: руб | D119: =D51 -> 90.9 | E119: =E51 -> 96 | F119: =F51 -> 91 | G119: =G51 -> 816 | H119: =H51 -> 1680 | I119: =I51 -> 1050 | J119: =J51 -> 90.57 | K119: =K51 -> 1166.67 | ... AE119: =AE51 -> 842 | AH119: =AH51 -> 359 | AJ119: =AJ51 -> 309.1 | AK119: =AK51 -> 94 | AL119: =AL51 -> 73 | AM119: =AM51 -> 51.6 | AN119: =AN51 -> 250 | AO119: =AO51 -> 272 | AP119: =AP51 -> 0 | AQ119: =AQ51 -> 425 | ... BR119: =BR51 -> 0
B120: ЦЕНА ЗА ГРАММ (покупная) | C120: руб | D120: =D119/1000 -> 0.0909 | E120: =E119/1000 -> 0.096 | F120: =F119/1000 -> 0.091 | G120: =G119/1000 -> 0.816 | H120: =H119/1000 -> 1.68 | I120: =I119/1000 -> 1.05 | J120: =J119/1000 -> 0.09057 | K120: =K119/1000 -> 1.16667 | ... BR120: =BR119/1000 -> 0
B121: Израсходовано на сумму (за граммы) | D121: =D117*D119 -> 1.818 | E121: =E117*E119 -> 0 | F121: =F117*F119 -> 1.001 | G121: =G117*G119 -> 0.4896 | H121: =H117*H119 -> 0 | I121: =I117*I119 -> 0 | J121: =J117*J119 -> 0 | K121: =K117*K119 -> 4.66668 | ... BR121: =BR117*BR119 -> 0 | BS121: =SUM(D121:BQ121) -> 16.75428 | BT121: =BS121/$C$10 -> 16.75428
B122: Израсходовано на сумму (за кг) | D122: =D117*D119 -> 1.818 | E122: =E117*E119 -> 0 | F122: =F117*F119 -> 1.001 | G122: =G117*G119 -> 0.4896 | H122: =H117*H119 -> 0 | I122: =I117*I119 -> 0 | J122: =J117*J119 -> 0 | K122: =K117*K119 -> 4.66668 | ... BR122: =BR117*BR119 -> 0 | BS122: =SUM(D122:BQ122) -> 16.75428 | BT122: =BS122/$C$10 -> 16.75428

Sheet День 5 до 3 лет
J1: Утверждаю
J2: Заведующий МК ДОУ
J3: Ташаринский детский сад "Лесовичок"
J4: _____________________Т.В. Чугуева
E5: Меню на | G5: =' 3-7 лет (день 5)'!K7 -> 46303
A6: Прием пищи | B6: Наименование блюда | C6: Выход блюда | D6: Белки, г | E6: Жиры, г | F6: Углеводы, г | G6: Эн. Цен (ккал) | H6: Ca | I6: Fe | J6: B1 | K6: B2 | L6: C | M6: № рецептуры
A7: День 5 | B7: Дети с 1,5 - 3 лет
A8: Завтрак | B8: =' 3-7 лет (день 5)'!B10 -> Каша молочная "Геркулес" | C8: 150 | D8: 4.76 | E8: 6.38 | F8: 16.4 | G8: 140.25 | H8: 141.71 | I8: 0.62 | J8: 0.1 | K8: 0.03 | L8: 1.46 | M8: 93
B9: =' 3-7 лет (день 5)'!B11 -> Бутерброд с маслом | C9: 20/4 | D9: 1.54 | E9: 3.46 | F9: 9.75 | G9: 78 | H9: 4.48 | I9: 0.23 | J9: 0.02 | K9: 0.02 | L9: 0 | M9: 1
B10: =' 3-7 лет (день 5)'!B12 -> Какао с молоком | C10: 150 | D10: 1.25 | E10: 1.33 | F10: 10.08 | G10: 50 | H10: 83.33 | I10: 0.01 | J10: 0.02 | K10: 0.01 | L10: 0.54 | M10: 248
A12: Второй завтрак | B12: Банан | C12: 95 | D12: 0.67 | E12: 0.14 | F12: 17.25 | G12: 73 | H12: 25.8 | I12: 0.26 | J12: 0.02 | K12: 0.02 | L12: 44.86
A14: Обед | B14: Суп картофельный | C14: 200 | D14: 2.34 | E14: 2.82 | F14: 16.63 | G14: 101 | H14: 25.8 | I14: 1.17 | J14: 0.13 | K14: 0.08 | L14: 12 | M14: 77
B15: Банан | C15: 95 | D15: 0.67 | E15: 0.14 | F15: 17.25 | G15: 73 | H15: 25.8 | I15: 0.26 | J15: 0.02 | K15: 0.02 | L15: 44.86
B16: Гренки | C16: 20 | D16: 44 | E16: 0.16 | F16: 9.04 | G16: 36 | H16: 4.4 | I16: 0.32 | J16: 0.02 | K16: 0.01 | L16: 0 | M16: 58
B17: Рыба, тушенная в сметанном соусе | C17: 70/18 | D17: 10.74 | E17: 5.72 | F17: 48.58 | G17: 121.62 | H17: 49.13 | I17: 0.94 | J17: 0.1 | K17: 0.1 | L17: 1.98 | M17: 139
B18: Рис отварной с овощами | C18: 100 | D18: 2.57 | E18: 4.67 | F18: 17 | G18: 141.33 | H18: 3.21 | I18: 0.57 | J18: 0.03 | K18: 0.01 | L18: 3.97 | M18: 191
B19: Хлеб пшеничный | C19: 20 | D19: 1.57 | E19: 0.2 | F19: 9.65 | G19: 48 | H19: 4.6 | I19: 0.4 | J19: 0.03 | K19: 0.005 | L19: 0
B20: Хлеб ржаной | C20: 40 | D20: 2.64 | E20: 0.48 | F20: 13.36 | G20: 69.6 | H20: 14 | I20: 1.56 | J20: 0.072 | K20: 0.032 | L20: 0
B21: Компот из чернослива | C21: 150 | D21: 0.23 | E21: 0 | F21: 18.6 | G21: 71.28 | H21: 8.24 | I21: 1.34 | J21: 0.01 | K21: 0.02 | L21: 0.3 | M21: 250
A23: Полдник | B23: =' 3-7 лет (день 5)'!B25 -> Чай с лимоном | C23: 150/9/4 | D23: 0.04 | E23: 0 | F23: 9.1 | G23: 35 | H23: 1.87 | I23: 0.08 | J23: 0 | K23: 0 | L23: 0 | M23: 200, 264
B24: =' 3-7 лет (день 5)'!B26 -> Крендель сахарный | C24: 60 | D24: 4.66 | E24: 7.92 | F24: 30.71 | G24: 224.4 | H24: 22.58 | I24: 0.48 | J24: 0.07 | K24: 0.06 | L24: 0.16 | M24: 415
B25: =' 3-7 лет (день 5)'!B27 -> Яблоко | C25: 75 | D25: 0.3 | E25: 0.3 | F25: 7.35 | G25: 33 | H25: 12 | I25: 1.65 | J25: 0.02 | K25: 0.01 | L25: 7.5
A28: Ужин | B28: =' 3-7 лет (день 5)'!B30 -> Рагу из овощей | C28: 150 | D28: 2.23 | E28: 4.04 | F28: 10.16 | G28: 86.67 | H28: 50.12 | I28: 0.83 | J28: 0.05 | K28: 0.04 | L28: 14.33 | M28: 77
B29: =' 3-7 лет (день 5)'!B31 -> Хлеб пшеничный | C29: 30 | D29: 2.355 | E29: 0.3 | F29: 14.475 | G29: 72 | H29: 6.9 | I29: 0.6 | J29: 0.045 | K29: 0.0075 | L29: 0
B30: =' 3-7 лет (день 5)'!B32 -> Чай с сахаром | C30: 150/9 | D30: 0 | E30: 0 | F30: 8.98 | G30: 30 | H30: 0.27 | I30: 0.05 | J30: 0 | K30: 0 | L30: 0.27 | M30: 263, 264
B32: ВСЕГО за день | D32: =SUM(D8:D31) -> 82.565 | E32: =SUM(E8:E31) -> 38.06 | F32: =SUM(F8:F31) -> 249.865 | G32: =SUM(G8:G31) -> 1484.15 | H32: =SUM(H8:H31) -> 484.24 | I32: =SUM(I8:I31) -> 11.37 | J32: =SUM(J8:J31) -> 0.757 | K32: =SUM(K8:K31) -> 0.4745 | L32: =SUM(L8:L31) -> 132.23
A34: Ответственный за питание _________________________ С.В.Залевская

Sheet День 5 от 3 лет
J1: Утверждаю
J2: Заведующий МК ДОУ
J3: Ташаринский детский сад "Лесовичок"
J4: ______________________Т.В. Чугуева
E5: Меню на | G5: =' 3-7 лет (день 5)'!K7 -> 46303
A6: Прием пищи | B6: Наименование блюда | C6: Выход блюда | D6: Белки, г | E6: Жиры, г | F6: Углеводы, г | G6: Эн. Цен (ккал) | H6: Ca | I6: Fe | J6: B1 | K6: B2 | L6: C | M6: № рецептуры
A7: День 5 | B7: Дети с 3 - 7 лет
A8: Завтрак | B8: =' 3-7 лет (день 5)'!B10 -> Каша молочная "Геркулес" | C8: 200 | D8: 6.35 | E8: 8.51 | F8: 21.86 | G8: 187 | H8: 188.95 | I8: 0.82 | J8: 0.13 | K8: 0.04 | L8: 1.95 | M8: 93
B9: =' 3-7 лет (день 5)'!B11 -> Бутерброд с маслом | C9: 30/5 | D9: 2.3 | E9: 4.36 | F9: 14.62 | G9: 108 | H9: 6.6 | I9: 0.34 | J9: 0.03 | K9: 0.03 | L9: 0 | M9: 1
B10: =' 3-7 лет (день 5)'!B12 -> Какао с молоком | C10: 180 | D10: 1.5 | E10: 1.6 | F10: 12.1 | G10: 60 | H10: 100 | I10: 0.02 | J10: 0.02 | K10: 0.01 | L10: 0.65 | M10: 248
B11: =' 3-7 лет (день 5)'!B13 -> 0
A12: Второй завтрак
B13: Банан | C13: 100 | D13: 0.9 | E13: 0.2 | F13: 23.07 | G13: 98 | H13: 34.5 | I13: 0.35 | J13: 0.04 | K13: 0.03 | L13: 60
A15: Обед | B15: Суп картофельный | C15: 250 | D15: 2.34 | E15: 2.82 | F15: 16.63 | G15: 101 | H15: 25.8 | I15: 1.17 | J15: 0.13 | K15: 0.08 | L15: 12 | M15: 77
B16: Гренки | C16: 35 | D16: 2.52 | E16: 0.28 | F16: 15.82 | G16: 63 | H16: 7.7 | I16: 0.56 | J16: 0.04 | K16: 0.01 | L16: 0 | M16: 58
B17: Рыба, тушенная в сметанном соусе | C17: 80/20 | D17: 12.2 | E17: 6.5 | F17: 55.2 | G17: 138.2 | H17: 55.83 | I17: 1.07 | J17: 0.11 | K17: 0.11 | L17: 2.23 | M17: 139
B18: Рис отварной с овощами | C18: 180 | D18: 4.63 | E18: 8.4 | F18: 30.72 | G18: 254.4 | H18: 5.8 | I18: 1.02 | J18: 0.05 | K18: 0.024 | L18: 7.14 | M18: 191
B19: Хлеб пшеничный | C19: 20 | D19: 1.57 | E19: 0.2 | F19: 9.65 | G19: 48 | H19: 4.6 | I19: 0.4 | J19: 0.03 | K19: 0.005 | L19: 0
B20: Хлеб ржаной | C20: 50 | D20: 3.3 | E20: 0.6 | F20: 16.7 | G20: 87 | H20: 17.5 | I20: 1.95 | J20: 0.09 | K20: 0.04 | L20: 0
B21: Компот из чернослива | C21: 200 | D21: 0.36 | E21: 0 | F21: 23.9 | G21: 91.96 | H21: 12.28 | I21: 2 | J21: 0.015 | K21: 0.03 | L21: 0.45 | M21: 250
A23: Полдник | B23: =' 3-7 лет (день 5)'!B25 -> Чай с лимоном | C23: 180/12/5 | D23: 0.04 | E23: 0 | F23: 12.13 | G23: 47 | H23: 2.35 | I23: 0.09 | J23: 0 | K23: 0 | L23: 2 | M23: 200, 264
B24: =' 3-7 лет (день 5)'!B26 -> Крендель сахарный | C24: 70 | D24: 5.43 | E24: 9.24 | F24: 35.83 | G24: 261.8 | H24: 26.35 | I24: 0.56 | J24: 0.08 | K24: 0.07 | L24: 0.18 | M24: 415
B25: =' 3-7 лет (день 5)'!B27 -> Яблоко | C25: 100 | D25: 0.4 | E25: 0.4 | F25: 9.8 | G25: 44 | H25: 16 | I25: 2.2 | J25: 0.03 | K25: 0.02 | L25: 10
A27: Ужин | B27: ='День 5 до 3 лет'!B28 -> Рагу из овощей | C27: 180 | D27: 2.67 | E27: 4.82 | F27: 12.19 | G27: 104 | H27: 60.14 | I27: 1.01 | J27: 0.06 | K27: 0.05 | L27: 17.2 | M27: 77
B28: ='День 5 до 3 лет'!B29 -> Хлеб пшеничный | C28: 30 | D28: 2.355 | E28: 0.3 | F28: 14.475 | G28: 72 | H28: 6.9 | I28: 0.6 | J28: 0.045 | K28: 0.0075 | L28: 0
B29: ='День 5 до 3 лет'!B30 -> Чай с сахаром | C29: 180/12 | D29: 0 | E29: 0 | F29: 11.98 | G29: 43 | H29: 0.35 | I29: 0.06 | J29: 0 | K29: 0 | L29: 0 | M29: 263, 264
B31: ВСЕГО за день | D31: =SUM(D8:D30) -> 48.865 | E31: =SUM(E8:E30) -> 48.23 | F31: =SUM(F8:F30) -> 336.675 | G31: =SUM(G8:G30) -> 1808.36 | H31: =SUM(H8:H30) -> 571.65 | I31: =SUM(I8:I30) -> 14.22 | J31: =SUM(J8:J30) -> 0.9 | K31: =SUM(K8:K30) -> 0.5565 | L31: =SUM(L8:L30) -> 113.8
A33: Ответственный за питание _________________________ С.В.Залевская

Sheet БГП  день 5
A1: =' 3-7 лет (день 5)'!K7 -> 46303
A2: Час изготовления блюда | B2: Время снятия бракеража | C2: Наименование блюда, кулинарного изделия | D2: Результаты органолептической оценки и степени готовности блюда, кулинарного изделия | E2: Разрешение к реализации блюда, кулинарного изделия | F2: Подписи членов бракеражной комиссии | G2: Примечание
A5: Завтрак 7:00-8:30 | B5: 0.36111111 | C5: =' 3-7 лет (день 5)'!B10 -> Каша молочная "Геркулес" | D5: отлично | E5: разрешено
C6: =' 3-7 лет (день 5)'!B11 -> Бутерброд с маслом | D6: отлично | E6: разрешено
C7: =' 3-7 лет (день 5)'!B12 -> Какао с молоком | D7: отлично | E7: разрешено
A8: Второй завтрак 10:00-10:20 | B8: 0.4375 | C8: Банан | D8: отлично | E8: разрешено
A10: Обед 9:00-11:30 | B10: 0.48611111 | C10: =' 3-7 лет (день 5)'!B17 -> Суп картофельный с гренками | D10: отлично | E10: разрешено
C11: =' 3-7 лет (день 5)'!B18 -> Рыба, тушенная в сметанном соусе | D11: отлично | E11: разрешено
C12: =' 3-7 лет (день 5)'!B19 -> Рис отварной | D12: отлично | E12: разрешено
C13: =' 3-7 лет (день 5)'!B20 -> Хлеб пшеничный | D13: отлично | E13: разрешено
C14: =' 3-7 лет (день 5)'!B21 -> Хлеб ржано-пшеничный | D14: отлично | E14: разрешено
C15: =' 3-7 лет (день 5)'!B22 -> Компот из чернослива | D15: отлично | E15: разрешено
A17: Полдник 13:00-15:00 | B17: 0.63888889 | C17: =' 3-7 лет (день 5)'!B25 -> Чай с лимоном | D17: отлично | E17: разрешено
C18: Крендель сахарный | D18: отлично | E18: разрешено
C19: Яблоко | D19: отлично | E19: разрешено
A20: Ужин 15:00-16:30 | B20: 0.69444444 | C20: =' 3-7 лет (день 5)'!B30 -> Рагу из овощей | D20: отлично | E20: разрешено
C21: =' 3-7 лет (день 5)'!B31 -> Хлеб пшеничный | D21: отлично | E21: разрешено
C22: =' 3-7 лет (день 5)'!B32 -> Чай с сахаром | D22: отлично | E22: разрешено
